BEGIN:VCALENDAR
VERSION:2.0
PRODID:-//TV 1881 Altdorf e.V. - ECPv6.15.20//NONSGML v1.0//EN
CALSCALE:GREGORIAN
METHOD:PUBLISH
X-WR-CALNAME:TV 1881 Altdorf e.V.
X-ORIGINAL-URL:https://tv1881altdorf.de
X-WR-CALDESC:Veranstaltungen für TV 1881 Altdorf e.V.
REFRESH-INTERVAL;VALUE=DURATION:PT1H
X-Robots-Tag:noindex
X-PUBLISHED-TTL:PT1H
BEGIN:VTIMEZONE
TZID:Europe/Berlin
BEGIN:DAYLIGHT
TZOFFSETFROM:+0100
TZOFFSETTO:+0200
TZNAME:CEST
DTSTART:20240331T010000
END:DAYLIGHT
BEGIN:STANDARD
TZOFFSETFROM:+0200
TZOFFSETTO:+0100
TZNAME:CET
DTSTART:20241027T010000
END:STANDARD
BEGIN:DAYLIGHT
TZOFFSETFROM:+0100
TZOFFSETTO:+0200
TZNAME:CEST
DTSTART:20250330T010000
END:DAYLIGHT
BEGIN:STANDARD
TZOFFSETFROM:+0200
TZOFFSETTO:+0100
TZNAME:CET
DTSTART:20251026T010000
END:STANDARD
BEGIN:DAYLIGHT
TZOFFSETFROM:+0100
TZOFFSETTO:+0200
TZNAME:CEST
DTSTART:20260329T010000
END:DAYLIGHT
BEGIN:STANDARD
TZOFFSETFROM:+0200
TZOFFSETTO:+0100
TZNAME:CET
DTSTART:20261025T010000
END:STANDARD
END:VTIMEZONE
BEGIN:VEVENT
DTSTART;VALUE=DATE:20251026
DTEND;VALUE=DATE:20251027
DTSTAMP:20260423T033945
CREATED:20250119T162009Z
LAST-MODIFIED:20250119T162009Z
UID:19585-1761436800-1761523199@tv1881altdorf.de
SUMMARY:Sport Scheck Stadtlauf
DESCRIPTION:
URL:https://tv1881altdorf.de/event/sport-scheck-stadtlauf
END:VEVENT
BEGIN:VEVENT
DTSTART;TZID=Europe/Berlin:20251026T100000
DTEND;TZID=Europe/Berlin:20251026T123000
DTSTAMP:20260423T033946
CREATED:20250818T093916Z
LAST-MODIFIED:20251022T001250Z
UID:23757-1761472800-1761481800@tv1881altdorf.de
SUMMARY:Schüler Coach Pitch Nord (U10) – Altdorf Little Icesharks vs. Regensburg Legionäre 2 – Homegame in Altdorf
DESCRIPTION:Play Ball – im Sportpark! \nAm Son­ntag\, den 26. Okto­ber ab 10.00 Uhr emp­fan­gen die Alt­dorf Lit­tle Ice­sharks die Regens­burg Legionäre 2 zu einem Dou­ble Head­er – also 2 Spiele hin­tere­inan­der. In der Schüler Coach Pitch Liga wer­den 5 Innings gespielt oder mit max­i­malem Zeitlim­it von 1 Stunde. Eine Tabelle wird bei den Kids nicht geführt. Spaß für alle garantiert – auf und neben dem Platz. \nSpielplan 2025 \nMehr Infos
URL:https://tv1881altdorf.de/event/jugend-baseball-altdorf-icesharks-vs-freising-grizzlies-homegame-duplikat-duplikat-duplikat-duplikat-duplikat
LOCATION:Sportpark Altdorf
CATEGORIES:Baseball,Schüler Coach Pitch Nord (U10)
ATTACH;FMTTYPE=image/jpeg:https://tv1881altdorf.de/wp-content/uploads/2025/08/icesharks_website_slider_08_Little-Sharks_12.jpg
END:VEVENT
BEGIN:VEVENT
DTSTART;TZID=Europe/Berlin:20251026T133000
DTEND;TZID=Europe/Berlin:20251026T153000
DTSTAMP:20260423T033946
CREATED:20250915T112854Z
LAST-MODIFIED:20250915T113954Z
UID:24525-1761485400-1761492600@tv1881altdorf.de
SUMMARY:TV 1879 Hilpoltstein-TV 1881 Altdorf U16
DESCRIPTION:
URL:https://tv1881altdorf.de/event/busy
LOCATION:Patersholzer Weg 21\, 91161\, Hilpoltstein
CATEGORIES:Basketball,BB - U16m Kreisliga Süd
END:VEVENT
END:VCALENDAR