BEGIN:VCALENDAR
VERSION:2.0
PRODID:-//TV 1881 Altdorf e.V. - ECPv6.15.20//NONSGML v1.0//EN
CALSCALE:GREGORIAN
METHOD:PUBLISH
X-WR-CALNAME:TV 1881 Altdorf e.V.
X-ORIGINAL-URL:https://tv1881altdorf.de
X-WR-CALDESC:Veranstaltungen für TV 1881 Altdorf e.V.
REFRESH-INTERVAL;VALUE=DURATION:PT1H
X-Robots-Tag:noindex
X-PUBLISHED-TTL:PT1H
BEGIN:VTIMEZONE
TZID:Europe/Berlin
BEGIN:DAYLIGHT
TZOFFSETFROM:+0100
TZOFFSETTO:+0200
TZNAME:CEST
DTSTART:20240331T010000
END:DAYLIGHT
BEGIN:STANDARD
TZOFFSETFROM:+0200
TZOFFSETTO:+0100
TZNAME:CET
DTSTART:20241027T010000
END:STANDARD
BEGIN:DAYLIGHT
TZOFFSETFROM:+0100
TZOFFSETTO:+0200
TZNAME:CEST
DTSTART:20250330T010000
END:DAYLIGHT
BEGIN:STANDARD
TZOFFSETFROM:+0200
TZOFFSETTO:+0100
TZNAME:CET
DTSTART:20251026T010000
END:STANDARD
BEGIN:DAYLIGHT
TZOFFSETFROM:+0100
TZOFFSETTO:+0200
TZNAME:CEST
DTSTART:20260329T010000
END:DAYLIGHT
BEGIN:STANDARD
TZOFFSETFROM:+0200
TZOFFSETTO:+0100
TZNAME:CET
DTSTART:20261025T010000
END:STANDARD
END:VTIMEZONE
BEGIN:VEVENT
DTSTART;TZID=Europe/Berlin:20251101T120000
DTEND;TZID=Europe/Berlin:20251101T140000
DTSTAMP:20260423T015935
CREATED:20250915T113706Z
LAST-MODIFIED:20250915T114053Z
UID:24557-1761998400-1762005600@tv1881altdorf.de
SUMMARY:ONLINEPRINTERS Neustadt a.d. Aisch-TV 1881 Altdorf U14r. 0)
DESCRIPTION:
URL:https://tv1881altdorf.de/event/onlineprinters-neustadt-a-d-aisch-tv-1881-altdorf-u14r-0
LOCATION:Comeniusstr. 4c\, 91413\, Neustadt an der Aisch
CATEGORIES:Basketball,BB - U14m Bezirksoberliga
END:VEVENT
BEGIN:VEVENT
DTSTART;TZID=Europe/Berlin:20251101T180000
DTEND;TZID=Europe/Berlin:20251101T200000
DTSTAMP:20260423T015935
CREATED:20250926T115012Z
LAST-MODIFIED:20251031T215012Z
UID:25108-1762020000-1762027200@tv1881altdorf.de
SUMMARY:Volleyball D1 (H) - proWIN Volleys TV Holz
DESCRIPTION:
URL:https://tv1881altdorf.de/event/volleyball-d1-h-prowin-volleys-tv-holz-2
CATEGORIES:Volleyball
END:VEVENT
END:VCALENDAR