BEGIN:VCALENDAR
VERSION:2.0
PRODID:-//TV 1881 Altdorf e.V. - ECPv6.15.20//NONSGML v1.0//EN
CALSCALE:GREGORIAN
METHOD:PUBLISH
X-WR-CALNAME:TV 1881 Altdorf e.V.
X-ORIGINAL-URL:https://tv1881altdorf.de
X-WR-CALDESC:Veranstaltungen für TV 1881 Altdorf e.V.
REFRESH-INTERVAL;VALUE=DURATION:PT1H
X-Robots-Tag:noindex
X-PUBLISHED-TTL:PT1H
BEGIN:VTIMEZONE
TZID:Europe/Berlin
BEGIN:DAYLIGHT
TZOFFSETFROM:+0100
TZOFFSETTO:+0200
TZNAME:CEST
DTSTART:20240331T010000
END:DAYLIGHT
BEGIN:STANDARD
TZOFFSETFROM:+0200
TZOFFSETTO:+0100
TZNAME:CET
DTSTART:20241027T010000
END:STANDARD
BEGIN:DAYLIGHT
TZOFFSETFROM:+0100
TZOFFSETTO:+0200
TZNAME:CEST
DTSTART:20250330T010000
END:DAYLIGHT
BEGIN:STANDARD
TZOFFSETFROM:+0200
TZOFFSETTO:+0100
TZNAME:CET
DTSTART:20251026T010000
END:STANDARD
BEGIN:DAYLIGHT
TZOFFSETFROM:+0100
TZOFFSETTO:+0200
TZNAME:CEST
DTSTART:20260329T010000
END:DAYLIGHT
BEGIN:STANDARD
TZOFFSETFROM:+0200
TZOFFSETTO:+0100
TZNAME:CET
DTSTART:20261025T010000
END:STANDARD
END:VTIMEZONE
BEGIN:VEVENT
DTSTART;TZID=Europe/Berlin:20251129T130000
DTEND;TZID=Europe/Berlin:20251129T143000
DTSTAMP:20260423T020739
CREATED:20251126T194518Z
LAST-MODIFIED:20251128T205010Z
UID:26554-1764421200-1764426600@tv1881altdorf.de
SUMMARY:Männliche A Jugend\nJSG Nürnberger Land - SG Neutraubling-Regensburg\nKlaus-Wolfermann Halle Altdorf
DESCRIPTION:
URL:https://tv1881altdorf.de/event/maennliche-a-jugendjsg-nuernberger-land-sg-neutraubling-regensburgklaus-wolfermann-halle-altdorf
CATEGORIES:Handball
END:VEVENT
BEGIN:VEVENT
DTSTART;TZID=Europe/Berlin:20251129T130000
DTEND;TZID=Europe/Berlin:20251129T150000
DTSTAMP:20260423T020739
CREATED:20250915T115532Z
LAST-MODIFIED:20250915T115745Z
UID:24605-1764421200-1764428400@tv1881altdorf.de
SUMMARY:Nürnberger Basketball Club-TV 1881 Altdorf U12
DESCRIPTION:
URL:https://tv1881altdorf.de/event/nuernberger-basketball-club-tv-1881-altdorf-u12
LOCATION:Sielstraße 17\, 90429\, Nürnberg
CATEGORIES:Basketball,BB - U12 mix Bezirksliga Süd
END:VEVENT
BEGIN:VEVENT
DTSTART;TZID=Europe/Berlin:20251129T130000
DTEND;TZID=Europe/Berlin:20251129T170000
DTSTAMP:20260423T020739
CREATED:20250926T115029Z
LAST-MODIFIED:20251128T155010Z
UID:25146-1764421200-1764435600@tv1881altdorf.de
SUMMARY:Volleyball D3 (H) - VC Katzwang-Schwabach & TB Erlangen
DESCRIPTION:
URL:https://tv1881altdorf.de/event/volleyball-d3-h-vc-katzwang-schwabach-tb-erlangen
CATEGORIES:Volleyball
END:VEVENT
BEGIN:VEVENT
DTSTART;TZID=Europe/Berlin:20251129T143000
DTEND;TZID=Europe/Berlin:20251129T160000
DTSTAMP:20260423T020739
CREATED:20250825T210534Z
LAST-MODIFIED:20251128T205011Z
UID:23939-1764426600-1764432000@tv1881altdorf.de
SUMMARY:Bezirksliga Staffel West HC Sulzb.Rosenb. II vs TV 1881 Altdorf II (24013024)
DESCRIPTION:Bezirk­sli­ga Män­ner Staffel West\nBegeg­nungs-Nr: 24013024\nHeim: HC Sulzb.Rosenb. II\nGast: TV 1881 Alt­dorf II\nHalle: Sulzbach-Rosenb\, Krötensee-Halle (240365)\nAdresse: Diesel­str. 29\, 92237  Sulzbach-Rosenberg
URL:https://tv1881altdorf.de/event/bezirksliga-staffel-west-hc-sulzb-rosenb-ii-vs-tv-1881-altdorf-ii-24013024
LOCATION:Sulzbach-Rosenb\, Krötensee-Halle (240365): Dieselstr. 29\, 92237  Sulzbach-Rosenberg
CATEGORIES:Handball
END:VEVENT
BEGIN:VEVENT
DTSTART;TZID=Europe/Berlin:20251129T153000
DTEND;TZID=Europe/Berlin:20251129T170000
DTSTAMP:20260423T020739
CREATED:20251126T194517Z
LAST-MODIFIED:20251128T205010Z
UID:26553-1764430200-1764435600@tv1881altdorf.de
SUMMARY:Männliche C3 Jugend\nJSG Nürnberger Land - HG Eckental\nKlaus-Wolfermann Halle
DESCRIPTION:
URL:https://tv1881altdorf.de/event/maennliche-c3-jugendjsg-nuernberger-land-hg-eckentalklaus-wolfermann-halle
CATEGORIES:Handball
END:VEVENT
BEGIN:VEVENT
DTSTART;TZID=Europe/Berlin:20251129T180000
DTEND;TZID=Europe/Berlin:20251129T200000
DTSTAMP:20260423T020739
CREATED:20250926T115023Z
LAST-MODIFIED:20251129T132009Z
UID:25135-1764439200-1764446400@tv1881altdorf.de
SUMMARY:Volleyball D2 (A) - SG Donau Volleys Regensburg
DESCRIPTION:
URL:https://tv1881altdorf.de/event/volleyball-d2-a-sg-donau-volleys-regensburg
CATEGORIES:Volleyball
END:VEVENT
BEGIN:VEVENT
DTSTART;TZID=Europe/Berlin:20251129T193000
DTEND;TZID=Europe/Berlin:20251129T210000
DTSTAMP:20260423T020739
CREATED:20250825T210535Z
LAST-MODIFIED:20251128T205013Z
UID:23940-1764444600-1764450000@tv1881altdorf.de
SUMMARY:Bezirksoberliga Nabburg/Schwarzenfeld vs TV 1881 Altdorf (24012052)
DESCRIPTION:Bezirk­soberli­ga Männer\nBegeg­nungs-Nr: 24012052\nHeim: Nabburg/Schwarzenfeld\nGast: TV 1881 Altdorf\nHalle: Schwarzen­feld\, Mehrzweck­halle im Sport­park (240363)\nAdresse: Nab­burg­er Str. 50\, 92521 Schwarzenfeld
URL:https://tv1881altdorf.de/event/bezirksoberliga-nabburg-schwarzenfeld-vs-tv-1881-altdorf-24012052
LOCATION:Schwarzenfeld\, Mehrzweckhalle im Sportpark (240363): Nabburger Str. 50\, 92521 Schwarzenfeld
CATEGORIES:Handball
END:VEVENT
BEGIN:VEVENT
DTSTART;TZID=Europe/Berlin:20251129T193000
DTEND;TZID=Europe/Berlin:20251129T213000
DTSTAMP:20260423T020739
CREATED:20250926T115014Z
LAST-MODIFIED:20251129T145010Z
UID:25116-1764444600-1764451800@tv1881altdorf.de
SUMMARY:Volleyball D1 (A) - AllgäuStrom Volleys Sonthofen
DESCRIPTION:
URL:https://tv1881altdorf.de/event/volleyball-d1-a-allgaeustrom-volleys-sonthofen
CATEGORIES:Volleyball
END:VEVENT
END:VCALENDAR