BEGIN:VCALENDAR
VERSION:2.0
PRODID:-//TV 1881 Altdorf e.V. - ECPv6.15.20//NONSGML v1.0//EN
CALSCALE:GREGORIAN
METHOD:PUBLISH
X-WR-CALNAME:TV 1881 Altdorf e.V.
X-ORIGINAL-URL:https://tv1881altdorf.de
X-WR-CALDESC:Veranstaltungen für TV 1881 Altdorf e.V.
REFRESH-INTERVAL;VALUE=DURATION:PT1H
X-Robots-Tag:noindex
X-PUBLISHED-TTL:PT1H
BEGIN:VTIMEZONE
TZID:Europe/Berlin
BEGIN:DAYLIGHT
TZOFFSETFROM:+0100
TZOFFSETTO:+0200
TZNAME:CEST
DTSTART:20240331T010000
END:DAYLIGHT
BEGIN:STANDARD
TZOFFSETFROM:+0200
TZOFFSETTO:+0100
TZNAME:CET
DTSTART:20241027T010000
END:STANDARD
BEGIN:DAYLIGHT
TZOFFSETFROM:+0100
TZOFFSETTO:+0200
TZNAME:CEST
DTSTART:20250330T010000
END:DAYLIGHT
BEGIN:STANDARD
TZOFFSETFROM:+0200
TZOFFSETTO:+0100
TZNAME:CET
DTSTART:20251026T010000
END:STANDARD
BEGIN:DAYLIGHT
TZOFFSETFROM:+0100
TZOFFSETTO:+0200
TZNAME:CEST
DTSTART:20260329T010000
END:DAYLIGHT
BEGIN:STANDARD
TZOFFSETFROM:+0200
TZOFFSETTO:+0100
TZNAME:CET
DTSTART:20261025T010000
END:STANDARD
END:VTIMEZONE
BEGIN:VEVENT
DTSTART;TZID=Europe/Berlin:20251213T120000
DTEND;TZID=Europe/Berlin:20251213T140000
DTSTAMP:20260423T005013
CREATED:20250915T112856Z
LAST-MODIFIED:20250915T113953Z
UID:24528-1765627200-1765634400@tv1881altdorf.de
SUMMARY:TSV 1860 Weißenburg-TV 1881 Altdorf U16
DESCRIPTION:
URL:https://tv1881altdorf.de/event/busy-4
LOCATION:An der Hagenau\, 91781\, Weißenburg
CATEGORIES:Basketball,BB - U16m Kreisliga Süd
END:VEVENT
BEGIN:VEVENT
DTSTART;TZID=Europe/Berlin:20251213T130000
DTEND;TZID=Europe/Berlin:20251213T170000
DTSTAMP:20260423T005013
CREATED:20250926T115030Z
LAST-MODIFIED:20251212T192010Z
UID:25147-1765630800-1765645200@tv1881altdorf.de
SUMMARY:Volleyball D3 (H) - TS Herzogenaurach & SG Erlangen 3
DESCRIPTION:
URL:https://tv1881altdorf.de/event/volleyball-d3-h-ts-herzogenaurach-sg-erlangen-3
CATEGORIES:Volleyball
END:VEVENT
BEGIN:VEVENT
DTSTART;TZID=Europe/Berlin:20251213T153000
DTEND;TZID=Europe/Berlin:20251213T170000
DTSTAMP:20260423T005013
CREATED:20250825T210540Z
LAST-MODIFIED:20251213T002010Z
UID:23947-1765639800-1765645200@tv1881altdorf.de
SUMMARY:Bezirksoberliga SG Regensburg II vs TV 1881 Altdorf (24012062)
DESCRIPTION:Bezirk­soberli­ga Männer\nBegeg­nungs-Nr: 24012062\nHeim: SG Regens­burg II\nGast: TV 1881 Altdorf\nHalle: Regens­burg\, Ker­schen­stein­er-Halle (240342)\nAdresse: Alfons-Auer-Str. 24\, 93053 Regensburg
URL:https://tv1881altdorf.de/event/bezirksoberliga-sg-regensburg-ii-vs-tv-1881-altdorf-24012062
LOCATION:Regensburg\, Kerschensteiner-Halle (240342): Alfons-Auer-Str. 24\, 93053 Regensburg
CATEGORIES:Handball
END:VEVENT
BEGIN:VEVENT
DTSTART;TZID=Europe/Berlin:20251213T173000
DTEND;TZID=Europe/Berlin:20251213T190000
DTSTAMP:20260423T005013
CREATED:20250825T210541Z
LAST-MODIFIED:20251213T002011Z
UID:23948-1765647000-1765652400@tv1881altdorf.de
SUMMARY:Bezirksoberliga SG Regensburg vs TV 1881 Altdorf (24022052)
DESCRIPTION:Bezirk­soberli­ga Frauen\nBegeg­nungs-Nr: 24022052\nHeim: SG Regensburg\nGast: TV 1881 Altdorf\nHalle: Regens­burg\, Ker­schen­stein­er-Halle (240342)\nAdresse: Alfons-Auer-Str. 24\, 93053 Regensburg
URL:https://tv1881altdorf.de/event/bezirksoberliga-sg-regensburg-vs-tv-1881-altdorf-24022052
LOCATION:Regensburg\, Kerschensteiner-Halle (240342): Alfons-Auer-Str. 24\, 93053 Regensburg
CATEGORIES:Handball
END:VEVENT
BEGIN:VEVENT
DTSTART;TZID=Europe/Berlin:20251213T183000
DTEND;TZID=Europe/Berlin:20251213T203000
DTSTAMP:20260423T005013
CREATED:20250926T115017Z
LAST-MODIFIED:20251213T182010Z
UID:25120-1765650600-1765657800@tv1881altdorf.de
SUMMARY:Volleyball D1 (A) - SSC Freisen
DESCRIPTION:
URL:https://tv1881altdorf.de/event/volleyball-d1-a-ssc-freisen
CATEGORIES:Volleyball
END:VEVENT
END:VCALENDAR