BEGIN:VCALENDAR
VERSION:2.0
PRODID:-//TV 1881 Altdorf e.V. - ECPv6.15.20//NONSGML v1.0//EN
CALSCALE:GREGORIAN
METHOD:PUBLISH
X-ORIGINAL-URL:https://tv1881altdorf.de
X-WR-CALDESC:Veranstaltungen für TV 1881 Altdorf e.V.
REFRESH-INTERVAL;VALUE=DURATION:PT1H
X-Robots-Tag:noindex
X-PUBLISHED-TTL:PT1H
BEGIN:VTIMEZONE
TZID:Europe/Berlin
BEGIN:DAYLIGHT
TZOFFSETFROM:+0100
TZOFFSETTO:+0200
TZNAME:CEST
DTSTART:20240331T010000
END:DAYLIGHT
BEGIN:STANDARD
TZOFFSETFROM:+0200
TZOFFSETTO:+0100
TZNAME:CET
DTSTART:20241027T010000
END:STANDARD
BEGIN:DAYLIGHT
TZOFFSETFROM:+0100
TZOFFSETTO:+0200
TZNAME:CEST
DTSTART:20250330T010000
END:DAYLIGHT
BEGIN:STANDARD
TZOFFSETFROM:+0200
TZOFFSETTO:+0100
TZNAME:CET
DTSTART:20251026T010000
END:STANDARD
BEGIN:DAYLIGHT
TZOFFSETFROM:+0100
TZOFFSETTO:+0200
TZNAME:CEST
DTSTART:20260329T010000
END:DAYLIGHT
BEGIN:STANDARD
TZOFFSETFROM:+0200
TZOFFSETTO:+0100
TZNAME:CET
DTSTART:20261025T010000
END:STANDARD
END:VTIMEZONE
BEGIN:VEVENT
DTSTART;TZID=Europe/Berlin:20251214T121500
DTEND;TZID=Europe/Berlin:20251214T141500
DTSTAMP:20260423T003825
CREATED:20250915T115605Z
LAST-MODIFIED:20250915T115745Z
UID:24607-1765714500-1765721700@tv1881altdorf.de
SUMMARY:TV 1881 Altdorf U12-Post SV Nürnberg 3
DESCRIPTION:
URL:https://tv1881altdorf.de/event/tv-1881-altdorf-u12-post-sv-nuernberg-3
LOCATION:Hagenhausener Str. 5\, 90518\, Altdorf
CATEGORIES:Basketball,BB - U12 mix Bezirksliga Süd
END:VEVENT
BEGIN:VEVENT
DTSTART;TZID=Europe/Berlin:20251214T143000
DTEND;TZID=Europe/Berlin:20251214T163000
DTSTAMP:20260423T003825
CREATED:20250915T113743Z
LAST-MODIFIED:20250915T114052Z
UID:24561-1765722600-1765729800@tv1881altdorf.de
SUMMARY:TV 1881 Altdorf U14-TSV Ansbach
DESCRIPTION:
URL:https://tv1881altdorf.de/event/tv-1881-altdorf-u14-tsv-ansbach
LOCATION:Hagenhausener Str. 5\, 90518\, Altdorf
CATEGORIES:Basketball,BB - U14m Bezirksoberliga
END:VEVENT
BEGIN:VEVENT
DTSTART;TZID=Europe/Berlin:20251214T150000
DTEND;TZID=Europe/Berlin:20251214T170000
DTSTAMP:20260423T003825
CREATED:20250926T115024Z
LAST-MODIFIED:20251213T165010Z
UID:25138-1765724400-1765731600@tv1881altdorf.de
SUMMARY:Volleyball D2 (A) - VG Bamberg
DESCRIPTION:
URL:https://tv1881altdorf.de/event/volleyball-d2-a-vg-bamberg
CATEGORIES:Volleyball
END:VEVENT
BEGIN:VEVENT
DTSTART;TZID=Europe/Berlin:20251214T164500
DTEND;TZID=Europe/Berlin:20251214T184500
DTSTAMP:20260423T003825
CREATED:20250915T105225Z
LAST-MODIFIED:20250915T105500Z
UID:24509-1765730700-1765737900@tv1881altdorf.de
SUMMARY:TV 1881 Altdorf U18-VfL Treuchtlingen
DESCRIPTION:
URL:https://tv1881altdorf.de/event/tv-1881-altdorf-u18-vfl-treuchtlingen
CATEGORIES:Basketball,BB - U18 m Kreisliga Süd
END:VEVENT
BEGIN:VEVENT
DTSTART;TZID=Europe/Berlin:20251214T173000
DTEND;TZID=Europe/Berlin:20251214T193000
DTSTAMP:20260423T003825
CREATED:20250915T093653Z
LAST-MODIFIED:20250915T100024Z
UID:24447-1765733400-1765740600@tv1881altdorf.de
SUMMARY:Frankonia Baskets Nürnberg-TV 1881 Altdorf H1
DESCRIPTION:
URL:https://tv1881altdorf.de/event/frankonia-baskets-nuernberg-tv-1881-altdorf-h1
LOCATION:Rothenburger Str. 401\, 90431\, Nürnberg
CATEGORIES:Basketball,BB - Bezirksoberliga Herren
END:VEVENT
END:VCALENDAR