BEGIN:VCALENDAR
VERSION:2.0
PRODID:-//TV 1881 Altdorf e.V. - ECPv6.15.20//NONSGML v1.0//EN
CALSCALE:GREGORIAN
METHOD:PUBLISH
X-ORIGINAL-URL:https://tv1881altdorf.de
X-WR-CALDESC:Veranstaltungen für TV 1881 Altdorf e.V.
REFRESH-INTERVAL;VALUE=DURATION:PT1H
X-Robots-Tag:noindex
X-PUBLISHED-TTL:PT1H
BEGIN:VTIMEZONE
TZID:Europe/Berlin
BEGIN:DAYLIGHT
TZOFFSETFROM:+0100
TZOFFSETTO:+0200
TZNAME:CEST
DTSTART:20250330T010000
END:DAYLIGHT
BEGIN:STANDARD
TZOFFSETFROM:+0200
TZOFFSETTO:+0100
TZNAME:CET
DTSTART:20251026T010000
END:STANDARD
BEGIN:DAYLIGHT
TZOFFSETFROM:+0100
TZOFFSETTO:+0200
TZNAME:CEST
DTSTART:20260329T010000
END:DAYLIGHT
BEGIN:STANDARD
TZOFFSETFROM:+0200
TZOFFSETTO:+0100
TZNAME:CET
DTSTART:20261025T010000
END:STANDARD
BEGIN:DAYLIGHT
TZOFFSETFROM:+0100
TZOFFSETTO:+0200
TZNAME:CEST
DTSTART:20270328T010000
END:DAYLIGHT
BEGIN:STANDARD
TZOFFSETFROM:+0200
TZOFFSETTO:+0100
TZNAME:CET
DTSTART:20271031T010000
END:STANDARD
END:VTIMEZONE
BEGIN:VEVENT
DTSTART;VALUE=DATE:20260111
DTEND;VALUE=DATE:20260112
DTSTAMP:20260422T230900
CREATED:20251123T094838Z
LAST-MODIFIED:20251123T094838Z
UID:26451-1768089600-1768175999@tv1881altdorf.de
SUMMARY:Winterlaufserie Nürnberg - Zweiter Lauf -
DESCRIPTION:Start um 9:00 Uhr bei Gast­stätte Gut­mann Dutzenteich\, \nDis­tanzen: 10 km oder 15 km
URL:https://tv1881altdorf.de/event/winterlaufserie-nuernberg-zweiter-lauf
CATEGORIES:Lauftreff
END:VEVENT
BEGIN:VEVENT
DTSTART;TZID=Europe/Berlin:20260111T121500
DTEND;TZID=Europe/Berlin:20260111T141500
DTSTAMP:20260422T230900
CREATED:20250915T113744Z
LAST-MODIFIED:20250915T114052Z
UID:24562-1768133700-1768140900@tv1881altdorf.de
SUMMARY:TV 1881 Altdorf U14-Nürnberger Basketball Club
DESCRIPTION:
URL:https://tv1881altdorf.de/event/tv-1881-altdorf-u14-nuernberger-basketball-club
LOCATION:Hagenhausener Str. 5\, 90518\, Altdorf
CATEGORIES:Basketball,BB - U14m Bezirksoberliga
END:VEVENT
BEGIN:VEVENT
DTSTART;TZID=Europe/Berlin:20260111T143000
DTEND;TZID=Europe/Berlin:20260111T163000
DTSTAMP:20260422T230900
CREATED:20250915T115607Z
LAST-MODIFIED:20250915T115745Z
UID:24608-1768141800-1768149000@tv1881altdorf.de
SUMMARY:TV 1881 Altdorf U12-Frankonia Baskets Nürnberg 1
DESCRIPTION:
URL:https://tv1881altdorf.de/event/tv-1881-altdorf-u12-frankonia-baskets-nuernberg-1
LOCATION:Hagenhausener Str. 5\, 90518\, Altdorf
CATEGORIES:Basketball,BB - U12 mix Bezirksliga Süd
END:VEVENT
BEGIN:VEVENT
DTSTART;TZID=Europe/Berlin:20260111T164500
DTEND;TZID=Europe/Berlin:20260111T184500
DTSTAMP:20260422T230900
CREATED:20250915T105226Z
LAST-MODIFIED:20250915T105500Z
UID:24510-1768149900-1768157100@tv1881altdorf.de
SUMMARY:TV 1881 Altdorf U18-TV 48 Schwabach
DESCRIPTION:
URL:https://tv1881altdorf.de/event/tv-1881-altdorf-u18-tv-48-schwabach
CATEGORIES:Basketball,BB - U18 m Kreisliga Süd
END:VEVENT
BEGIN:VEVENT
DTSTART;TZID=Europe/Berlin:20260111T170000
DTEND;TZID=Europe/Berlin:20260111T183000
DTSTAMP:20260422T230900
CREATED:20250825T210543Z
LAST-MODIFIED:20260111T053510Z
UID:23952-1768150800-1768156200@tv1881altdorf.de
SUMMARY:Bezirksklasse Staffel West HSG Pyrbaum/Seligenporten III vs TV 1881 Altdorf II (24024030)
DESCRIPTION:Bezirk­sklasse Frauen Staffel West\nBegeg­nungs-Nr: 24024030\nHeim: HSG Pyrbaum/Seligenporten III\nGast: TV 1881 Alt­dorf II\nHalle: Pyr­baum\, Schul­sporthalle (240321)\nAdresse: Schul­str. 10\, 90602 Pyrbaum
URL:https://tv1881altdorf.de/event/bezirksklasse-staffel-west-hsg-pyrbaum-seligenporten-iii-vs-tv-1881-altdorf-ii-24024030
LOCATION:Pyrbaum\, Schulsporthalle (240321): Schulstr. 10\, 90602 Pyrbaum
CATEGORIES:Handball
END:VEVENT
END:VCALENDAR