BEGIN:VCALENDAR
VERSION:2.0
PRODID:-//TV 1881 Altdorf e.V. - ECPv6.15.20//NONSGML v1.0//EN
CALSCALE:GREGORIAN
METHOD:PUBLISH
X-WR-CALNAME:TV 1881 Altdorf e.V.
X-ORIGINAL-URL:https://tv1881altdorf.de
X-WR-CALDESC:Veranstaltungen für TV 1881 Altdorf e.V.
REFRESH-INTERVAL;VALUE=DURATION:PT1H
X-Robots-Tag:noindex
X-PUBLISHED-TTL:PT1H
BEGIN:VTIMEZONE
TZID:Europe/Berlin
BEGIN:DAYLIGHT
TZOFFSETFROM:+0100
TZOFFSETTO:+0200
TZNAME:CEST
DTSTART:20250330T010000
END:DAYLIGHT
BEGIN:STANDARD
TZOFFSETFROM:+0200
TZOFFSETTO:+0100
TZNAME:CET
DTSTART:20251026T010000
END:STANDARD
BEGIN:DAYLIGHT
TZOFFSETFROM:+0100
TZOFFSETTO:+0200
TZNAME:CEST
DTSTART:20260329T010000
END:DAYLIGHT
BEGIN:STANDARD
TZOFFSETFROM:+0200
TZOFFSETTO:+0100
TZNAME:CET
DTSTART:20261025T010000
END:STANDARD
BEGIN:DAYLIGHT
TZOFFSETFROM:+0100
TZOFFSETTO:+0200
TZNAME:CEST
DTSTART:20270328T010000
END:DAYLIGHT
BEGIN:STANDARD
TZOFFSETFROM:+0200
TZOFFSETTO:+0100
TZNAME:CET
DTSTART:20271031T010000
END:STANDARD
END:VTIMEZONE
BEGIN:VEVENT
DTSTART;TZID=Europe/Berlin:20260117T143000
DTEND;TZID=Europe/Berlin:20260117T163000
DTSTAMP:20260422T230759
CREATED:20250926T115039Z
LAST-MODIFIED:20260117T130510Z
UID:25170-1768660200-1768667400@tv1881altdorf.de
SUMMARY:Volleyball D2 (H) - TSV Ansbach 2
DESCRIPTION:
URL:https://tv1881altdorf.de/event/volleyball-d2-h-tsv-ansbach-2
CATEGORIES:Volleyball
END:VEVENT
BEGIN:VEVENT
DTSTART;TZID=Europe/Berlin:20260117T160000
DTEND;TZID=Europe/Berlin:20260117T173000
DTSTAMP:20260422T230759
CREATED:20250825T210544Z
LAST-MODIFIED:20260117T070511Z
UID:23953-1768665600-1768671000@tv1881altdorf.de
SUMMARY:Bezirksoberliga TV 1881 Altdorf vs HG Amberg  (24022062)
DESCRIPTION:Bezirk­soberli­ga Frauen\nBegeg­nungs-Nr: 24022062\nHeim: TV 1881 Altdorf\nGast: HG Amberg\nHalle: Alt­dorf\, Schul­turn­halle Grund­schule (neu) (240000)\nAdresse: Hagen­hausen­er Str. 5\, 90518 Altdorf
URL:https://tv1881altdorf.de/event/bezirksoberliga-tv-1881-altdorf-vs-hg-amberg-24022062
LOCATION:Altdorf\, Schulturnhalle Grundschule (neu) (240000): Hagenhausener Str. 5\, 90518 Altdorf
CATEGORIES:Handball
END:VEVENT
BEGIN:VEVENT
DTSTART;TZID=Europe/Berlin:20260117T180000
DTEND;TZID=Europe/Berlin:20260117T193000
DTSTAMP:20260422T230759
CREATED:20250825T210545Z
LAST-MODIFIED:20260117T070513Z
UID:23954-1768672800-1768678200@tv1881altdorf.de
SUMMARY:Bezirksklasse Staffel West SG DJK Erlangen/Baiersdorf vs TV 1881 Altdorf II (24024032)
DESCRIPTION:Bezirk­sklasse Frauen Staffel West\nBegeg­nungs-Nr: 24024032\nHeim: SG DJK Erlangen/Baiersdorf\nGast: TV 1881 Alt­dorf II\nHalle: Erlan­gen\, Sporthalle am Europakanal (240083)\nAdresse: Schaller­shofer­straße 20\, 91056 Erlangen
URL:https://tv1881altdorf.de/event/bezirksklasse-staffel-west-sg-djk-erlangen-baiersdorf-vs-tv-1881-altdorf-ii-24024032
LOCATION:Erlangen\, Sporthalle am Europakanal (240083): Schallershoferstraße 20\, 91056 Erlangen
CATEGORIES:Handball
END:VEVENT
BEGIN:VEVENT
DTSTART;TZID=Europe/Berlin:20260117T180000
DTEND;TZID=Europe/Berlin:20260117T193000
DTSTAMP:20260422T230759
CREATED:20250825T210545Z
LAST-MODIFIED:20260117T070512Z
UID:23955-1768672800-1768678200@tv1881altdorf.de
SUMMARY:Bezirksoberliga TV 1881 Altdorf vs HG Amberg  (24012073)
DESCRIPTION:Bezirk­soberli­ga Männer\nBegeg­nungs-Nr: 24012073\nHeim: TV 1881 Altdorf\nGast: HG Amberg\nHalle: Alt­dorf\, Schul­turn­halle Grund­schule (neu) (240000)\nAdresse: Hagen­hausen­er Str. 5\, 90518 Altdorf
URL:https://tv1881altdorf.de/event/bezirksoberliga-tv-1881-altdorf-vs-hg-amberg-24012073
LOCATION:Altdorf\, Schulturnhalle Grundschule (neu) (240000): Hagenhausener Str. 5\, 90518 Altdorf
CATEGORIES:Handball
END:VEVENT
END:VCALENDAR