BEGIN:VCALENDAR
VERSION:2.0
PRODID:-//TV 1881 Altdorf e.V. - ECPv6.15.20//NONSGML v1.0//EN
CALSCALE:GREGORIAN
METHOD:PUBLISH
X-ORIGINAL-URL:https://tv1881altdorf.de
X-WR-CALDESC:Veranstaltungen für TV 1881 Altdorf e.V.
REFRESH-INTERVAL;VALUE=DURATION:PT1H
X-Robots-Tag:noindex
X-PUBLISHED-TTL:PT1H
BEGIN:VTIMEZONE
TZID:Europe/Berlin
BEGIN:DAYLIGHT
TZOFFSETFROM:+0100
TZOFFSETTO:+0200
TZNAME:CEST
DTSTART:20250330T010000
END:DAYLIGHT
BEGIN:STANDARD
TZOFFSETFROM:+0200
TZOFFSETTO:+0100
TZNAME:CET
DTSTART:20251026T010000
END:STANDARD
BEGIN:DAYLIGHT
TZOFFSETFROM:+0100
TZOFFSETTO:+0200
TZNAME:CEST
DTSTART:20260329T010000
END:DAYLIGHT
BEGIN:STANDARD
TZOFFSETFROM:+0200
TZOFFSETTO:+0100
TZNAME:CET
DTSTART:20261025T010000
END:STANDARD
BEGIN:DAYLIGHT
TZOFFSETFROM:+0100
TZOFFSETTO:+0200
TZNAME:CEST
DTSTART:20270328T010000
END:DAYLIGHT
BEGIN:STANDARD
TZOFFSETFROM:+0200
TZOFFSETTO:+0100
TZNAME:CET
DTSTART:20271031T010000
END:STANDARD
END:VTIMEZONE
BEGIN:VEVENT
DTSTART;TZID=Europe/Berlin:20260118T100000
DTEND;TZID=Europe/Berlin:20260118T120000
DTSTAMP:20260422T230900
CREATED:20250915T115607Z
LAST-MODIFIED:20250915T115744Z
UID:24609-1768730400-1768737600@tv1881altdorf.de
SUMMARY:TV 1881 Altdorf U12-TV 48 Schwabach 2
DESCRIPTION:
URL:https://tv1881altdorf.de/event/tv-1881-altdorf-u12-tv-48-schwabach-2
LOCATION:Hagenhausener Str. 5\, 90518\, Altdorf
CATEGORIES:Basketball,BB - U12 mix Bezirksliga Süd
END:VEVENT
BEGIN:VEVENT
DTSTART;TZID=Europe/Berlin:20260118T121500
DTEND;TZID=Europe/Berlin:20260118T141500
DTSTAMP:20260422T230900
CREATED:20250915T113745Z
LAST-MODIFIED:20250915T114051Z
UID:24563-1768738500-1768745700@tv1881altdorf.de
SUMMARY:TV 1881 Altdorf U14-ONLINEPRINTERS Neustadt a.d. Aisch
DESCRIPTION:
URL:https://tv1881altdorf.de/event/tv-1881-altdorf-u14-onlineprinters-neustadt-a-d-aisch
LOCATION:Hagenhausener Str. 5\, 90518\, Altdorf
CATEGORIES:Basketball,BB - U14m Bezirksoberliga
END:VEVENT
BEGIN:VEVENT
DTSTART;TZID=Europe/Berlin:20260118T143000
DTEND;TZID=Europe/Berlin:20260118T163000
DTSTAMP:20260422T230900
CREATED:20250915T100150Z
LAST-MODIFIED:20250915T100456Z
UID:24486-1768746600-1768753800@tv1881altdorf.de
SUMMARY:TV 1881 Altdorf H2-Nürnberger Basketball Club 3
DESCRIPTION:
URL:https://tv1881altdorf.de/event/tv-1881-altdorf-h2-nuernberger-basketball-club-3
LOCATION:Hagenhausener Str. 5\, 90518\, Altdorf
CATEGORIES:Basketball,BB - Kreisliga Herren 2
END:VEVENT
BEGIN:VEVENT
DTSTART;TZID=Europe/Berlin:20260118T150000
DTEND;TZID=Europe/Berlin:20260118T170000
DTSTAMP:20260422T230900
CREATED:20250926T115023Z
LAST-MODIFIED:20260118T145010Z
UID:25136-1768748400-1768755600@tv1881altdorf.de
SUMMARY:Volleyball D1 (H) - AllgäuStrom Volleys Sonthofen
DESCRIPTION:
URL:https://tv1881altdorf.de/event/volleyball-d1-h-allgaeustrom-volleys-sonthofen
CATEGORIES:Volleyball
END:VEVENT
BEGIN:VEVENT
DTSTART;TZID=Europe/Berlin:20260118T164500
DTEND;TZID=Europe/Berlin:20260118T184500
DTSTAMP:20260422T230900
CREATED:20250915T093906Z
LAST-MODIFIED:20250915T100024Z
UID:24457-1768754700-1768761900@tv1881altdorf.de
SUMMARY:TV 1881 Altdorf H1-ESV Flügelrad Nürnberg
DESCRIPTION:
URL:https://tv1881altdorf.de/event/tv-1881-altdorf-h1-esv-fluegelrad-nuernberg
LOCATION:Hagenhausener Str. 5\, 90518\, Altdorf
CATEGORIES:Basketball,BB - Bezirksoberliga Herren
END:VEVENT
END:VCALENDAR