BEGIN:VCALENDAR
VERSION:2.0
PRODID:-//TV 1881 Altdorf e.V. - ECPv6.15.20//NONSGML v1.0//EN
CALSCALE:GREGORIAN
METHOD:PUBLISH
X-WR-CALNAME:TV 1881 Altdorf e.V.
X-ORIGINAL-URL:https://tv1881altdorf.de
X-WR-CALDESC:Veranstaltungen für TV 1881 Altdorf e.V.
REFRESH-INTERVAL;VALUE=DURATION:PT1H
X-Robots-Tag:noindex
X-PUBLISHED-TTL:PT1H
BEGIN:VTIMEZONE
TZID:Europe/Berlin
BEGIN:DAYLIGHT
TZOFFSETFROM:+0100
TZOFFSETTO:+0200
TZNAME:CEST
DTSTART:20250330T010000
END:DAYLIGHT
BEGIN:STANDARD
TZOFFSETFROM:+0200
TZOFFSETTO:+0100
TZNAME:CET
DTSTART:20251026T010000
END:STANDARD
BEGIN:DAYLIGHT
TZOFFSETFROM:+0100
TZOFFSETTO:+0200
TZNAME:CEST
DTSTART:20260329T010000
END:DAYLIGHT
BEGIN:STANDARD
TZOFFSETFROM:+0200
TZOFFSETTO:+0100
TZNAME:CET
DTSTART:20261025T010000
END:STANDARD
BEGIN:DAYLIGHT
TZOFFSETFROM:+0100
TZOFFSETTO:+0200
TZNAME:CEST
DTSTART:20270328T010000
END:DAYLIGHT
BEGIN:STANDARD
TZOFFSETFROM:+0200
TZOFFSETTO:+0100
TZNAME:CET
DTSTART:20271031T010000
END:STANDARD
END:VTIMEZONE
BEGIN:VEVENT
DTSTART;VALUE=DATE:20260131
DTEND;VALUE=DATE:20260201
DTSTAMP:20260422T214230
CREATED:20251015T155407Z
LAST-MODIFIED:20251015T160548Z
UID:25683-1769817600-1769903999@tv1881altdorf.de
SUMMARY:Mixed Fun Softballteam – Red Lions Cup in Schwaig
DESCRIPTION:Mehr Infos: \nWeb­site Red Lions Schwaig
URL:https://tv1881altdorf.de/event/eroeffnung-des-mixed-fun-softballteams-des-tva-duplikat
LOCATION:Schwaig
CATEGORIES:Baseball,Mixed Fun Softballteam
ATTACH;FMTTYPE=image/jpeg:https://tv1881altdorf.de/wp-content/uploads/2025/08/softball-2024-11-25-22-02-51-utc-scaled.jpg
END:VEVENT
BEGIN:VEVENT
DTSTART;TZID=Europe/Berlin:20260131T090000
DTEND;TZID=Europe/Berlin:20260131T170000
DTSTAMP:20260422T214230
CREATED:20260123T150328Z
LAST-MODIFIED:20260123T150416Z
UID:27668-1769850000-1769878800@tv1881altdorf.de
SUMMARY:Ju-Jutsu - Nordbayerische Meisterschaft Duo\, Fighting und BJJ
DESCRIPTION:Wir starten mit 3 Duo Paaren U14
URL:https://tv1881altdorf.de/event/ju-jutsu-nordbayerische-meisterschaft-duo-fighting-und-bjj
LOCATION:Nürnberg
CATEGORIES:Judo und Ju-Jutsu
END:VEVENT
BEGIN:VEVENT
DTSTART;TZID=Europe/Berlin:20260131T160000
DTEND;TZID=Europe/Berlin:20260131T173000
DTSTAMP:20260422T214230
CREATED:20250825T210549Z
LAST-MODIFIED:20260131T103518Z
UID:23961-1769875200-1769880600@tv1881altdorf.de
SUMMARY:Bezirksliga Staffel West HC Forchheim II vs TV 1881 Altdorf II (24013039)
DESCRIPTION:Bezirk­sli­ga Män­ner Staffel West\nBegeg­nungs-Nr: 24013039\nHeim: HC Forch­heim II\nGast: TV 1881 Alt­dorf II\nHalle: Forch­heim\, Sporthalle Realschule (240102)\nAdresse: Pestalozzis­traße 2\, 91301 Forchheim
URL:https://tv1881altdorf.de/event/bezirksliga-staffel-west-hc-forchheim-ii-vs-tv-1881-altdorf-ii-24013039
LOCATION:Forchheim\, Sporthalle Realschule (240102): Pestalozzistraße 2\, 91301 Forchheim
CATEGORIES:Handball
END:VEVENT
BEGIN:VEVENT
DTSTART;TZID=Europe/Berlin:20260131T180000
DTEND;TZID=Europe/Berlin:20260131T200000
DTSTAMP:20260422T214230
CREATED:20250926T115025Z
LAST-MODIFIED:20260130T175012Z
UID:25140-1769882400-1769889600@tv1881altdorf.de
SUMMARY:Volleyball D1 (H) - TG Bad Soden
DESCRIPTION:
URL:https://tv1881altdorf.de/event/volleyball-d1-h-tg-bad-soden-2
CATEGORIES:Volleyball
END:VEVENT
BEGIN:VEVENT
DTSTART;TZID=Europe/Berlin:20260131T190000
DTEND;TZID=Europe/Berlin:20260131T203000
DTSTAMP:20260422T214230
CREATED:20250825T210550Z
LAST-MODIFIED:20260131T103519Z
UID:23962-1769886000-1769891400@tv1881altdorf.de
SUMMARY:Bezirksoberliga HC Hersbruck vs TV 1881 Altdorf (24012085)
DESCRIPTION:Bezirk­soberli­ga Männer\nBegeg­nungs-Nr: 24012085\nHeim: HC Hersbruck\nGast: TV 1881 Altdorf\nHalle: Hers­bruck\, Sportzen­trum (240143)\nAdresse: Hap­purg­er Str. 9\, 91217 Hersbruck
URL:https://tv1881altdorf.de/event/bezirksoberliga-hc-hersbruck-vs-tv-1881-altdorf-24012085
LOCATION:Hersbruck\, Sportzentrum (240143): Happurger Str. 9\, 91217 Hersbruck
CATEGORIES:Handball
END:VEVENT
END:VCALENDAR