BEGIN:VCALENDAR
VERSION:2.0
PRODID:-//TV 1881 Altdorf e.V. - ECPv6.15.20//NONSGML v1.0//EN
CALSCALE:GREGORIAN
METHOD:PUBLISH
X-ORIGINAL-URL:https://tv1881altdorf.de
X-WR-CALDESC:Veranstaltungen für TV 1881 Altdorf e.V.
REFRESH-INTERVAL;VALUE=DURATION:PT1H
X-Robots-Tag:noindex
X-PUBLISHED-TTL:PT1H
BEGIN:VTIMEZONE
TZID:Europe/Berlin
BEGIN:DAYLIGHT
TZOFFSETFROM:+0100
TZOFFSETTO:+0200
TZNAME:CEST
DTSTART:20250330T010000
END:DAYLIGHT
BEGIN:STANDARD
TZOFFSETFROM:+0200
TZOFFSETTO:+0100
TZNAME:CET
DTSTART:20251026T010000
END:STANDARD
BEGIN:DAYLIGHT
TZOFFSETFROM:+0100
TZOFFSETTO:+0200
TZNAME:CEST
DTSTART:20260329T010000
END:DAYLIGHT
BEGIN:STANDARD
TZOFFSETFROM:+0200
TZOFFSETTO:+0100
TZNAME:CET
DTSTART:20261025T010000
END:STANDARD
BEGIN:DAYLIGHT
TZOFFSETFROM:+0100
TZOFFSETTO:+0200
TZNAME:CEST
DTSTART:20270328T010000
END:DAYLIGHT
BEGIN:STANDARD
TZOFFSETFROM:+0200
TZOFFSETTO:+0100
TZNAME:CET
DTSTART:20271031T010000
END:STANDARD
END:VTIMEZONE
BEGIN:VEVENT
DTSTART;TZID=Europe/Berlin:20260201T093000
DTEND;TZID=Europe/Berlin:20260201T130000
DTSTAMP:20260422T214359
CREATED:20260124T230244Z
LAST-MODIFIED:20260124T230436Z
UID:27695-1769938200-1769950800@tv1881altdorf.de
SUMMARY:Ju-Jutsu - Kyu Vorbereitung\, 4. Kyu bis 1. Kyu
DESCRIPTION:Gegen- und Weit­er­führung­stech­niken Wurf\, Hebel und Atemi
URL:https://tv1881altdorf.de/event/ju-jutsu-kyu-vorbereitung-4-kyu-bis-1-kyu
LOCATION:Judo und Gymnastikhalle\, TV 1881 Altdorf e.V.\, Heumannstrasse 5a\, Altdorf\, 90518\, Germany
CATEGORIES:Judo und Ju-Jutsu
END:VEVENT
BEGIN:VEVENT
DTSTART;TZID=Europe/Berlin:20260201T100000
DTEND;TZID=Europe/Berlin:20260201T120000
DTSTAMP:20260422T214359
CREATED:20250915T113747Z
LAST-MODIFIED:20250915T114051Z
UID:24564-1769940000-1769947200@tv1881altdorf.de
SUMMARY:TV Fürth 1860-TV 1881 Altdorf U14
DESCRIPTION:
URL:https://tv1881altdorf.de/event/tv-fuerth-1860-tv-1881-altdorf-u14
LOCATION:Dr.-Beeg-Str.\, 90763\, Fürth
CATEGORIES:Basketball,BB - U14m Bezirksoberliga
END:VEVENT
BEGIN:VEVENT
DTSTART;TZID=Europe/Berlin:20260201T100000
DTEND;TZID=Europe/Berlin:20260201T120000
DTSTAMP:20260422T214359
CREATED:20250915T115914Z
LAST-MODIFIED:20250915T120044Z
UID:24638-1769940000-1769947200@tv1881altdorf.de
SUMMARY:TV 48 Schwabach 4-TV 1881 Altdorf U10
DESCRIPTION:
URL:https://tv1881altdorf.de/event/tv-48-schwabach-4-tv-1881-altdorf-u10
LOCATION:Penzendorfer Str. 10\, 91126\, Schwabach
CATEGORIES:Basketball,BB - U10 mix Kreisliga Süd
END:VEVENT
BEGIN:VEVENT
DTSTART;TZID=Europe/Berlin:20260201T130000
DTEND;TZID=Europe/Berlin:20260201T143000
DTSTAMP:20260422T214359
CREATED:20250825T210550Z
LAST-MODIFIED:20260131T103520Z
UID:23963-1769950800-1769956200@tv1881altdorf.de
SUMMARY:Bezirksklasse Staffel West SV Buckenhofen II vs TV 1881 Altdorf II (24024038)
DESCRIPTION:Bezirk­sklasse Frauen Staffel West\nBegeg­nungs-Nr: 24024038\nHeim: SV Buck­en­hofen II\nGast: TV 1881 Alt­dorf II\nHalle: Forch­heim\, Ehren­bürg-Gym­na­si­um (240103)\nAdresse: Ruhalm­straße 10\, 91301 Forchheim
URL:https://tv1881altdorf.de/event/bezirksklasse-staffel-west-sv-buckenhofen-ii-vs-tv-1881-altdorf-ii-24024038
LOCATION:Forchheim\, Ehrenbürg-Gymnasium (240103): Ruhalmstraße 10\, 91301 Forchheim
CATEGORIES:Handball
END:VEVENT
BEGIN:VEVENT
DTSTART;TZID=Europe/Berlin:20260201T150000
DTEND;TZID=Europe/Berlin:20260201T163000
DTSTAMP:20260422T214359
CREATED:20250825T210551Z
LAST-MODIFIED:20260131T103524Z
UID:23965-1769958000-1769963400@tv1881altdorf.de
SUMMARY:Bezirksoberliga SV Buckenhofen vs TV 1881 Altdorf (24022073)
DESCRIPTION:Bezirk­soberli­ga Frauen\nBegeg­nungs-Nr: 24022073\nHeim: SV Buckenhofen\nGast: TV 1881 Altdorf\nHalle: Forch­heim\, Ehren­bÃ¼rg-Gym­na­si­um (240103)\nAdresse: RuhalmstraÃe 10\, 91301 Forchheim
URL:https://tv1881altdorf.de/event/bezirksoberliga-sv-buckenhofen-vs-tv-1881-altdorf-24022073
LOCATION:Forchheim\, EhrenbÃ¼rg-Gymnasium (240103): RuhalmstraÃe 10\, 91301 Forchheim
CATEGORIES:Handball
END:VEVENT
BEGIN:VEVENT
DTSTART;TZID=Europe/Berlin:20260201T150000
DTEND;TZID=Europe/Berlin:20260201T170000
DTSTAMP:20260422T214359
CREATED:20250915T093907Z
LAST-MODIFIED:20250915T100024Z
UID:24459-1769958000-1769965200@tv1881altdorf.de
SUMMARY:TSV 1946 Altenberg-TV 1881 Altdorf H1
DESCRIPTION:
URL:https://tv1881altdorf.de/event/tsv-1946-altenberg-tv-1881-altdorf-h1
LOCATION:Schulstr. 2\, 90522\, Oberasbach
CATEGORIES:Basketball,BB - Bezirksoberliga Herren
END:VEVENT
END:VCALENDAR