BEGIN:VCALENDAR
VERSION:2.0
PRODID:-//TV 1881 Altdorf e.V. - ECPv6.15.20//NONSGML v1.0//EN
CALSCALE:GREGORIAN
METHOD:PUBLISH
X-WR-CALNAME:TV 1881 Altdorf e.V.
X-ORIGINAL-URL:https://tv1881altdorf.de
X-WR-CALDESC:Veranstaltungen für TV 1881 Altdorf e.V.
REFRESH-INTERVAL;VALUE=DURATION:PT1H
X-Robots-Tag:noindex
X-PUBLISHED-TTL:PT1H
BEGIN:VTIMEZONE
TZID:Europe/Berlin
BEGIN:DAYLIGHT
TZOFFSETFROM:+0100
TZOFFSETTO:+0200
TZNAME:CEST
DTSTART:20250330T010000
END:DAYLIGHT
BEGIN:STANDARD
TZOFFSETFROM:+0200
TZOFFSETTO:+0100
TZNAME:CET
DTSTART:20251026T010000
END:STANDARD
BEGIN:DAYLIGHT
TZOFFSETFROM:+0100
TZOFFSETTO:+0200
TZNAME:CEST
DTSTART:20260329T010000
END:DAYLIGHT
BEGIN:STANDARD
TZOFFSETFROM:+0200
TZOFFSETTO:+0100
TZNAME:CET
DTSTART:20261025T010000
END:STANDARD
BEGIN:DAYLIGHT
TZOFFSETFROM:+0100
TZOFFSETTO:+0200
TZNAME:CEST
DTSTART:20270328T010000
END:DAYLIGHT
BEGIN:STANDARD
TZOFFSETFROM:+0200
TZOFFSETTO:+0100
TZNAME:CET
DTSTART:20271031T010000
END:STANDARD
END:VTIMEZONE
BEGIN:VEVENT
DTSTART;TZID=Europe/Berlin:20260207T130000
DTEND;TZID=Europe/Berlin:20260207T170000
DTSTAMP:20260422T214230
CREATED:20250926T115031Z
LAST-MODIFIED:20260202T211659Z
UID:25150-1770469200-1770483600@tv1881altdorf.de
SUMMARY:Volleyball D3 (A) - TV Fürth 1860 2 & SG Erlangen 3
DESCRIPTION:
URL:https://tv1881altdorf.de/event/volleyball-d3-a-tv-fuerth-1860-2-sg-erlangen-3
CATEGORIES:Volleyball
END:VEVENT
BEGIN:VEVENT
DTSTART;TZID=Europe/Berlin:20260207T140000
DTEND;TZID=Europe/Berlin:20260207T160000
DTSTAMP:20260422T214230
CREATED:20250915T113748Z
LAST-MODIFIED:20250915T114051Z
UID:24565-1770472800-1770480000@tv1881altdorf.de
SUMMARY:TSV Ansbach-TV 1881 Altdorf U14
DESCRIPTION:
URL:https://tv1881altdorf.de/event/tsv-ansbach-tv-1881-altdorf-u14
LOCATION:Herbartstr.\, 91522\, Ansbach
CATEGORIES:Basketball,BB - U14m Bezirksoberliga
END:VEVENT
BEGIN:VEVENT
DTSTART;TZID=Europe/Berlin:20260207T190000
DTEND;TZID=Europe/Berlin:20260207T210000
DTSTAMP:20260422T214230
CREATED:20250926T115027Z
LAST-MODIFIED:20260207T191521Z
UID:25142-1770490800-1770498000@tv1881altdorf.de
SUMMARY:Volleyball D1 (A) - proWIN Volleys TV Holz
DESCRIPTION:
URL:https://tv1881altdorf.de/event/volleyball-d1-a-prowin-volleys-tv-holz-2
CATEGORIES:Volleyball
END:VEVENT
END:VCALENDAR