BEGIN:VCALENDAR
VERSION:2.0
PRODID:-//TV 1881 Altdorf e.V. - ECPv6.15.20//NONSGML v1.0//EN
CALSCALE:GREGORIAN
METHOD:PUBLISH
X-ORIGINAL-URL:https://tv1881altdorf.de
X-WR-CALDESC:Veranstaltungen für TV 1881 Altdorf e.V.
REFRESH-INTERVAL;VALUE=DURATION:PT1H
X-Robots-Tag:noindex
X-PUBLISHED-TTL:PT1H
BEGIN:VTIMEZONE
TZID:Europe/Berlin
BEGIN:DAYLIGHT
TZOFFSETFROM:+0100
TZOFFSETTO:+0200
TZNAME:CEST
DTSTART:20250330T010000
END:DAYLIGHT
BEGIN:STANDARD
TZOFFSETFROM:+0200
TZOFFSETTO:+0100
TZNAME:CET
DTSTART:20251026T010000
END:STANDARD
BEGIN:DAYLIGHT
TZOFFSETFROM:+0100
TZOFFSETTO:+0200
TZNAME:CEST
DTSTART:20260329T010000
END:DAYLIGHT
BEGIN:STANDARD
TZOFFSETFROM:+0200
TZOFFSETTO:+0100
TZNAME:CET
DTSTART:20261025T010000
END:STANDARD
BEGIN:DAYLIGHT
TZOFFSETFROM:+0100
TZOFFSETTO:+0200
TZNAME:CEST
DTSTART:20270328T010000
END:DAYLIGHT
BEGIN:STANDARD
TZOFFSETFROM:+0200
TZOFFSETTO:+0100
TZNAME:CET
DTSTART:20271031T010000
END:STANDARD
END:VTIMEZONE
BEGIN:VEVENT
DTSTART;VALUE=DATE:20260208
DTEND;VALUE=DATE:20260209
DTSTAMP:20260422T214345
CREATED:20251123T100044Z
LAST-MODIFIED:20251123T100044Z
UID:26453-1770508800-1770595199@tv1881altdorf.de
SUMMARY:Winterlaufserie Nürnberg — Dritter Lauf -
DESCRIPTION:Start um 8:30 Uhr bei Gast­stätte Gut­mann Dutzenteich\, \nDis­tanzen: 10 km oder 20 km
URL:https://tv1881altdorf.de/event/winterlaufserie-nuernberg-dritter-lauf
CATEGORIES:Lauftreff
END:VEVENT
BEGIN:VEVENT
DTSTART;TZID=Europe/Berlin:20260208T090000
DTEND;TZID=Europe/Berlin:20260208T110000
DTSTAMP:20260422T214345
CREATED:20260124T233218Z
LAST-MODIFIED:20260124T233218Z
UID:27711-1770541200-1770548400@tv1881altdorf.de
SUMMARY:Ju-Jutsu - Kyu-Prüfung zum 5. Kyu
DESCRIPTION:Mel­dung an JJVB über Armin Hausmann
URL:https://tv1881altdorf.de/event/ju-jutsu-kyu-pruefung-zum-5-kyu
LOCATION:Judo und Gymnastikhalle\, TV 1881 Altdorf e.V.\, Heumannstrasse 5a\, Altdorf\, 90518\, Germany
CATEGORIES:Judo und Ju-Jutsu
END:VEVENT
BEGIN:VEVENT
DTSTART;TZID=Europe/Berlin:20260208T100000
DTEND;TZID=Europe/Berlin:20260208T113000
DTSTAMP:20260422T214345
CREATED:20250825T210553Z
LAST-MODIFIED:20260131T103527Z
UID:23966-1770544800-1770550200@tv1881altdorf.de
SUMMARY:Bezirksliga Staffel West TV 1881 Altdorf II vs SG Auerbach/Pegnitz II (24013043)
DESCRIPTION:Bezirk­sli­ga Män­ner Staffel West\nBegeg­nungs-Nr: 24013043\nHeim: TV 1881 Alt­dorf II\nGast: SG Auerbach/Pegnitz II\nHalle: Alt­dorf\, Schul­turn­halle Grund­schule (neu) (240000)\nAdresse: Hagen­hausen­er Str. 5\, 90518 Altdorf
URL:https://tv1881altdorf.de/event/bezirksliga-staffel-west-tv-1881-altdorf-ii-vs-sg-auerbach-pegnitz-ii-24013043
LOCATION:Altdorf\, Schulturnhalle Grundschule (neu) (240000): Hagenhausener Str. 5\, 90518 Altdorf
CATEGORIES:Handball
END:VEVENT
BEGIN:VEVENT
DTSTART;TZID=Europe/Berlin:20260208T100000
DTEND;TZID=Europe/Berlin:20260208T120000
DTSTAMP:20260422T214345
CREATED:20250915T113540Z
LAST-MODIFIED:20250915T113953Z
UID:24546-1770544800-1770552000@tv1881altdorf.de
SUMMARY:TV 1881 Altdorf U16-TV 1879 Hilpoltstein
DESCRIPTION:
URL:https://tv1881altdorf.de/event/tv-1881-altdorf-u16-tv-1879-hilpoltstein
LOCATION:Hagenhausener Str. 5\, 90518\, Altdorf
CATEGORIES:Basketball,BB - U16m Kreisliga Süd
END:VEVENT
BEGIN:VEVENT
DTSTART;TZID=Europe/Berlin:20260208T120000
DTEND;TZID=Europe/Berlin:20260208T133000
DTSTAMP:20260422T214345
CREATED:20250825T210553Z
LAST-MODIFIED:20260131T103528Z
UID:23967-1770552000-1770557400@tv1881altdorf.de
SUMMARY:Bezirksklasse Staffel West TV 1881 Altdorf II vs TSV Winkelhaid (24024043)
DESCRIPTION:Bezirk­sklasse Frauen Staffel West\nBegeg­nungs-Nr: 24024043\nHeim: TV 1881 Alt­dorf II\nGast: TSV Winkelhaid\nHalle: Alt­dorf\, Schul­turn­halle Grund­schule (neu) (240000)\nAdresse: Hagen­hausen­er Str. 5\, 90518 Altdorf
URL:https://tv1881altdorf.de/event/bezirksklasse-staffel-west-tv-1881-altdorf-ii-vs-tsv-winkelhaid-24024043
LOCATION:Altdorf\, Schulturnhalle Grundschule (neu) (240000): Hagenhausener Str. 5\, 90518 Altdorf
CATEGORIES:Handball
END:VEVENT
BEGIN:VEVENT
DTSTART;TZID=Europe/Berlin:20260208T121500
DTEND;TZID=Europe/Berlin:20260208T141500
DTSTAMP:20260422T214345
CREATED:20250915T113823Z
LAST-MODIFIED:20250915T114050Z
UID:24567-1770552900-1770560100@tv1881altdorf.de
SUMMARY:TV 1881 Altdorf U14-Post SV Nürnberg 3
DESCRIPTION:
URL:https://tv1881altdorf.de/event/tv-1881-altdorf-u14-post-sv-nuernberg-3
LOCATION:Hagenhausener Str. 5\, 90518\, Altdorf
CATEGORIES:Basketball,BB - U14m Bezirksoberliga
END:VEVENT
BEGIN:VEVENT
DTSTART;TZID=Europe/Berlin:20260208T140000
DTEND;TZID=Europe/Berlin:20260208T153000
DTSTAMP:20260422T214345
CREATED:20250825T210554Z
LAST-MODIFIED:20260131T103529Z
UID:23968-1770559200-1770564600@tv1881altdorf.de
SUMMARY:Bezirksoberliga TV 1881 Altdorf vs HG Eckental (24012095)
DESCRIPTION:Bezirk­soberli­ga Männer\nBegeg­nungs-Nr: 24012095\nHeim: TV 1881 Altdorf\nGast: HG Eckental\nHalle: Alt­dorf\, Schul­turn­halle Grund­schule (neu) (240000)\nAdresse: Hagen­hausen­er Str. 5\, 90518 Altdorf
URL:https://tv1881altdorf.de/event/bezirksoberliga-tv-1881-altdorf-vs-hg-eckental-24012095
LOCATION:Altdorf\, Schulturnhalle Grundschule (neu) (240000): Hagenhausener Str. 5\, 90518 Altdorf
CATEGORIES:Handball
END:VEVENT
BEGIN:VEVENT
DTSTART;TZID=Europe/Berlin:20260208T143000
DTEND;TZID=Europe/Berlin:20260208T163000
DTSTAMP:20260422T214345
CREATED:20250915T100231Z
LAST-MODIFIED:20250915T100456Z
UID:24489-1770561000-1770568200@tv1881altdorf.de
SUMMARY:TV 1881 Altdorf H2-TSV 1946 Altenberg 2
DESCRIPTION:
URL:https://tv1881altdorf.de/event/tv-1881-altdorf-h2-tsv-1946-altenberg-2
LOCATION:Hagenhausener Str. 5\, 90518\, Altdorf
CATEGORIES:Basketball,BB - Kreisliga Herren 2
END:VEVENT
BEGIN:VEVENT
DTSTART;TZID=Europe/Berlin:20260208T160000
DTEND;TZID=Europe/Berlin:20260208T173000
DTSTAMP:20260422T214345
CREATED:20250825T210555Z
LAST-MODIFIED:20260131T103530Z
UID:23969-1770566400-1770571800@tv1881altdorf.de
SUMMARY:Bezirksoberliga TV 1881 Altdorf vs HSG Pyrbaum/Seligenporten (24022079)
DESCRIPTION:Bezirk­soberli­ga Frauen\nBegeg­nungs-Nr: 24022079\nHeim: TV 1881 Altdorf\nGast: HSG Pyrbaum/Seligenporten\nHalle: Alt­dorf\, Schul­turn­halle Grund­schule (neu) (240000)\nAdresse: Hagen­hausen­er Str. 5\, 90518 Altdorf
URL:https://tv1881altdorf.de/event/bezirksoberliga-tv-1881-altdorf-vs-hsg-pyrbaum-seligenporten-24022079
LOCATION:Altdorf\, Schulturnhalle Grundschule (neu) (240000): Hagenhausener Str. 5\, 90518 Altdorf
CATEGORIES:Handball
END:VEVENT
BEGIN:VEVENT
DTSTART;TZID=Europe/Berlin:20260208T160000
DTEND;TZID=Europe/Berlin:20260208T180000
DTSTAMP:20260422T214345
CREATED:20250926T115040Z
LAST-MODIFIED:20260207T191530Z
UID:25172-1770566400-1770573600@tv1881altdorf.de
SUMMARY:Volleyball D2 (A) - TSV Eintr. Rottenberg
DESCRIPTION:
URL:https://tv1881altdorf.de/event/volleyball-d2-a-tsv-eintr-rottenberg
CATEGORIES:Volleyball
END:VEVENT
BEGIN:VEVENT
DTSTART;TZID=Europe/Berlin:20260208T180000
DTEND;TZID=Europe/Berlin:20260208T200000
DTSTAMP:20260422T214345
CREATED:20250915T093908Z
LAST-MODIFIED:20260202T072516Z
UID:24460-1770573600-1770580800@tv1881altdorf.de
SUMMARY:TV 1881 Altdorf H1-TV 1877 Lauf
DESCRIPTION:
URL:https://tv1881altdorf.de/event/tv-1881-altdorf-h1-tv-1877-lauf
LOCATION:Hagenhausener Str. 5\, 90518\, Altdorf
CATEGORIES:Basketball,BB - Bezirksoberliga Herren
END:VEVENT
END:VCALENDAR