BEGIN:VCALENDAR
VERSION:2.0
PRODID:-//TV 1881 Altdorf e.V. - ECPv6.15.20//NONSGML v1.0//EN
CALSCALE:GREGORIAN
METHOD:PUBLISH
X-ORIGINAL-URL:https://tv1881altdorf.de
X-WR-CALDESC:Veranstaltungen für TV 1881 Altdorf e.V.
REFRESH-INTERVAL;VALUE=DURATION:PT1H
X-Robots-Tag:noindex
X-PUBLISHED-TTL:PT1H
BEGIN:VTIMEZONE
TZID:Europe/Berlin
BEGIN:DAYLIGHT
TZOFFSETFROM:+0100
TZOFFSETTO:+0200
TZNAME:CEST
DTSTART:20250330T010000
END:DAYLIGHT
BEGIN:STANDARD
TZOFFSETFROM:+0200
TZOFFSETTO:+0100
TZNAME:CET
DTSTART:20251026T010000
END:STANDARD
BEGIN:DAYLIGHT
TZOFFSETFROM:+0100
TZOFFSETTO:+0200
TZNAME:CEST
DTSTART:20260329T010000
END:DAYLIGHT
BEGIN:STANDARD
TZOFFSETFROM:+0200
TZOFFSETTO:+0100
TZNAME:CET
DTSTART:20261025T010000
END:STANDARD
BEGIN:DAYLIGHT
TZOFFSETFROM:+0100
TZOFFSETTO:+0200
TZNAME:CEST
DTSTART:20270328T010000
END:DAYLIGHT
BEGIN:STANDARD
TZOFFSETFROM:+0200
TZOFFSETTO:+0100
TZNAME:CET
DTSTART:20271031T010000
END:STANDARD
END:VTIMEZONE
BEGIN:VEVENT
DTSTART;TZID=Europe/Berlin:20260214T123000
DTEND;TZID=Europe/Berlin:20260214T143000
DTSTAMP:20260422T214359
CREATED:20250926T115041Z
LAST-MODIFIED:20260213T225005Z
UID:25173-1771072200-1771079400@tv1881altdorf.de
SUMMARY:Volleyball D2 (H) - TSV Lengfeld
DESCRIPTION:
URL:https://tv1881altdorf.de/event/volleyball-d2-h-tsv-lengfeld
CATEGORIES:Volleyball
END:VEVENT
BEGIN:VEVENT
DTSTART;TZID=Europe/Berlin:20260214T160000
DTEND;TZID=Europe/Berlin:20260214T180000
DTSTAMP:20260422T214359
CREATED:20250926T115029Z
LAST-MODIFIED:20260213T200505Z
UID:25145-1771084800-1771092000@tv1881altdorf.de
SUMMARY:Volleyball D1 (H) - SV Karlsruhe-Beiertheim
DESCRIPTION:
URL:https://tv1881altdorf.de/event/volleyball-d1-h-sv-karlsruhe-beiertheim-2
CATEGORIES:Volleyball
END:VEVENT
END:VCALENDAR