BEGIN:VCALENDAR
VERSION:2.0
PRODID:-//TV 1881 Altdorf e.V. - ECPv6.15.20//NONSGML v1.0//EN
CALSCALE:GREGORIAN
METHOD:PUBLISH
X-ORIGINAL-URL:https://tv1881altdorf.de
X-WR-CALDESC:Veranstaltungen für TV 1881 Altdorf e.V.
REFRESH-INTERVAL;VALUE=DURATION:PT1H
X-Robots-Tag:noindex
X-PUBLISHED-TTL:PT1H
BEGIN:VTIMEZONE
TZID:Europe/Berlin
BEGIN:DAYLIGHT
TZOFFSETFROM:+0100
TZOFFSETTO:+0200
TZNAME:CEST
DTSTART:20250330T010000
END:DAYLIGHT
BEGIN:STANDARD
TZOFFSETFROM:+0200
TZOFFSETTO:+0100
TZNAME:CET
DTSTART:20251026T010000
END:STANDARD
BEGIN:DAYLIGHT
TZOFFSETFROM:+0100
TZOFFSETTO:+0200
TZNAME:CEST
DTSTART:20260329T010000
END:DAYLIGHT
BEGIN:STANDARD
TZOFFSETFROM:+0200
TZOFFSETTO:+0100
TZNAME:CET
DTSTART:20261025T010000
END:STANDARD
BEGIN:DAYLIGHT
TZOFFSETFROM:+0100
TZOFFSETTO:+0200
TZNAME:CEST
DTSTART:20270328T010000
END:DAYLIGHT
BEGIN:STANDARD
TZOFFSETFROM:+0200
TZOFFSETTO:+0100
TZNAME:CET
DTSTART:20271031T010000
END:STANDARD
END:VTIMEZONE
BEGIN:VEVENT
DTSTART;TZID=Europe/Berlin:20260221T160000
DTEND;TZID=Europe/Berlin:20260221T173000
DTSTAMP:20260422T214345
CREATED:20250825T210556Z
LAST-MODIFIED:20260220T233505Z
UID:23970-1771689600-1771695000@tv1881altdorf.de
SUMMARY:Bezirksoberliga HSG SGS Erl/HC Niederl vs TV 1881 Altdorf (24012098)
DESCRIPTION:Bezirk­soberli­ga Männer\nBegeg­nungs-Nr: 24012098\nHeim: HSG SGS Erl/HC Niederl\nGast: TV 1881 Altdorf\nHalle: Erlan­gen\, Sporthalle am Europakanal (240083)\nAdresse: Schaller­shofer­straße 20\, 91056 Erlangen
URL:https://tv1881altdorf.de/event/bezirksoberliga-hsg-sgs-erl-hc-niederl-vs-tv-1881-altdorf-24012098
LOCATION:Erlangen\, Sporthalle am Europakanal (240083): Schallershoferstraße 20\, 91056 Erlangen
CATEGORIES:Handball
END:VEVENT
BEGIN:VEVENT
DTSTART;TZID=Europe/Berlin:20260221T193000
DTEND;TZID=Europe/Berlin:20260221T213000
DTSTAMP:20260422T214345
CREATED:20250926T115042Z
LAST-MODIFIED:20260221T110505Z
UID:25176-1771702200-1771709400@tv1881altdorf.de
SUMMARY:Volleyball D2 (A) - BSV 98 Bayreuth
DESCRIPTION:
URL:https://tv1881altdorf.de/event/volleyball-d2-a-bsv-98-bayreuth
CATEGORIES:Volleyball
END:VEVENT
END:VCALENDAR