BEGIN:VCALENDAR
VERSION:2.0
PRODID:-//TV 1881 Altdorf e.V. - ECPv6.15.20//NONSGML v1.0//EN
CALSCALE:GREGORIAN
METHOD:PUBLISH
X-WR-CALNAME:TV 1881 Altdorf e.V.
X-ORIGINAL-URL:https://tv1881altdorf.de
X-WR-CALDESC:Veranstaltungen für TV 1881 Altdorf e.V.
REFRESH-INTERVAL;VALUE=DURATION:PT1H
X-Robots-Tag:noindex
X-PUBLISHED-TTL:PT1H
BEGIN:VTIMEZONE
TZID:Europe/Berlin
BEGIN:DAYLIGHT
TZOFFSETFROM:+0100
TZOFFSETTO:+0200
TZNAME:CEST
DTSTART:20250330T010000
END:DAYLIGHT
BEGIN:STANDARD
TZOFFSETFROM:+0200
TZOFFSETTO:+0100
TZNAME:CET
DTSTART:20251026T010000
END:STANDARD
BEGIN:DAYLIGHT
TZOFFSETFROM:+0100
TZOFFSETTO:+0200
TZNAME:CEST
DTSTART:20260329T010000
END:DAYLIGHT
BEGIN:STANDARD
TZOFFSETFROM:+0200
TZOFFSETTO:+0100
TZNAME:CET
DTSTART:20261025T010000
END:STANDARD
BEGIN:DAYLIGHT
TZOFFSETFROM:+0100
TZOFFSETTO:+0200
TZNAME:CEST
DTSTART:20270328T010000
END:DAYLIGHT
BEGIN:STANDARD
TZOFFSETFROM:+0200
TZOFFSETTO:+0100
TZNAME:CET
DTSTART:20271031T010000
END:STANDARD
END:VTIMEZONE
BEGIN:VEVENT
DTSTART;TZID=Europe/Berlin:20260228T000000
DTEND;TZID=Europe/Berlin:20260228T020000
DTSTAMP:20260422T201301
CREATED:20250915T100232Z
LAST-MODIFIED:20250915T100456Z
UID:24490-1772236800-1772244000@tv1881altdorf.de
SUMMARY:ESV Flügelrad Baskets Nürnberg 3-TV 1881 Altdorf H2
DESCRIPTION:
URL:https://tv1881altdorf.de/event/esv-fluegelrad-baskets-nuernberg-3-tv-1881-altdorf-h2
LOCATION:Finkenbrunn 145\, 90469\, Nürnberg
CATEGORIES:Basketball,BB - Kreisliga Herren 2
END:VEVENT
BEGIN:VEVENT
DTSTART;TZID=Europe/Berlin:20260228T120000
DTEND;TZID=Europe/Berlin:20260228T140000
DTSTAMP:20260422T201301
CREATED:20250915T113824Z
LAST-MODIFIED:20250915T114050Z
UID:24569-1772280000-1772287200@tv1881altdorf.de
SUMMARY:TS Herzogenaurach-TV 1881 Altdorf U14
DESCRIPTION:
URL:https://tv1881altdorf.de/event/ts-herzogenaurach-tv-1881-altdorf-u14
LOCATION:Burgstaller Weg 20\, 91074\, Herzogenaurach
CATEGORIES:Basketball,BB - U14m Bezirksoberliga
END:VEVENT
BEGIN:VEVENT
DTSTART;TZID=Europe/Berlin:20260228T140000
DTEND;TZID=Europe/Berlin:20260228T153000
DTSTAMP:20260422T201301
CREATED:20250825T210559Z
LAST-MODIFIED:20260228T025505Z
UID:23973-1772287200-1772292600@tv1881altdorf.de
SUMMARY:Bezirksoberliga TV 1881 Altdorf vs Mintraching/Neutraubling II (24022086)
DESCRIPTION:Bezirk­soberli­ga Frauen\nBegeg­nungs-Nr: 24022086\nHeim: TV 1881 Altdorf\nGast: Mintraching/Neutraubling II\nHalle: Alt­dorf\, Schul­turn­halle Grund­schule (neu) (240000)\nAdresse: Hagen­hausen­er Str. 5\, 90518 Altdorf
URL:https://tv1881altdorf.de/event/bezirksoberliga-tv-1881-altdorf-vs-mintraching-neutraubling-ii-24022086
LOCATION:Altdorf\, Schulturnhalle Grundschule (neu) (240000): Hagenhausener Str. 5\, 90518 Altdorf
CATEGORIES:Handball
END:VEVENT
BEGIN:VEVENT
DTSTART;TZID=Europe/Berlin:20260228T160000
DTEND;TZID=Europe/Berlin:20260228T173000
DTSTAMP:20260422T201301
CREATED:20250825T210600Z
LAST-MODIFIED:20260228T025505Z
UID:23974-1772294400-1772299800@tv1881altdorf.de
SUMMARY:Bezirksoberliga TV 1881 Altdorf vs TS Herzogenaurach (24012104)
DESCRIPTION:Bezirk­soberli­ga Männer\nBegeg­nungs-Nr: 24012104\nHeim: TV 1881 Altdorf\nGast: TS Herzogenaurach\nHalle: Alt­dorf\, Schul­turn­halle Grund­schule (neu) (240000)\nAdresse: Hagen­hausen­er Str. 5\, 90518 Altdorf
URL:https://tv1881altdorf.de/event/bezirksoberliga-tv-1881-altdorf-vs-ts-herzogenaurach-24012104
LOCATION:Altdorf\, Schulturnhalle Grundschule (neu) (240000): Hagenhausener Str. 5\, 90518 Altdorf
CATEGORIES:Handball
END:VEVENT
BEGIN:VEVENT
DTSTART;TZID=Europe/Berlin:20260228T180000
DTEND;TZID=Europe/Berlin:20260228T193000
DTSTAMP:20260422T201301
CREATED:20250825T210601Z
LAST-MODIFIED:20260228T025505Z
UID:23975-1772301600-1772307000@tv1881altdorf.de
SUMMARY:Bezirksliga Staffel West TV 1881 Altdorf II vs TSV Winkelhaid (24013049)
DESCRIPTION:Bezirk­sli­ga Män­ner Staffel West\nBegeg­nungs-Nr: 24013049\nHeim: TV 1881 Alt­dorf II\nGast: TSV Winkelhaid\nHalle: Alt­dorf\, Schul­turn­halle Grund­schule (neu) (240000)\nAdresse: Hagen­hausen­er Str. 5\, 90518 Altdorf
URL:https://tv1881altdorf.de/event/bezirksliga-staffel-west-tv-1881-altdorf-ii-vs-tsv-winkelhaid-24013049
LOCATION:Altdorf\, Schulturnhalle Grundschule (neu) (240000): Hagenhausener Str. 5\, 90518 Altdorf
CATEGORIES:Handball
END:VEVENT
END:VCALENDAR