BEGIN:VCALENDAR
VERSION:2.0
PRODID:-//TV 1881 Altdorf e.V. - ECPv6.15.20//NONSGML v1.0//EN
CALSCALE:GREGORIAN
METHOD:PUBLISH
X-ORIGINAL-URL:https://tv1881altdorf.de
X-WR-CALDESC:Veranstaltungen für TV 1881 Altdorf e.V.
REFRESH-INTERVAL;VALUE=DURATION:PT1H
X-Robots-Tag:noindex
X-PUBLISHED-TTL:PT1H
BEGIN:VTIMEZONE
TZID:Europe/Berlin
BEGIN:DAYLIGHT
TZOFFSETFROM:+0100
TZOFFSETTO:+0200
TZNAME:CEST
DTSTART:20250330T010000
END:DAYLIGHT
BEGIN:STANDARD
TZOFFSETFROM:+0200
TZOFFSETTO:+0100
TZNAME:CET
DTSTART:20251026T010000
END:STANDARD
BEGIN:DAYLIGHT
TZOFFSETFROM:+0100
TZOFFSETTO:+0200
TZNAME:CEST
DTSTART:20260329T010000
END:DAYLIGHT
BEGIN:STANDARD
TZOFFSETFROM:+0200
TZOFFSETTO:+0100
TZNAME:CET
DTSTART:20261025T010000
END:STANDARD
BEGIN:DAYLIGHT
TZOFFSETFROM:+0100
TZOFFSETTO:+0200
TZNAME:CEST
DTSTART:20270328T010000
END:DAYLIGHT
BEGIN:STANDARD
TZOFFSETFROM:+0200
TZOFFSETTO:+0100
TZNAME:CET
DTSTART:20271031T010000
END:STANDARD
END:VTIMEZONE
BEGIN:VEVENT
DTSTART;TZID=Europe/Berlin:20260301T120000
DTEND;TZID=Europe/Berlin:20260301T140000
DTSTAMP:20260422T201430
CREATED:20250915T115915Z
LAST-MODIFIED:20250915T120044Z
UID:24639-1772366400-1772373600@tv1881altdorf.de
SUMMARY:TSV Ansbach-TV 1881 Altdorf U10
DESCRIPTION:
URL:https://tv1881altdorf.de/event/tsv-ansbach-tv-1881-altdorf-u10
LOCATION:Herbartstr.\, 91522\, Ansbach
CATEGORIES:Basketball,BB - U10 mix Kreisliga Süd
END:VEVENT
BEGIN:VEVENT
DTSTART;TZID=Europe/Berlin:20260301T143000
DTEND;TZID=Europe/Berlin:20260301T163000
DTSTAMP:20260422T201430
CREATED:20250915T113541Z
LAST-MODIFIED:20250915T113952Z
UID:24547-1772375400-1772382600@tv1881altdorf.de
SUMMARY:TSV Ansbach 2-TV 1881 Altdorf U16
DESCRIPTION:
URL:https://tv1881altdorf.de/event/tsv-ansbach-2-tv-1881-altdorf-u16
LOCATION:Herbartstr.\, 91522\, Ansbach
CATEGORIES:Basketball,BB - U16m Kreisliga Süd
END:VEVENT
BEGIN:VEVENT
DTSTART;TZID=Europe/Berlin:20260301T160000
DTEND;TZID=Europe/Berlin:20260301T180000
DTSTAMP:20260422T201430
CREATED:20250926T115032Z
LAST-MODIFIED:20260301T104004Z
UID:25153-1772380800-1772388000@tv1881altdorf.de
SUMMARY:Volleyball D1 (A) - TSV Unterhaching
DESCRIPTION:
URL:https://tv1881altdorf.de/event/volleyball-d1-a-tsv-unterhaching-2
CATEGORIES:Volleyball
END:VEVENT
BEGIN:VEVENT
DTSTART;TZID=Europe/Berlin:20260301T160000
DTEND;TZID=Europe/Berlin:20260301T180000
DTSTAMP:20260422T201430
CREATED:20250926T115035Z
LAST-MODIFIED:20250926T115035Z
UID:25163-1772380800-1772388000@tv1881altdorf.de
SUMMARY:Volleyball D1 (A) - TSV Unterhaching
DESCRIPTION:
URL:https://tv1881altdorf.de/event/volleyball-d1-a-tsv-unterhaching-3
CATEGORIES:Volleyball
END:VEVENT
BEGIN:VEVENT
DTSTART;TZID=Europe/Berlin:20260301T170000
DTEND;TZID=Europe/Berlin:20260301T190000
DTSTAMP:20260422T201430
CREATED:20250915T093909Z
LAST-MODIFIED:20250915T100023Z
UID:24461-1772384400-1772391600@tv1881altdorf.de
SUMMARY:TS Herzogenaurach 2-TV 1881 Altdorf H1
DESCRIPTION:
URL:https://tv1881altdorf.de/event/ts-herzogenaurach-2-tv-1881-altdorf-h1
LOCATION:Burgstaller Weg 16\, 91074\, Herzogenaurach
CATEGORIES:Basketball,BB - Bezirksoberliga Herren
END:VEVENT
END:VCALENDAR