BEGIN:VCALENDAR
VERSION:2.0
PRODID:-//TV 1881 Altdorf e.V. - ECPv6.15.20//NONSGML v1.0//EN
CALSCALE:GREGORIAN
METHOD:PUBLISH
X-ORIGINAL-URL:https://tv1881altdorf.de
X-WR-CALDESC:Veranstaltungen für TV 1881 Altdorf e.V.
REFRESH-INTERVAL;VALUE=DURATION:PT1H
X-Robots-Tag:noindex
X-PUBLISHED-TTL:PT1H
BEGIN:VTIMEZONE
TZID:Europe/Berlin
BEGIN:DAYLIGHT
TZOFFSETFROM:+0100
TZOFFSETTO:+0200
TZNAME:CEST
DTSTART:20250330T010000
END:DAYLIGHT
BEGIN:STANDARD
TZOFFSETFROM:+0200
TZOFFSETTO:+0100
TZNAME:CET
DTSTART:20251026T010000
END:STANDARD
BEGIN:DAYLIGHT
TZOFFSETFROM:+0100
TZOFFSETTO:+0200
TZNAME:CEST
DTSTART:20260329T010000
END:DAYLIGHT
BEGIN:STANDARD
TZOFFSETFROM:+0200
TZOFFSETTO:+0100
TZNAME:CET
DTSTART:20261025T010000
END:STANDARD
BEGIN:DAYLIGHT
TZOFFSETFROM:+0100
TZOFFSETTO:+0200
TZNAME:CEST
DTSTART:20270328T010000
END:DAYLIGHT
BEGIN:STANDARD
TZOFFSETFROM:+0200
TZOFFSETTO:+0100
TZNAME:CET
DTSTART:20271031T010000
END:STANDARD
END:VTIMEZONE
BEGIN:VEVENT
DTSTART;TZID=Europe/Berlin:20260307T100000
DTEND;TZID=Europe/Berlin:20260307T140000
DTSTAMP:20260422T201429
CREATED:20260211T203012Z
LAST-MODIFIED:20260307T050505Z
UID:27968-1772877600-1772892000@tv1881altdorf.de
SUMMARY:Turnier Sportpiraten
DESCRIPTION:
URL:https://tv1881altdorf.de/event/turnier-sportpiraten
LOCATION:Klaus-Wolfermann-Halle Dreifachturnhalle Altdorf\, Hagenhausener Str.\, 90518 Altdorf bei Nürnberg\, Deutschland
CATEGORIES:Handball
END:VEVENT
BEGIN:VEVENT
DTSTART;TZID=Europe/Berlin:20260307T100000
DTEND;TZID=Europe/Berlin:20260307T180000
DTSTAMP:20260422T201430
CREATED:20260304T102540Z
LAST-MODIFIED:20260307T110505Z
UID:28441-1772877600-1772906400@tv1881altdorf.de
SUMMARY:Volleyball U12 - Nordbayrische Meisterschaft
DESCRIPTION:
URL:https://tv1881altdorf.de/event/volleyball-u12-nordbayrische-meisterschaft
LOCATION:Regenstauf\, 93 Regenstauf\, Deutschland
CATEGORIES:Volleyball
END:VEVENT
BEGIN:VEVENT
DTSTART;TZID=Europe/Berlin:20260307T100000
DTEND;TZID=Europe/Berlin:20260307T180000
DTSTAMP:20260422T201430
CREATED:20260304T102541Z
LAST-MODIFIED:20260307T110505Z
UID:28443-1772877600-1772906400@tv1881altdorf.de
SUMMARY:Volleyball U18 - Nordbayrische Meisterschaft
DESCRIPTION:
URL:https://tv1881altdorf.de/event/volleyball-u18-nordbayrische-meisterschaft
LOCATION:Karbach\, 97842 Karbach\, Deutschland
CATEGORIES:Volleyball
END:VEVENT
BEGIN:VEVENT
DTSTART;TZID=Europe/Berlin:20260307T140000
DTEND;TZID=Europe/Berlin:20260307T170000
DTSTAMP:20260422T201430
CREATED:20260211T203025Z
LAST-MODIFIED:20260307T050506Z
UID:27969-1772892000-1772902800@tv1881altdorf.de
SUMMARY:Turnier männliche E-Jugend
DESCRIPTION:
URL:https://tv1881altdorf.de/event/turnier-maennliche-e-jugend
LOCATION:Klaus-Wolfermann-Halle Dreifachturnhalle Altdorf\, Hagenhausener Str.\, 90518 Altdorf bei Nürnberg\, Deutschland
CATEGORIES:Handball
END:VEVENT
BEGIN:VEVENT
DTSTART;TZID=Europe/Berlin:20260307T153000
DTEND;TZID=Europe/Berlin:20260307T170000
DTSTAMP:20260422T201430
CREATED:20250825T210602Z
LAST-MODIFIED:20260307T050506Z
UID:23977-1772897400-1772902800@tv1881altdorf.de
SUMMARY:Bezirksoberliga TV 1861 Erlangen-Bruck vs TV 1881 Altdorf (24022091)
DESCRIPTION:Bezirk­soberli­ga Frauen\nBegeg­nungs-Nr: 24022091\nHeim: TV 1861 Erlangen-Bruck\nGast: TV 1881 Altdorf\nHalle: Erlan­gen\, Karl-Heinz-Hierse­mann Halle (240082)\nAdresse: SchillerstraÃe 56\, 91054 Erlangen
URL:https://tv1881altdorf.de/event/bezirksoberliga-tv-1861-erlangen-bruck-vs-tv-1881-altdorf-24022091
LOCATION:Erlangen\, Karl-Heinz-Hiersemann Halle (240082): SchillerstraÃe 56\, 91054 Erlangen
CATEGORIES:Handball
END:VEVENT
BEGIN:VEVENT
DTSTART;TZID=Europe/Berlin:20260307T163000
DTEND;TZID=Europe/Berlin:20260307T180000
DTSTAMP:20260422T201430
CREATED:20250825T210602Z
LAST-MODIFIED:20260307T050506Z
UID:23976-1772901000-1772906400@tv1881altdorf.de
SUMMARY:Bezirksliga Staffel West HC Hersbruck II vs TV 1881 Altdorf II (24013051)
DESCRIPTION:Bezirk­sli­ga Män­ner Staffel West\nBegeg­nungs-Nr: 24013051\nHeim: HC Hers­bruck II\nGast: TV 1881 Alt­dorf II\nHalle: Hers­bruck\, Sportzen­trum (240143)\nAdresse: Hap­purg­er Str. 9\, 91217 Hersbruck
URL:https://tv1881altdorf.de/event/bezirksliga-staffel-west-hc-hersbruck-ii-vs-tv-1881-altdorf-ii-24013051
LOCATION:Hersbruck\, Sportzentrum (240143): Happurger Str. 9\, 91217 Hersbruck
CATEGORIES:Handball
END:VEVENT
BEGIN:VEVENT
DTSTART;TZID=Europe/Berlin:20260307T200000
DTEND;TZID=Europe/Berlin:20260307T213000
DTSTAMP:20260422T201430
CREATED:20250825T210603Z
LAST-MODIFIED:20260307T050506Z
UID:23979-1772913600-1772919000@tv1881altdorf.de
SUMMARY:Bezirksoberliga TV 1861 Erlangen-Bruck II vs TV 1881 Altdorf (24012114)
DESCRIPTION:Bezirk­soberli­ga Männer\nBegeg­nungs-Nr: 24012114\nHeim: TV 1861 Erlan­gen-Bruck II\nGast: TV 1881 Altdorf\nHalle: Erlan­gen\, Karl-Heinz-Hierse­mann Halle (240082)\nAdresse: Schiller­straße 56\, 91054 Erlangen
URL:https://tv1881altdorf.de/event/bezirksoberliga-tv-1861-erlangen-bruck-ii-vs-tv-1881-altdorf-24012114
LOCATION:Erlangen\, Karl-Heinz-Hiersemann Halle (240082): Schillerstraße 56\, 91054 Erlangen
CATEGORIES:Handball
END:VEVENT
END:VCALENDAR