BEGIN:VCALENDAR
VERSION:2.0
PRODID:-//TV 1881 Altdorf e.V. - ECPv6.15.20//NONSGML v1.0//EN
CALSCALE:GREGORIAN
METHOD:PUBLISH
X-WR-CALNAME:TV 1881 Altdorf e.V.
X-ORIGINAL-URL:https://tv1881altdorf.de
X-WR-CALDESC:Veranstaltungen für TV 1881 Altdorf e.V.
REFRESH-INTERVAL;VALUE=DURATION:PT1H
X-Robots-Tag:noindex
X-PUBLISHED-TTL:PT1H
BEGIN:VTIMEZONE
TZID:Europe/Berlin
BEGIN:DAYLIGHT
TZOFFSETFROM:+0100
TZOFFSETTO:+0200
TZNAME:CEST
DTSTART:20250330T010000
END:DAYLIGHT
BEGIN:STANDARD
TZOFFSETFROM:+0200
TZOFFSETTO:+0100
TZNAME:CET
DTSTART:20251026T010000
END:STANDARD
BEGIN:DAYLIGHT
TZOFFSETFROM:+0100
TZOFFSETTO:+0200
TZNAME:CEST
DTSTART:20260329T010000
END:DAYLIGHT
BEGIN:STANDARD
TZOFFSETFROM:+0200
TZOFFSETTO:+0100
TZNAME:CET
DTSTART:20261025T010000
END:STANDARD
BEGIN:DAYLIGHT
TZOFFSETFROM:+0100
TZOFFSETTO:+0200
TZNAME:CEST
DTSTART:20270328T010000
END:DAYLIGHT
BEGIN:STANDARD
TZOFFSETFROM:+0200
TZOFFSETTO:+0100
TZNAME:CET
DTSTART:20271031T010000
END:STANDARD
END:VTIMEZONE
BEGIN:VEVENT
DTSTART;TZID=Europe/Berlin:20260308T100000
DTEND;TZID=Europe/Berlin:20260308T120000
DTSTAMP:20260422T201300
CREATED:20250915T115916Z
LAST-MODIFIED:20250915T120044Z
UID:24640-1772964000-1772971200@tv1881altdorf.de
SUMMARY:TV 1881 Altdorf U10-Frankonia Baskets Nürnberg 2
DESCRIPTION:
URL:https://tv1881altdorf.de/event/tv-1881-altdorf-u10-frankonia-baskets-nuernberg-2
LOCATION:Hagenhausener Str. 5\, 90518\, Altdorf
CATEGORIES:Basketball,BB - U10 mix Kreisliga Süd
END:VEVENT
BEGIN:VEVENT
DTSTART;TZID=Europe/Berlin:20260308T100000
DTEND;TZID=Europe/Berlin:20260308T180000
DTSTAMP:20260422T201300
CREATED:20260304T102541Z
LAST-MODIFIED:20260308T112005Z
UID:28447-1772964000-1772992800@tv1881altdorf.de
SUMMARY:Volleyball U18 - Nordbayrische Meisterschaft
DESCRIPTION:
URL:https://tv1881altdorf.de/event/volleyball-u18-nordbayrische-meisterschaft-2
LOCATION:Karbach\, 97842 Karbach\, Deutschland
CATEGORIES:Volleyball
END:VEVENT
BEGIN:VEVENT
DTSTART;TZID=Europe/Berlin:20260308T100000
DTEND;TZID=Europe/Berlin:20260308T180000
DTSTAMP:20260422T201300
CREATED:20260304T102541Z
LAST-MODIFIED:20260308T112005Z
UID:28445-1772964000-1772992800@tv1881altdorf.de
SUMMARY:Volleyball U12 - Nordbayrische Meisterschaft
DESCRIPTION:
URL:https://tv1881altdorf.de/event/volleyball-u12-nordbayrische-meisterschaft-2
LOCATION:Regenstauf\, 93 Regenstauf\, Deutschland
CATEGORIES:Volleyball
END:VEVENT
BEGIN:VEVENT
DTSTART;TZID=Europe/Berlin:20260308T121500
DTEND;TZID=Europe/Berlin:20260308T141500
DTSTAMP:20260422T201300
CREATED:20250915T115608Z
LAST-MODIFIED:20250915T115744Z
UID:24610-1772972100-1772979300@tv1881altdorf.de
SUMMARY:TV 1881 Altdorf U12-TuSpo Noris Baskets
DESCRIPTION:
URL:https://tv1881altdorf.de/event/tv-1881-altdorf-u12-tuspo-noris-baskets
LOCATION:Hagenhausener Str. 5\, 90518\, Altdorf
CATEGORIES:Basketball,BB - U12 mix Bezirksliga Süd
END:VEVENT
BEGIN:VEVENT
DTSTART;TZID=Europe/Berlin:20260308T143000
DTEND;TZID=Europe/Berlin:20260308T163000
DTSTAMP:20260422T201300
CREATED:20250915T100233Z
LAST-MODIFIED:20250915T100456Z
UID:24491-1772980200-1772987400@tv1881altdorf.de
SUMMARY:TV 1881 Altdorf H2-Post SV Nürnberg 5
DESCRIPTION:
URL:https://tv1881altdorf.de/event/tv-1881-altdorf-h2-post-sv-nuernberg-5
LOCATION:Hagenhausener Str. 5\, 90518\, Altdorf
CATEGORIES:Basketball,BB - Kreisliga Herren 2
END:VEVENT
BEGIN:VEVENT
DTSTART;TZID=Europe/Berlin:20260308T164500
DTEND;TZID=Europe/Berlin:20260308T184500
DTSTAMP:20260422T201300
CREATED:20250915T094100Z
LAST-MODIFIED:20250915T100023Z
UID:24463-1772988300-1772995500@tv1881altdorf.de
SUMMARY:TV 1881 Altdorf H1-TV 1879 Hilpoltstein
DESCRIPTION:
URL:https://tv1881altdorf.de/event/tv-1881-altdorf-h1-tv-1879-hilpoltstein
LOCATION:Hagenhausener Str. 5\, 90518\, Altdorf
CATEGORIES:Basketball,BB - Bezirksoberliga Herren
END:VEVENT
END:VCALENDAR