BEGIN:VCALENDAR
VERSION:2.0
PRODID:-//TV 1881 Altdorf e.V. - ECPv6.15.20//NONSGML v1.0//EN
CALSCALE:GREGORIAN
METHOD:PUBLISH
X-WR-CALNAME:TV 1881 Altdorf e.V.
X-ORIGINAL-URL:https://tv1881altdorf.de
X-WR-CALDESC:Veranstaltungen für TV 1881 Altdorf e.V.
REFRESH-INTERVAL;VALUE=DURATION:PT1H
X-Robots-Tag:noindex
X-PUBLISHED-TTL:PT1H
BEGIN:VTIMEZONE
TZID:Europe/Berlin
BEGIN:DAYLIGHT
TZOFFSETFROM:+0100
TZOFFSETTO:+0200
TZNAME:CEST
DTSTART:20250330T010000
END:DAYLIGHT
BEGIN:STANDARD
TZOFFSETFROM:+0200
TZOFFSETTO:+0100
TZNAME:CET
DTSTART:20251026T010000
END:STANDARD
BEGIN:DAYLIGHT
TZOFFSETFROM:+0100
TZOFFSETTO:+0200
TZNAME:CEST
DTSTART:20260329T010000
END:DAYLIGHT
BEGIN:STANDARD
TZOFFSETFROM:+0200
TZOFFSETTO:+0100
TZNAME:CET
DTSTART:20261025T010000
END:STANDARD
BEGIN:DAYLIGHT
TZOFFSETFROM:+0100
TZOFFSETTO:+0200
TZNAME:CEST
DTSTART:20270328T010000
END:DAYLIGHT
BEGIN:STANDARD
TZOFFSETFROM:+0200
TZOFFSETTO:+0100
TZNAME:CET
DTSTART:20271031T010000
END:STANDARD
END:VTIMEZONE
BEGIN:VEVENT
DTSTART;VALUE=DATE:20260315
DTEND;VALUE=DATE:20260316
DTSTAMP:20260422T201331
CREATED:20251111T103333Z
LAST-MODIFIED:20251111T110030Z
UID:26169-1773532800-1773619199@tv1881altdorf.de
SUMMARY:Mixed Fun Softballteam – Softball-O-Saurus Cup in Altdorf
DESCRIPTION:Hal­len­turnier in Altdorf\nMehr Infos folgen… \nMixed Fun Softballteam \n 
URL:https://tv1881altdorf.de/event/eroeffnung-des-mixed-fun-softballteams-des-tva-duplikat-duplikat
LOCATION:Altdorf\, Schulturnhalle Grundschule (neu) (240000): Hagenhausener Str. 5\, 90518 Altdorf
CATEGORIES:Baseball,Mixed Fun Softballteam
ATTACH;FMTTYPE=image/jpeg:https://tv1881altdorf.de/wp-content/uploads/2025/08/softball-2024-11-25-22-02-51-utc-scaled.jpg
END:VEVENT
BEGIN:VEVENT
DTSTART;TZID=Europe/Berlin:20260315T110000
DTEND;TZID=Europe/Berlin:20260315T150000
DTSTAMP:20260422T201331
CREATED:20260211T203025Z
LAST-MODIFIED:20260309T055006Z
UID:27970-1773572400-1773586800@tv1881altdorf.de
SUMMARY:Turnier weibliche D Jugend
DESCRIPTION:11:00 JSG — Pyrbaum/Seligenporten\n11:50 Röthen­bach — Berching\n12:40 Pyrbaum/Seligenporten — Rohr/Pavelsbach II\n13:30 Berch­ing — JSG\n14:20 Rohr/Pavelsbach — Röthenbach
URL:https://tv1881altdorf.de/event/turnier-weibliche-d-jugend
LOCATION:Klaus-Wolfermann-Halle Dreifachturnhalle Altdorf\, Hagenhausener Str.\, 90518 Altdorf bei Nürnberg\, Deutschland
CATEGORIES:Handball
END:VEVENT
BEGIN:VEVENT
DTSTART;TZID=Europe/Berlin:20260315T121500
DTEND;TZID=Europe/Berlin:20260315T141500
DTSTAMP:20260422T201331
CREATED:20250915T113827Z
LAST-MODIFIED:20250915T114050Z
UID:24571-1773576900-1773584100@tv1881altdorf.de
SUMMARY:TV 1881 Altdorf U14-TS Herzogenaurach
DESCRIPTION:
URL:https://tv1881altdorf.de/event/tv-1881-altdorf-u14-ts-herzogenaurach
LOCATION:Hagenhausener Str. 5\, 90518\, Altdorf
CATEGORIES:Basketball,BB - U14m Bezirksoberliga
END:VEVENT
BEGIN:VEVENT
DTSTART;TZID=Europe/Berlin:20260315T143000
DTEND;TZID=Europe/Berlin:20260315T163000
DTSTAMP:20260422T201331
CREATED:20250915T113542Z
LAST-MODIFIED:20250915T113952Z
UID:24548-1773585000-1773592200@tv1881altdorf.de
SUMMARY:TV 1881 Altdorf U16-TSV 1860 Weißenburg
DESCRIPTION:
URL:https://tv1881altdorf.de/event/tv-1881-altdorf-u16-tsv-1860-weissenburg
LOCATION:Hagenhausener Str. 5\, 90518\, Altdorf
CATEGORIES:Basketball,BB - U16m Kreisliga Süd
END:VEVENT
END:VCALENDAR