BEGIN:VCALENDAR
VERSION:2.0
PRODID:-//TV 1881 Altdorf e.V. - ECPv6.15.20//NONSGML v1.0//EN
CALSCALE:GREGORIAN
METHOD:PUBLISH
X-WR-CALNAME:TV 1881 Altdorf e.V.
X-ORIGINAL-URL:https://tv1881altdorf.de
X-WR-CALDESC:Veranstaltungen für TV 1881 Altdorf e.V.
REFRESH-INTERVAL;VALUE=DURATION:PT1H
X-Robots-Tag:noindex
X-PUBLISHED-TTL:PT1H
BEGIN:VTIMEZONE
TZID:Europe/Berlin
BEGIN:DAYLIGHT
TZOFFSETFROM:+0100
TZOFFSETTO:+0200
TZNAME:CEST
DTSTART:20250330T010000
END:DAYLIGHT
BEGIN:STANDARD
TZOFFSETFROM:+0200
TZOFFSETTO:+0100
TZNAME:CET
DTSTART:20251026T010000
END:STANDARD
BEGIN:DAYLIGHT
TZOFFSETFROM:+0100
TZOFFSETTO:+0200
TZNAME:CEST
DTSTART:20260329T010000
END:DAYLIGHT
BEGIN:STANDARD
TZOFFSETFROM:+0200
TZOFFSETTO:+0100
TZNAME:CET
DTSTART:20261025T010000
END:STANDARD
BEGIN:DAYLIGHT
TZOFFSETFROM:+0100
TZOFFSETTO:+0200
TZNAME:CEST
DTSTART:20270328T010000
END:DAYLIGHT
BEGIN:STANDARD
TZOFFSETFROM:+0200
TZOFFSETTO:+0100
TZNAME:CET
DTSTART:20271031T010000
END:STANDARD
END:VTIMEZONE
BEGIN:VEVENT
DTSTART;TZID=Europe/Berlin:20260322T100000
DTEND;TZID=Europe/Berlin:20260322T113000
DTSTAMP:20260422T201331
CREATED:20260211T203025Z
LAST-MODIFIED:20260322T100506Z
UID:27971-1774173600-1774179000@tv1881altdorf.de
SUMMARY:Bezirksliga mC M2 JSG Eintracht Nürnberger Land 3 - TS Herzogenaurach
DESCRIPTION:
URL:https://tv1881altdorf.de/event/bezirksliga-mc-m2-jsg-eintracht-nuernberger-land-3-ts-herzogenaurach
LOCATION:Klaus-Wolfermann-Halle Dreifachturnhalle Altdorf\, Hagenhausener Str.\, 90518 Altdorf bei Nürnberg\, Deutschland
CATEGORIES:Handball
END:VEVENT
BEGIN:VEVENT
DTSTART;TZID=Europe/Berlin:20260322T100000
DTEND;TZID=Europe/Berlin:20260322T180000
DTSTAMP:20260422T201331
CREATED:20260304T102541Z
LAST-MODIFIED:20260322T160506Z
UID:28451-1774173600-1774202400@tv1881altdorf.de
SUMMARY:Volleyball U13 - Nordbayrische Meisterschaft
DESCRIPTION:
URL:https://tv1881altdorf.de/event/volleyball-u13-nordbayrische-meisterschaft-2
LOCATION:Hahnbach\, 92256 Hahnbach\, Deutschland
CATEGORIES:Volleyball
END:VEVENT
BEGIN:VEVENT
DTSTART;TZID=Europe/Berlin:20260322T120000
DTEND;TZID=Europe/Berlin:20260322T133000
DTSTAMP:20260422T201331
CREATED:20260211T203025Z
LAST-MODIFIED:20260322T100506Z
UID:27972-1774180800-1774186200@tv1881altdorf.de
SUMMARY:Bezirksliga wB M JSG Eintracht Nürnberger Land - SG Rohr/Pavelsbach
DESCRIPTION:
URL:https://tv1881altdorf.de/event/bezirksliga-wb-m-jsg-eintracht-nuernberger-land-sg-rohr-pavelsbach
LOCATION:Klaus-Wolfermann-Halle Dreifachturnhalle Altdorf\, Hagenhausener Str.\, 90518 Altdorf bei Nürnberg\, Deutschland
CATEGORIES:Handball
END:VEVENT
BEGIN:VEVENT
DTSTART;TZID=Europe/Berlin:20260322T140000
DTEND;TZID=Europe/Berlin:20260322T153000
DTSTAMP:20260422T201331
CREATED:20260211T203038Z
LAST-MODIFIED:20260322T100506Z
UID:27973-1774188000-1774193400@tv1881altdorf.de
SUMMARY:Bezirksliga mC M3 JSG Nürnberger Land II - Tuspo Nürnberg
DESCRIPTION:
URL:https://tv1881altdorf.de/event/bezirksliga-mc-m3-jsg-nuernberger-land-ii-tuspo-nuernberg
LOCATION:Klaus-Wolfermann-Halle Dreifachturnhalle Altdorf\, Hagenhausener Str.\, 90518 Altdorf bei Nürnberg\, Deutschland
CATEGORIES:Handball
END:VEVENT
BEGIN:VEVENT
DTSTART;TZID=Europe/Berlin:20260322T160000
DTEND;TZID=Europe/Berlin:20260322T173000
DTSTAMP:20260422T201331
CREATED:20250825T210608Z
LAST-MODIFIED:20260322T100506Z
UID:23986-1774195200-1774200600@tv1881altdorf.de
SUMMARY:Bezirksoberliga HSG Weiden vs TV 1881 Altdorf (24022105)
DESCRIPTION:Bezirk­soberli­ga Frauen\nBegeg­nungs-Nr: 24022105\nHeim: HSG Weiden\nGast: TV 1881 Altdorf\nHalle: Wei­den\, Mehrzweck­halle SpVgg Wei­den (240463)\nAdresse: Am lan­gen Steg 17\, 92637 Weiden
URL:https://tv1881altdorf.de/event/bezirksoberliga-hsg-weiden-vs-tv-1881-altdorf-24022105
LOCATION:Weiden\, Mehrzweckhalle SpVgg Weiden (240463): Am langen Steg 17\, 92637 Weiden
CATEGORIES:Handball
END:VEVENT
BEGIN:VEVENT
DTSTART;TZID=Europe/Berlin:20260322T160000
DTEND;TZID=Europe/Berlin:20260322T173000
DTSTAMP:20260422T201331
CREATED:20260211T203038Z
LAST-MODIFIED:20260320T093505Z
UID:27974-1774195200-1774200600@tv1881altdorf.de
SUMMARY:Bezirksoberliga mA NO JSG Nürnberger Land - HV Oberviechtach
DESCRIPTION:
URL:https://tv1881altdorf.de/event/bezirksoberliga-ma-no-jsg-nuernberger-land-hv-oberviechtach
LOCATION:Klaus-Wolfermann-Halle Dreifachturnhalle Altdorf\, Hagenhausener Str.\, 90518 Altdorf bei Nürnberg\, Deutschland
CATEGORIES:Handball
END:VEVENT
BEGIN:VEVENT
DTSTART;TZID=Europe/Berlin:20260322T160000
DTEND;TZID=Europe/Berlin:20260322T180000
DTSTAMP:20260422T201331
CREATED:20250915T094102Z
LAST-MODIFIED:20250915T100023Z
UID:24467-1774195200-1774202400@tv1881altdorf.de
SUMMARY:TV 48 Schwabach-TV 1881 Altdorf H1
DESCRIPTION:
URL:https://tv1881altdorf.de/event/tv-48-schwabach-tv-1881-altdorf-h1
LOCATION:Penzendorfer Str. 10\, 91126\, Schwabach
CATEGORIES:Basketball,BB - Bezirksoberliga Herren
END:VEVENT
BEGIN:VEVENT
DTSTART;TZID=Europe/Berlin:20260322T160000
DTEND;TZID=Europe/Berlin:20260322T180000
DTSTAMP:20260422T201331
CREATED:20250926T115034Z
LAST-MODIFIED:20260321T165005Z
UID:25158-1774195200-1774202400@tv1881altdorf.de
SUMMARY:Volleyball D1 (A) - TSV TB München
DESCRIPTION:
URL:https://tv1881altdorf.de/event/volleyball-d1-a-tsv-tb-muenchen-2
CATEGORIES:Volleyball
END:VEVENT
BEGIN:VEVENT
DTSTART;TZID=Europe/Berlin:20260322T160000
DTEND;TZID=Europe/Berlin:20260322T180000
DTSTAMP:20260422T201331
CREATED:20250926T115036Z
LAST-MODIFIED:20250926T115036Z
UID:25165-1774195200-1774202400@tv1881altdorf.de
SUMMARY:Volleyball D1 (A) - TSV TB München
DESCRIPTION:
URL:https://tv1881altdorf.de/event/volleyball-d1-a-tsv-tb-muenchen-3
CATEGORIES:Volleyball
END:VEVENT
END:VCALENDAR