BEGIN:VCALENDAR
VERSION:2.0
PRODID:-//TV 1881 Altdorf e.V. - ECPv6.15.20//NONSGML v1.0//EN
CALSCALE:GREGORIAN
METHOD:PUBLISH
X-ORIGINAL-URL:https://tv1881altdorf.de
X-WR-CALDESC:Veranstaltungen für TV 1881 Altdorf e.V.
REFRESH-INTERVAL;VALUE=DURATION:PT1H
X-Robots-Tag:noindex
X-PUBLISHED-TTL:PT1H
BEGIN:VTIMEZONE
TZID:Europe/Berlin
BEGIN:DAYLIGHT
TZOFFSETFROM:+0100
TZOFFSETTO:+0200
TZNAME:CEST
DTSTART:20250330T010000
END:DAYLIGHT
BEGIN:STANDARD
TZOFFSETFROM:+0200
TZOFFSETTO:+0100
TZNAME:CET
DTSTART:20251026T010000
END:STANDARD
BEGIN:DAYLIGHT
TZOFFSETFROM:+0100
TZOFFSETTO:+0200
TZNAME:CEST
DTSTART:20260329T010000
END:DAYLIGHT
BEGIN:STANDARD
TZOFFSETFROM:+0200
TZOFFSETTO:+0100
TZNAME:CET
DTSTART:20261025T010000
END:STANDARD
BEGIN:DAYLIGHT
TZOFFSETFROM:+0100
TZOFFSETTO:+0200
TZNAME:CEST
DTSTART:20270328T010000
END:DAYLIGHT
BEGIN:STANDARD
TZOFFSETFROM:+0200
TZOFFSETTO:+0100
TZNAME:CET
DTSTART:20271031T010000
END:STANDARD
END:VTIMEZONE
BEGIN:VEVENT
DTSTART;VALUE=DATE:20260418
DTEND;VALUE=DATE:20260419
DTSTAMP:20260422T201412
CREATED:20251123T103153Z
LAST-MODIFIED:20251123T103153Z
UID:26460-1776470400-1776556799@tv1881altdorf.de
SUMMARY:Hio Run Hilpolstein
DESCRIPTION:Mit­tel­fränkische Halb­marathon­meis­ter­schaft mit Dis­tanzen Halb­marathon 21\,1 km oder 9\,4 km
URL:https://tv1881altdorf.de/event/hio-run-hilpolstein
CATEGORIES:Lauftreff
END:VEVENT
BEGIN:VEVENT
DTSTART;VALUE=DATE:20260418
DTEND;VALUE=DATE:20260419
DTSTAMP:20260422T201412
CREATED:20260309T102300Z
LAST-MODIFIED:20260309T102637Z
UID:28517-1776470400-1776556799@tv1881altdorf.de
SUMMARY:Kreismeisterschaften Nürnberg-Land
DESCRIPTION:Ort: Röthenbach \nAlter­sklassen: ab U12 (ab 10 Jahre) \nWeit­ere Infos: ladv.de
URL:https://tv1881altdorf.de/event/kreismeisterschaften-2026
CATEGORIES:Leichtathletik
END:VEVENT
BEGIN:VEVENT
DTSTART;TZID=Europe/Berlin:20260418T080000
DTEND;TZID=Europe/Berlin:20260418T170000
DTSTAMP:20260422T201412
CREATED:20260124T233848Z
LAST-MODIFIED:20260124T233848Z
UID:27716-1776499200-1776531600@tv1881altdorf.de
SUMMARY:Ju-Jutsu - Süddeutsche Meisterschaften Duo\, Fighting und BJJ
DESCRIPTION:
URL:https://tv1881altdorf.de/event/ju-jutsu-sueddeutsche-meisterschaften-duo-fighting-und-bjj
LOCATION:Durmersheim\, BW
CATEGORIES:Judo und Ju-Jutsu
END:VEVENT
BEGIN:VEVENT
DTSTART;TZID=Europe/Berlin:20260418T090000
DTEND;TZID=Europe/Berlin:20260418T120000
DTSTAMP:20260422T201412
CREATED:20260130T171114Z
LAST-MODIFIED:20260130T171136Z
UID:27827-1776502800-1776513600@tv1881altdorf.de
SUMMARY:Aktion „Altdorf putzt sich raus 2026“
DESCRIPTION:Ein­ladung des Bürg­er­meis­ters an die Vereine: \n.…Gerne möcht­en wir dieses Jahr wieder unsere Aktion „Alt­dorf putzt sich\nraus“ durch­führen und damit für Sauberkeit in unseren Wohnge­bi­eten und\nGrün­bere­ichen sor­gen. Wir hof­fen auf Ihre Unter­stützung und wür­den uns\nfreuen\, wenn Sie sich mit Ihrem Vere­in erneut beim traditionellen\nFrüh­jahrsputz unser­er Stadt und der Ort­steile engagieren würden.\nDer Ter­min für dieses Jahr ist Sam­stag\, der 18 April 2026.\nBeginn der Aktion ist ab 9:00 Uhr.\nDer “Laufr­eff” startet wie immer am Heizhaus\, Fürstenschlag!\nDie entsprechen­den Uten­silien (Hand­schuhe\, Müll­säcke …) bringt\nAnton mit.
URL:https://tv1881altdorf.de/event/aktion-altdorf-putzt-sich-raus-2026
CATEGORIES:Lauftreff
END:VEVENT
BEGIN:VEVENT
DTSTART;TZID=Europe/Berlin:20260418T113000
DTEND;TZID=Europe/Berlin:20260418T133000
DTSTAMP:20260422T201412
CREATED:20250915T115917Z
LAST-MODIFIED:20250915T120044Z
UID:24641-1776511800-1776519000@tv1881altdorf.de
SUMMARY:VfL Treuchtlingen-TV 1881 Altdorf U10
DESCRIPTION:
URL:https://tv1881altdorf.de/event/vfl-treuchtlingen-tv-1881-altdorf-u10
LOCATION:Bürgermeister-Döbler-Allee 3\, 91757\, Treuchtlingen
CATEGORIES:Basketball,BB - U10 mix Kreisliga Süd
END:VEVENT
BEGIN:VEVENT
DTSTART;TZID=Europe/Berlin:20260418T133000
DTEND;TZID=Europe/Berlin:20260418T140000
DTSTAMP:20260422T201412
CREATED:20250915T112855Z
LAST-MODIFIED:20251103T093926Z
UID:24527-1776519000-1776520800@tv1881altdorf.de
SUMMARY:VfL Treuchtlingen-TV 1881 Altdorf U16
DESCRIPTION:
URL:https://tv1881altdorf.de/event/busy-3
LOCATION:Bürgermeister-Döbler-Allee 3\, 91757\, Treuchtlingen
CATEGORIES:Basketball,BB - U16m Kreisliga Süd
END:VEVENT
BEGIN:VEVENT
DTSTART;TZID=Europe/Berlin:20260418T143000
DTEND;TZID=Europe/Berlin:20260418T180000
DTSTAMP:20260422T201412
CREATED:20260323T164325Z
LAST-MODIFIED:20260325T145629Z
UID:28835-1776522600-1776535200@tv1881altdorf.de
SUMMARY:Jugend Baseball Landesliga Nord (U15) – Fürth Pirates vs. Altdorf Icesharks – On the Road
DESCRIPTION:Am Sam­stag\, den 18. April ab 14.30 Uhr sind die Alt­dorf Ice­sharks U15 bei den Fürth Pirates zu Gast. In der Jugend Base­ball Lan­desli­ga wer­den Dou­ble Head­er gespielt – zwei Spiele hin­tere­inan­der. Ein Spiel wird über 5 Innings gespielt oder mit max­i­malem Zeitlim­it von 1\,5 Stunden. \n  \nSpielplan 2026 \nTabelle 2026 \nMehr Infos \n  \n 
URL:https://tv1881altdorf.de/event/jugend-baseball-landesliga-nord-u15-frth-pirates-vs-altdorf-icesharks-on-the-road
LOCATION:Fürth Pirates Ballpark\, Würzburger Str. 700\, Fürth\, 90768
CATEGORIES:Baseball,Jugend Baseball Landesliga Nord (U15)
ATTACH;FMTTYPE=image/jpeg:https://tv1881altdorf.de/wp-content/uploads/2025/09/IMG_5009_mod01_WEB-e1759141399458.jpg
END:VEVENT
BEGIN:VEVENT
DTSTART;TZID=Europe/Berlin:20260418T180000
DTEND;TZID=Europe/Berlin:20260418T200000
DTSTAMP:20260422T201412
CREATED:20250915T094102Z
LAST-MODIFIED:20260413T073400Z
UID:24468-1776535200-1776542400@tv1881altdorf.de
SUMMARY:TV 1881 Altdorf H1-Frankonia Baskets Nürnberg
DESCRIPTION:
URL:https://tv1881altdorf.de/event/tv-1881-altdorf-h1-frankonia-baskets-nuernberg
LOCATION:Hagenhausener Str. 5\, 90518\, Altdorf
CATEGORIES:Basketball,BB - Bezirksoberliga Herren
END:VEVENT
END:VCALENDAR