BEGIN:VCALENDAR
VERSION:2.0
PRODID:-//TV 1881 Altdorf e.V. - ECPv6.15.20//NONSGML v1.0//EN
CALSCALE:GREGORIAN
METHOD:PUBLISH
X-WR-CALNAME:TV 1881 Altdorf e.V.
X-ORIGINAL-URL:https://tv1881altdorf.de
X-WR-CALDESC:Veranstaltungen für TV 1881 Altdorf e.V.
REFRESH-INTERVAL;VALUE=DURATION:PT1H
X-Robots-Tag:noindex
X-PUBLISHED-TTL:PT1H
BEGIN:VTIMEZONE
TZID:Europe/Berlin
BEGIN:DAYLIGHT
TZOFFSETFROM:+0100
TZOFFSETTO:+0200
TZNAME:CEST
DTSTART:20250330T010000
END:DAYLIGHT
BEGIN:STANDARD
TZOFFSETFROM:+0200
TZOFFSETTO:+0100
TZNAME:CET
DTSTART:20251026T010000
END:STANDARD
BEGIN:DAYLIGHT
TZOFFSETFROM:+0100
TZOFFSETTO:+0200
TZNAME:CEST
DTSTART:20260329T010000
END:DAYLIGHT
BEGIN:STANDARD
TZOFFSETFROM:+0200
TZOFFSETTO:+0100
TZNAME:CET
DTSTART:20261025T010000
END:STANDARD
BEGIN:DAYLIGHT
TZOFFSETFROM:+0100
TZOFFSETTO:+0200
TZNAME:CEST
DTSTART:20270328T010000
END:DAYLIGHT
BEGIN:STANDARD
TZOFFSETFROM:+0200
TZOFFSETTO:+0100
TZNAME:CET
DTSTART:20271031T010000
END:STANDARD
END:VTIMEZONE
BEGIN:VEVENT
DTSTART;VALUE=DATE:20260502
DTEND;VALUE=DATE:20260503
DTSTAMP:20260422T184723
CREATED:20260309T103245Z
LAST-MODIFIED:20260309T103321Z
UID:28522-1777680000-1777766399@tv1881altdorf.de
SUMMARY:Neuendettelsauer KiLa-Sportfest
DESCRIPTION:Ort: Neuendettelsau \nAlter­sklassen: ab U8-U12 (von 6 bis 11 Jahre) \nWeit­ere Infos: ladv.de
URL:https://tv1881altdorf.de/event/neuendettelsau-kila-2026
CATEGORIES:Leichtathletik
END:VEVENT
BEGIN:VEVENT
DTSTART;TZID=Europe/Berlin:20260502T100000
DTEND;TZID=Europe/Berlin:20260502T120000
DTSTAMP:20260422T184723
CREATED:20250915T115918Z
LAST-MODIFIED:20250915T120043Z
UID:24642-1777716000-1777723200@tv1881altdorf.de
SUMMARY:TV 48 Schwabach 3-TV 1881 Altdorf U10
DESCRIPTION:
URL:https://tv1881altdorf.de/event/tv-48-schwabach-3-tv-1881-altdorf-u10
LOCATION:Penzendorfer Str. 10\, 91126\, Schwabach
CATEGORIES:Basketball,BB - U10 mix Kreisliga Süd
END:VEVENT
BEGIN:VEVENT
DTSTART;TZID=Europe/Berlin:20260502T120000
DTEND;TZID=Europe/Berlin:20260502T140000
DTSTAMP:20260422T184723
CREATED:20250915T115643Z
LAST-MODIFIED:20250915T115743Z
UID:24614-1777723200-1777730400@tv1881altdorf.de
SUMMARY:TV 48 Schwabach 2-TV 1881 Altdorf U12
DESCRIPTION:
URL:https://tv1881altdorf.de/event/tv-48-schwabach-2-tv-1881-altdorf-u12
LOCATION:Penzendorfer Str. 10\, 91126\, Schwabach
CATEGORIES:Basketball,BB - U12 mix Bezirksliga Süd
END:VEVENT
BEGIN:VEVENT
DTSTART;TZID=Europe/Berlin:20260502T140000
DTEND;TZID=Europe/Berlin:20260502T160000
DTSTAMP:20260422T184723
CREATED:20250915T113545Z
LAST-MODIFIED:20250915T113952Z
UID:24550-1777730400-1777737600@tv1881altdorf.de
SUMMARY:TV 48 Schwabach 2-TV 1881 Altdorf U16
DESCRIPTION:
URL:https://tv1881altdorf.de/event/tv-48-schwabach-2-tv-1881-altdorf-u16
LOCATION:Penzendorfer Str. 10\, 91126\, Schwabach
CATEGORIES:Basketball,BB - U16m Kreisliga Süd
END:VEVENT
BEGIN:VEVENT
DTSTART;TZID=Europe/Berlin:20260502T150000
DTEND;TZID=Europe/Berlin:20260502T173000
DTSTAMP:20260422T184723
CREATED:20260323T193927Z
LAST-MODIFIED:20260331T170632Z
UID:28857-1777734000-1777743000@tv1881altdorf.de
SUMMARY:Baseball – Game 2 – Ingolstadt Schanzer 2 vs. Altdorf Icesharks – On the Road
DESCRIPTION:Play Ball in Ingolstadt \nAm Sam­stag\, den 2. Mai ab 15.00 Uhr sind die Alt­dorf Ice­sharks bei den Ingol­stadt Schanz­er zu Gast.\nIn der Lan­desklasse Base­ball Nord wer­den Sin­glegames über 7 Innings  (oder mit max­i­malem Zeitlim­it von 2\,5 Stun­den) gespielt. \n  \n  \nLinks: \nAlt­dorf Ice­sharks Ballpark \nSpielplan 2026 \nTabelle 2026 \nIce­sharks on Instagram \nIngol­stadt Schanz­er on Instagram \n  \n \n  \n  \n  \n 
URL:https://tv1881altdorf.de/event/baseball-game-2-ingolstadt-schanzer-2-vs-altdorf-icesharks-on-the-road
LOCATION:Ingolstadt Schanzer Ballpark\, Neuburger Straße 85\, Ingolstadt\, Bayern\, 85057\, Germany
CATEGORIES:Baseball,Landesklasse Baseball Nord
ATTACH;FMTTYPE=image/jpeg:https://tv1881altdorf.de/wp-content/uploads/2024/06/DSC07420_2000px.jpg
END:VEVENT
END:VCALENDAR