BEGIN:VCALENDAR
VERSION:2.0
PRODID:-//TV 1881 Altdorf e.V. - ECPv6.15.20//NONSGML v1.0//EN
CALSCALE:GREGORIAN
METHOD:PUBLISH
X-ORIGINAL-URL:https://tv1881altdorf.de
X-WR-CALDESC:Veranstaltungen für TV 1881 Altdorf e.V.
REFRESH-INTERVAL;VALUE=DURATION:PT1H
X-Robots-Tag:noindex
X-PUBLISHED-TTL:PT1H
BEGIN:VTIMEZONE
TZID:Europe/Berlin
BEGIN:DAYLIGHT
TZOFFSETFROM:+0100
TZOFFSETTO:+0200
TZNAME:CEST
DTSTART:20250330T010000
END:DAYLIGHT
BEGIN:STANDARD
TZOFFSETFROM:+0200
TZOFFSETTO:+0100
TZNAME:CET
DTSTART:20251026T010000
END:STANDARD
BEGIN:DAYLIGHT
TZOFFSETFROM:+0100
TZOFFSETTO:+0200
TZNAME:CEST
DTSTART:20260329T010000
END:DAYLIGHT
BEGIN:STANDARD
TZOFFSETFROM:+0200
TZOFFSETTO:+0100
TZNAME:CET
DTSTART:20261025T010000
END:STANDARD
BEGIN:DAYLIGHT
TZOFFSETFROM:+0100
TZOFFSETTO:+0200
TZNAME:CEST
DTSTART:20270328T010000
END:DAYLIGHT
BEGIN:STANDARD
TZOFFSETFROM:+0200
TZOFFSETTO:+0100
TZNAME:CET
DTSTART:20271031T010000
END:STANDARD
END:VTIMEZONE
BEGIN:VEVENT
DTSTART;VALUE=DATE:20260509
DTEND;VALUE=DATE:20260510
DTSTAMP:20260422T201459
CREATED:20260323T155604Z
LAST-MODIFIED:20260323T155924Z
UID:28821-1778284800-1778371199@tv1881altdorf.de
SUMMARY:Mixed Fun Softballteam – Bavarian Classics – Turnier in Freising
DESCRIPTION:Mehr Infos: \nWeb­site Freis­ing Grizzlies
URL:https://tv1881altdorf.de/event/mixed-fun-softballteam-bavarian-classics-turnier-in-freising
LOCATION:Freising Grizzlies Ballpark\, Am Sportplatz 3\, Freising\, Bayern\, 85356\, Germany
CATEGORIES:Baseball,Mixed Fun Softballteam
ATTACH;FMTTYPE=image/jpeg:https://tv1881altdorf.de/wp-content/uploads/2025/08/icesharks_website_slider_09_Raptors-Kopie5.jpg
END:VEVENT
BEGIN:VEVENT
DTSTART;TZID=Europe/Berlin:20260509T080000
DTEND;TZID=Europe/Berlin:20260509T170000
DTSTAMP:20260422T201459
CREATED:20251218T112959Z
LAST-MODIFIED:20251218T112959Z
UID:27075-1778313600-1778346000@tv1881altdorf.de
SUMMARY:Triathlon in Weiden i.d.Oberpfalz
DESCRIPTION:
URL:https://tv1881altdorf.de/event/triathlon-in-weiden-i-d-oberpfalz
LOCATION:Schätzlerbad\, Merklmoosloh 30\, 92637 Weiden\, Merklmoosloh 30\, Weiden\, Bayern\, 92637\, Germany
CATEGORIES:Triathlon
ORGANIZER;CN="ausdauerakademie.de%2C Tannenbergsta%C3%9Fe 16%2C 92637 Weiden%2C E-Mail%3A info@ausdauerakademie.de":MAILTO:info@ausdauerakademie.de
END:VEVENT
BEGIN:VEVENT
DTSTART;TZID=Europe/Berlin:20260509T103000
DTEND;TZID=Europe/Berlin:20260509T130000
DTSTAMP:20260422T201459
CREATED:20260322T204642Z
LAST-MODIFIED:20260322T205827Z
UID:28788-1778322600-1778331600@tv1881altdorf.de
SUMMARY:Schüler Coach Pitch Nord (U10) – Ingolstadt Schanzer vs. Altdorf Little Icesharks – On the Road
DESCRIPTION:Am Sam­stag\, den 9. Mai ab 10.30 Uhr sind die Alt­dorf Lit­tle Ice­sharks U10 bei den Ingol­stadt Schanz­er zu Gast. In der Schüler Coach Pitch Liga wer­den 5 Innings gespielt oder mit max­i­malem Zeitlim­it von 1 Stunde. Eine Tabelle wird bei den Kids nicht geführt. Spaß für alle garantiert – auf und neben dem Platz. \nSpielplan 2026 \nMehr Infos \n  \n  \n 
URL:https://tv1881altdorf.de/event/schler-coach-pitch-nord-u10-ingolstadt-schanzer-vs-altdorf-little-icesharks-on-the-road-duplikat
LOCATION:Ingolstadt Schanzer Ballpark\, Neuburger Straße 85\, Ingolstadt\, Bayern\, 85057\, Germany
CATEGORIES:Baseball,Schüler Coach Pitch Nord (U10)
ATTACH;FMTTYPE=image/jpeg:https://tv1881altdorf.de/wp-content/uploads/2026/03/IMG_9372_LR_WEB.jpg
END:VEVENT
BEGIN:VEVENT
DTSTART;TZID=Europe/Berlin:20260509T103000
DTEND;TZID=Europe/Berlin:20260509T140000
DTSTAMP:20260422T201459
CREATED:20260323T165157Z
LAST-MODIFIED:20260323T165933Z
UID:28839-1778322600-1778335200@tv1881altdorf.de
SUMMARY:Jugend Baseball Landesliga Nord (U15) – Altdorf Icesharks vs. Erlangen White Sox 2 – Homegame in Altdorf
DESCRIPTION:Play Ball – im Sportpark! \nAm Sam­stag\, den 9. Mai ab 10.30 Uhr emp­fan­gen die Alt­dorf Ice­sharks die Erlan­gen White Sox 2. In der Jugend Base­ball Lan­desli­ga wer­den Dou­ble Head­er gespielt – zwei Spiele hin­tere­inan­der. Ein Spiel wird über 5 Innings gespielt oder mit max­i­malem Zeitlim­it von 1\,5 Stunden. \n  \n  \nSpielplan 2026 \nTabelle 2026 \nMehr Infos \n  \n 
URL:https://tv1881altdorf.de/event/jugend-baseball-landesliga-nord-u15-altdorf-icesharks-vs-erlangen-white-sox-2-homegame-in-altdorf
LOCATION:Sportpark Altdorf
CATEGORIES:Baseball,Jugend Baseball Landesliga Nord (U15)
ATTACH;FMTTYPE=image/jpeg:https://tv1881altdorf.de/wp-content/uploads/2024/02/IMG_0924_LR_mod01_WEB.jpg
END:VEVENT
BEGIN:VEVENT
DTSTART;TZID=Europe/Berlin:20260509T110000
DTEND;TZID=Europe/Berlin:20260509T130000
DTSTAMP:20260422T201459
CREATED:20250915T115644Z
LAST-MODIFIED:20250915T115743Z
UID:24615-1778324400-1778331600@tv1881altdorf.de
SUMMARY:TV Vach-TV 1881 Altdorf U12
DESCRIPTION:
URL:https://tv1881altdorf.de/event/tv-vach-tv-1881-altdorf-u12
LOCATION:Finkenschlag 45\, 90766\, Fürth
CATEGORIES:Basketball,BB - U12 mix Bezirksliga Süd
END:VEVENT
END:VCALENDAR