BEGIN:VCALENDAR
VERSION:2.0
PRODID:-//TV 1881 Altdorf e.V. - ECPv6.15.20//NONSGML v1.0//EN
CALSCALE:GREGORIAN
METHOD:PUBLISH
X-WR-CALNAME:TV 1881 Altdorf e.V.
X-ORIGINAL-URL:https://tv1881altdorf.de
X-WR-CALDESC:Veranstaltungen für TV 1881 Altdorf e.V.
REFRESH-INTERVAL;VALUE=DURATION:PT1H
X-Robots-Tag:noindex
X-PUBLISHED-TTL:PT1H
BEGIN:VTIMEZONE
TZID:Europe/Berlin
BEGIN:DAYLIGHT
TZOFFSETFROM:+0100
TZOFFSETTO:+0200
TZNAME:CEST
DTSTART:20250330T010000
END:DAYLIGHT
BEGIN:STANDARD
TZOFFSETFROM:+0200
TZOFFSETTO:+0100
TZNAME:CET
DTSTART:20251026T010000
END:STANDARD
BEGIN:DAYLIGHT
TZOFFSETFROM:+0100
TZOFFSETTO:+0200
TZNAME:CEST
DTSTART:20260329T010000
END:DAYLIGHT
BEGIN:STANDARD
TZOFFSETFROM:+0200
TZOFFSETTO:+0100
TZNAME:CET
DTSTART:20261025T010000
END:STANDARD
BEGIN:DAYLIGHT
TZOFFSETFROM:+0100
TZOFFSETTO:+0200
TZNAME:CEST
DTSTART:20270328T010000
END:DAYLIGHT
BEGIN:STANDARD
TZOFFSETFROM:+0200
TZOFFSETTO:+0100
TZNAME:CET
DTSTART:20271031T010000
END:STANDARD
END:VTIMEZONE
BEGIN:VEVENT
DTSTART;VALUE=DATE:20260516
DTEND;VALUE=DATE:20260517
DTSTAMP:20260422T201333
CREATED:20260309T104229Z
LAST-MODIFIED:20260309T104254Z
UID:28530-1778889600-1778975999@tv1881altdorf.de
SUMMARY:Zirndorfer KiLa-Sportfest
DESCRIPTION:Ort: Zirndorf \nAlter­sklassen: ab U8-U12 (ab 6 bis 11 Jahre) \nWeit­ere Infos: ladv.de
URL:https://tv1881altdorf.de/event/zirndorf-kila-2026
CATEGORIES:Leichtathletik
END:VEVENT
BEGIN:VEVENT
DTSTART;TZID=Europe/Berlin:20260516T140000
DTEND;TZID=Europe/Berlin:20260516T160000
DTSTAMP:20260422T201333
CREATED:20250915T115645Z
LAST-MODIFIED:20250915T115743Z
UID:24616-1778940000-1778947200@tv1881altdorf.de
SUMMARY:Post SV Nürnberg 3-TV 1881 Altdorf U12
DESCRIPTION:
URL:https://tv1881altdorf.de/event/post-sv-nuernberg-3-tv-1881-altdorf-u12
LOCATION:Schafhofstr. 27\, 90411\, Nürnberg
CATEGORIES:Basketball,BB - U12 mix Bezirksliga Süd
END:VEVENT
BEGIN:VEVENT
DTSTART;TZID=Europe/Berlin:20260516T150000
DTEND;TZID=Europe/Berlin:20260516T173000
DTSTAMP:20260422T201333
CREATED:20260323T200133Z
LAST-MODIFIED:20260331T170607Z
UID:28866-1778943600-1778952600@tv1881altdorf.de
SUMMARY:Baseball – Game 3 – Erlangen White Sox 2 vs. Altdorf Icesharks – On the Road
DESCRIPTION:Play Ball in Erlangen \nAm Son­ntag\, den 16. Mai ab 15.00 Uhr sind die Alt­dorf Ice­sharks zu Gast bei den Erlan­gen White Sox 2.\nIn der Lan­desklasse Base­ball Nord wer­den Sin­glegames über 7 Innings  (oder mit max­i­malem Zeitlim­it von 2\,5 Stun­den) gespielt. \n  \n  \nLinks: \nAlt­dorf Ice­sharks Ballpark \nSpielplan 2026 \nTabelle 2026 \nIce­sharks on Instagram \nErlan­gen White Sox on Instagram \n  \n \n  \n  \n  \n 
URL:https://tv1881altdorf.de/event/baseball-game-3-erlangen-white-sox-vs-altdorf-icesharks-on-the-road
LOCATION:Erlangen White Sox Ballpark\, Kurt-Schumacher-Straße 11\, Erlangen\, 91052
CATEGORIES:Baseball,Landesklasse Baseball Nord
ATTACH;FMTTYPE=image/jpeg:https://tv1881altdorf.de/wp-content/uploads/2026/03/IMG_2945_LR_mod01_WEB-1.jpg
END:VEVENT
END:VCALENDAR