BEGIN:VCALENDAR
VERSION:2.0
PRODID:-//TV 1881 Altdorf e.V. - ECPv6.15.20//NONSGML v1.0//EN
CALSCALE:GREGORIAN
METHOD:PUBLISH
X-WR-CALNAME:TV 1881 Altdorf e.V.
X-ORIGINAL-URL:https://tv1881altdorf.de
X-WR-CALDESC:Veranstaltungen für TV 1881 Altdorf e.V.
REFRESH-INTERVAL;VALUE=DURATION:PT1H
X-Robots-Tag:noindex
X-PUBLISHED-TTL:PT1H
BEGIN:VTIMEZONE
TZID:Europe/Berlin
BEGIN:DAYLIGHT
TZOFFSETFROM:+0100
TZOFFSETTO:+0200
TZNAME:CEST
DTSTART:20250330T010000
END:DAYLIGHT
BEGIN:STANDARD
TZOFFSETFROM:+0200
TZOFFSETTO:+0100
TZNAME:CET
DTSTART:20251026T010000
END:STANDARD
BEGIN:DAYLIGHT
TZOFFSETFROM:+0100
TZOFFSETTO:+0200
TZNAME:CEST
DTSTART:20260329T010000
END:DAYLIGHT
BEGIN:STANDARD
TZOFFSETFROM:+0200
TZOFFSETTO:+0100
TZNAME:CET
DTSTART:20261025T010000
END:STANDARD
BEGIN:DAYLIGHT
TZOFFSETFROM:+0100
TZOFFSETTO:+0200
TZNAME:CEST
DTSTART:20270328T010000
END:DAYLIGHT
BEGIN:STANDARD
TZOFFSETFROM:+0200
TZOFFSETTO:+0100
TZNAME:CET
DTSTART:20271031T010000
END:STANDARD
END:VTIMEZONE
BEGIN:VEVENT
DTSTART;VALUE=DATE:20260517
DTEND;VALUE=DATE:20260518
DTSTAMP:20260422T201250
CREATED:20251218T114243Z
LAST-MODIFIED:20251218T114243Z
UID:27085-1778976000-1779062399@tv1881altdorf.de
SUMMARY:20. Deggendorfer Triathlon | Hackerweiher Stauffendorf
DESCRIPTION:
URL:https://tv1881altdorf.de/event/20-deggendorfer-triathlon-hackerweiher-stauffendorf
CATEGORIES:Triathlon
END:VEVENT
BEGIN:VEVENT
DTSTART;TZID=Europe/Berlin:20260517T100000
DTEND;TZID=Europe/Berlin:20260517T120000
DTSTAMP:20260422T201250
CREATED:20250915T115951Z
LAST-MODIFIED:20250915T120043Z
UID:24644-1779012000-1779019200@tv1881altdorf.de
SUMMARY:TV 1881 Altdorf U10-TSV 1946 Altenberg
DESCRIPTION:
URL:https://tv1881altdorf.de/event/tv-1881-altdorf-u10-tsv-1946-altenberg
LOCATION:Hagenhausener Str. 5\, 90518\, Altdorf
CATEGORIES:Basketball,BB - U10 mix Kreisliga Süd
END:VEVENT
BEGIN:VEVENT
DTSTART;TZID=Europe/Berlin:20260517T121500
DTEND;TZID=Europe/Berlin:20260517T141500
DTSTAMP:20260422T201250
CREATED:20250915T113904Z
LAST-MODIFIED:20250915T114049Z
UID:24576-1779020100-1779027300@tv1881altdorf.de
SUMMARY:TV 1881 Altdorf U14-TB 1888 Erlangen e. V.
DESCRIPTION:
URL:https://tv1881altdorf.de/event/tv-1881-altdorf-u14-tb-1888-erlangen-e-v
LOCATION:Hagenhausener Str. 5\, 90518\, Altdorf
CATEGORIES:Basketball,BB - U14m Bezirksoberliga
END:VEVENT
BEGIN:VEVENT
DTSTART;TZID=Europe/Berlin:20260517T143000
DTEND;TZID=Europe/Berlin:20260517T163000
DTSTAMP:20260422T201250
CREATED:20250915T105422Z
LAST-MODIFIED:20250915T105459Z
UID:24514-1779028200-1779035400@tv1881altdorf.de
SUMMARY:TV 1881 Altdorf U18-TV 1879 Hilpoltstein
DESCRIPTION:
URL:https://tv1881altdorf.de/event/tv-1881-altdorf-u18-tv-1879-hilpoltstein
CATEGORIES:Basketball,BB - U18 m Kreisliga Süd
END:VEVENT
END:VCALENDAR