BEGIN:VCALENDAR
VERSION:2.0
PRODID:-//TV 1881 Altdorf e.V. - ECPv6.15.20//NONSGML v1.0//EN
CALSCALE:GREGORIAN
METHOD:PUBLISH
X-ORIGINAL-URL:https://tv1881altdorf.de
X-WR-CALDESC:Veranstaltungen für TV 1881 Altdorf e.V.
REFRESH-INTERVAL;VALUE=DURATION:PT1H
X-Robots-Tag:noindex
X-PUBLISHED-TTL:PT1H
BEGIN:VTIMEZONE
TZID:Europe/Berlin
BEGIN:DAYLIGHT
TZOFFSETFROM:+0100
TZOFFSETTO:+0200
TZNAME:CEST
DTSTART:20250330T010000
END:DAYLIGHT
BEGIN:STANDARD
TZOFFSETFROM:+0200
TZOFFSETTO:+0100
TZNAME:CET
DTSTART:20251026T010000
END:STANDARD
BEGIN:DAYLIGHT
TZOFFSETFROM:+0100
TZOFFSETTO:+0200
TZNAME:CEST
DTSTART:20260329T010000
END:DAYLIGHT
BEGIN:STANDARD
TZOFFSETFROM:+0200
TZOFFSETTO:+0100
TZNAME:CET
DTSTART:20261025T010000
END:STANDARD
BEGIN:DAYLIGHT
TZOFFSETFROM:+0100
TZOFFSETTO:+0200
TZNAME:CEST
DTSTART:20270328T010000
END:DAYLIGHT
BEGIN:STANDARD
TZOFFSETFROM:+0200
TZOFFSETTO:+0100
TZNAME:CET
DTSTART:20271031T010000
END:STANDARD
END:VTIMEZONE
BEGIN:VEVENT
DTSTART;VALUE=DATE:20260613
DTEND;VALUE=DATE:20260614
DTSTAMP:20260422T214419
CREATED:20251218T113840Z
LAST-MODIFIED:20251218T113840Z
UID:27083-1781308800-1781395199@tv1881altdorf.de
SUMMARY:39. Kallmünzer Sparkassen-Triathlon 2026
DESCRIPTION:
URL:https://tv1881altdorf.de/event/39-kallmuenzer-sparkassen-triathlon-2026
CATEGORIES:Triathlon
END:VEVENT
BEGIN:VEVENT
DTSTART;TZID=Europe/Berlin:20260613T103000
DTEND;TZID=Europe/Berlin:20260613T140000
DTSTAMP:20260422T214419
CREATED:20260323T170152Z
LAST-MODIFIED:20260323T170221Z
UID:28841-1781346600-1781359200@tv1881altdorf.de
SUMMARY:Jugend Baseball Landesliga Nord (U15) – Altdorf Icesharks vs. Fürth Pirates – Homegame in Altdorf
DESCRIPTION:Play Ball – im Sportpark! \nAm Sam­stag\, den 13. Juni ab 10.30 Uhr emp­fan­gen die Alt­dorf Ice­sharks die Fürth Pirates. In der Jugend Base­ball Lan­desli­ga wer­den Dou­ble Head­er gespielt – zwei Spiele hin­tere­inan­der. Ein Spiel wird über 5 Innings gespielt oder mit max­i­malem Zeitlim­it von 1\,5 Stunden. \nSpielplan 2025 Rückrunde \naktuelle Tabelle \nMehr Infos
URL:https://tv1881altdorf.de/event/jugend-baseball-landesliga-nord-u15-altdorf-icesharks-vs-frth-pirates-homegame-in-altdorf
LOCATION:Sportpark Altdorf
CATEGORIES:Baseball,Jugend Baseball Landesliga Nord (U15)
ATTACH;FMTTYPE=image/jpeg:https://tv1881altdorf.de/wp-content/uploads/2025/08/Bildschirmfoto-2025-08-18-um-10.31.57-scaled.jpg
END:VEVENT
BEGIN:VEVENT
DTSTART;TZID=Europe/Berlin:20260613T130000
DTEND;TZID=Europe/Berlin:20260613T170000
DTSTAMP:20260422T214419
CREATED:20260123T150530Z
LAST-MODIFIED:20260123T150530Z
UID:27673-1781355600-1781370000@tv1881altdorf.de
SUMMARY:Ju-Jutsu - Landes Lehrgang Technik
DESCRIPTION:
URL:https://tv1881altdorf.de/event/ju-jutsu-landes-lehrgang-technik
LOCATION:Judo und Gymnastikhalle\, TV 1881 Altdorf e.V.\, Heumannstrasse 5a\, Altdorf\, 90518\, Germany
END:VEVENT
BEGIN:VEVENT
DTSTART;TZID=Europe/Berlin:20260613T150000
DTEND;TZID=Europe/Berlin:20260613T173000
DTSTAMP:20260422T214419
CREATED:20260322T204939Z
LAST-MODIFIED:20260322T205607Z
UID:28790-1781362800-1781371800@tv1881altdorf.de
SUMMARY:Schüler Coach Pitch Nord (U10) – Altdorf Little Icesharks vs. Laufer Wölfe – Homegame in Altdorf
DESCRIPTION:Play Ball – im Sportpark! \nAm Sam­stag\, den 13. Juni ab 15.00 Uhr emp­fan­gen die Alt­dorf Lit­tle Ice­sharks die Laufer Wölfe zu einem Dou­ble Head­er – also 2 Spiele hin­tere­inan­der. In der Schüler Coach Pitch Liga wer­den 5 Innings gespielt oder mit max­i­malem Zeitlim­it von 1 Stunde. Eine Tabelle wird bei den Kids nicht geführt. Spaß für alle garantiert – auf und neben dem Platz. \nSpielplan 2026 \nMehr Infos
URL:https://tv1881altdorf.de/event/schler-coach-pitch-nord-u10-altdorf-little-icesharks-vs-laufer-wlfe-homegame-in-altdorf
LOCATION:Sportpark Altdorf
CATEGORIES:Baseball,Schüler Coach Pitch Nord (U10)
ATTACH;FMTTYPE=image/jpeg:https://tv1881altdorf.de/wp-content/uploads/2026/03/IMG_9276_LR_WEB-scaled.jpg
END:VEVENT
END:VCALENDAR