BEGIN:VCALENDAR
VERSION:2.0
PRODID:-//TV 1881 Altdorf e.V. - ECPv6.15.20//NONSGML v1.0//EN
CALSCALE:GREGORIAN
METHOD:PUBLISH
X-WR-CALNAME:TV 1881 Altdorf e.V.
X-ORIGINAL-URL:https://tv1881altdorf.de
X-WR-CALDESC:Veranstaltungen für TV 1881 Altdorf e.V.
REFRESH-INTERVAL;VALUE=DURATION:PT1H
X-Robots-Tag:noindex
X-PUBLISHED-TTL:PT1H
BEGIN:VTIMEZONE
TZID:Europe/Berlin
BEGIN:DAYLIGHT
TZOFFSETFROM:+0100
TZOFFSETTO:+0200
TZNAME:CEST
DTSTART:20250330T010000
END:DAYLIGHT
BEGIN:STANDARD
TZOFFSETFROM:+0200
TZOFFSETTO:+0100
TZNAME:CET
DTSTART:20251026T010000
END:STANDARD
BEGIN:DAYLIGHT
TZOFFSETFROM:+0100
TZOFFSETTO:+0200
TZNAME:CEST
DTSTART:20260329T010000
END:DAYLIGHT
BEGIN:STANDARD
TZOFFSETFROM:+0200
TZOFFSETTO:+0100
TZNAME:CET
DTSTART:20261025T010000
END:STANDARD
BEGIN:DAYLIGHT
TZOFFSETFROM:+0100
TZOFFSETTO:+0200
TZNAME:CEST
DTSTART:20270328T010000
END:DAYLIGHT
BEGIN:STANDARD
TZOFFSETFROM:+0200
TZOFFSETTO:+0100
TZNAME:CET
DTSTART:20271031T010000
END:STANDARD
END:VTIMEZONE
BEGIN:VEVENT
DTSTART;TZID=Europe/Berlin:20260614T083000
DTEND;TZID=Europe/Berlin:20260614T170000
DTSTAMP:20260422T214250
CREATED:20251123T104844Z
LAST-MODIFIED:20251123T104844Z
UID:26466-1781425800-1781456400@tv1881altdorf.de
SUMMARY:Metropolmarathon von Fürth nach Nürnberg
DESCRIPTION:Laufdis­tanzen  10 km\,\nHalb­marathon 21\,1 km\nund Marathon 42\,2 km \nStart ab 8:30 Uhr bei Fürther Freiheit
URL:https://tv1881altdorf.de/event/metropolmarathon-von-fuerth-nach-nuernberg
CATEGORIES:Lauftreff
END:VEVENT
BEGIN:VEVENT
DTSTART;TZID=Europe/Berlin:20260614T140000
DTEND;TZID=Europe/Berlin:20260614T163000
DTSTAMP:20260422T214250
CREATED:20260323T195312Z
LAST-MODIFIED:20260331T170536Z
UID:28861-1781445600-1781454600@tv1881altdorf.de
SUMMARY:Baseball – Game 5 – Altdorf Icesharks vs. Unterwurmbach Red Sox – Homegame in Altdorf
DESCRIPTION:Play Ball im Alt­dorf Ice­sharks Ball­park hin­ter der Mit­telschule/Leib­niz-Gym­na­si­um\n \nAm Son­ntag\, den 14. Juni ab 14.00 Uhr emp­fan­gen Alt­dorf Ice­sharks die Unter­wurm­bach Red Sox.\nIn der Lan­desklasse Base­ball Nord wer­den Sin­glegames über 7 Innings  (oder mit max­i­malem Zeitlim­it von 2\,5 Stun­den) gespielt. \n  \n  \n  \nLinks: \nAlt­dorf Ice­sharks Ballpark \nSpielplan 2026 \nTabelle 2026 \nIce­sharks on Instagram \nUnter­wurm­bach Red Sox on Instagram \n  \n \n  \n  \n  \n 
URL:https://tv1881altdorf.de/event/baseball-game-4-unterwurmbach-red-sox-vs-altdorf-icesharks-on-the-road
LOCATION:Altdorf Icesharks Ballpark hinter Mittelschule/Leibniz Gymnasium\, Schulstraße\, Altdorf\, Bayern\, 90518\, Deutschland
CATEGORIES:Baseball,Landesklasse Baseball Nord
ATTACH;FMTTYPE=image/jpeg:https://tv1881altdorf.de/wp-content/uploads/2026/03/IMG_4462_mod01_LR_WEB-scaled.jpg
END:VEVENT
END:VCALENDAR