BEGIN:VCALENDAR
VERSION:2.0
PRODID:-//TV 1881 Altdorf e.V. - ECPv6.15.20//NONSGML v1.0//EN
CALSCALE:GREGORIAN
METHOD:PUBLISH
X-ORIGINAL-URL:https://tv1881altdorf.de
X-WR-CALDESC:Veranstaltungen für TV 1881 Altdorf e.V.
REFRESH-INTERVAL;VALUE=DURATION:PT1H
X-Robots-Tag:noindex
X-PUBLISHED-TTL:PT1H
BEGIN:VTIMEZONE
TZID:Europe/Berlin
BEGIN:DAYLIGHT
TZOFFSETFROM:+0100
TZOFFSETTO:+0200
TZNAME:CEST
DTSTART:20250330T010000
END:DAYLIGHT
BEGIN:STANDARD
TZOFFSETFROM:+0200
TZOFFSETTO:+0100
TZNAME:CET
DTSTART:20251026T010000
END:STANDARD
BEGIN:DAYLIGHT
TZOFFSETFROM:+0100
TZOFFSETTO:+0200
TZNAME:CEST
DTSTART:20260329T010000
END:DAYLIGHT
BEGIN:STANDARD
TZOFFSETFROM:+0200
TZOFFSETTO:+0100
TZNAME:CET
DTSTART:20261025T010000
END:STANDARD
BEGIN:DAYLIGHT
TZOFFSETFROM:+0100
TZOFFSETTO:+0200
TZNAME:CEST
DTSTART:20270328T010000
END:DAYLIGHT
BEGIN:STANDARD
TZOFFSETFROM:+0200
TZOFFSETTO:+0100
TZNAME:CET
DTSTART:20271031T010000
END:STANDARD
END:VTIMEZONE
BEGIN:VEVENT
DTSTART;VALUE=DATE:20260620
DTEND;VALUE=DATE:20260621
DTSTAMP:20260422T214359
CREATED:20260309T103811Z
LAST-MODIFIED:20260309T103920Z
UID:28526-1781913600-1781999999@tv1881altdorf.de
SUMMARY:Mittelfränkische Meisterschaften (U14\,U16)
DESCRIPTION:Ort: Herzogenaurach \nAlter­sklassen: U14\, U16 \nWeit­ere Infos: fol­gt noch
URL:https://tv1881altdorf.de/event/mittelfraenkische-meisterschaften-u14u16-2026
CATEGORIES:Leichtathletik
END:VEVENT
BEGIN:VEVENT
DTSTART;VALUE=DATE:20260620
DTEND;VALUE=DATE:20260622
DTSTAMP:20260422T214359
CREATED:20251218T113133Z
LAST-MODIFIED:20251218T113133Z
UID:27077-1781913600-1782086399@tv1881altdorf.de
SUMMARY:37. Memmert Rothsee Triathlon
DESCRIPTION:
URL:https://tv1881altdorf.de/event/37-memmert-rothsee-triathlon
CATEGORIES:Triathlon
END:VEVENT
BEGIN:VEVENT
DTSTART;TZID=Europe/Berlin:20260620T110000
DTEND;TZID=Europe/Berlin:20260620T133000
DTSTAMP:20260422T214359
CREATED:20260325T145828Z
LAST-MODIFIED:20260325T150645Z
UID:29008-1781953200-1781962200@tv1881altdorf.de
SUMMARY:Schüler Coach Pitch Nord (U10) – Altdorf Little Icesharks vs. Ingolstadt Schanzer – Homegame in Altdorf
DESCRIPTION:Play Ball – im Sportpark! \nAm Son­ntag\, den 20. Juni ab 11.00 Uhr emp­fan­gen die Alt­dorf Lit­tle Ice­sharks die Ingol­stadrt Schanz­er zu einem Dou­ble Head­er – also 2 Spiele hin­tere­inan­der. In der Schüler Coach Pitch Liga wer­den 5 Innings gespielt oder mit max­i­malem Zeitlim­it von 1 Stunde. Eine Tabelle wird bei den Kids nicht geführt. Spaß für alle garantiert – auf und neben dem Platz. \nSpielplan 2026 \nMehr Infos
URL:https://tv1881altdorf.de/event/schler-coach-pitch-nord-u10-altdorf-little-icesharks-vs-ingolstadt-schanzer-homegame-in-altdorf-2
LOCATION:Sportpark Altdorf
CATEGORIES:Baseball,Schüler Coach Pitch Nord (U10)
ATTACH;FMTTYPE=image/jpeg:https://tv1881altdorf.de/wp-content/uploads/2025/09/IMG_9447_LR_WEB.jpg
END:VEVENT
BEGIN:VEVENT
DTSTART;TZID=Europe/Berlin:20260620T143000
DTEND;TZID=Europe/Berlin:20260620T170000
DTSTAMP:20260422T214359
CREATED:20260323T173455Z
LAST-MODIFIED:20260323T174545Z
UID:28845-1781965800-1781974800@tv1881altdorf.de
SUMMARY:Jugend Baseball Landesliga Nord (U15) – Laufer Wölfe 2 vs. Altdorf Icesharks – On the Road
DESCRIPTION:Am Sam­stag\, den 20. Juni ab 14.30 Uhr sind die Alt­dorf Ice­sharks U15 bei den Laufer Wölfen zu Gast. In der Jugend Base­ball Lan­desli­ga wer­den Dou­ble Head­er gespielt – zwei Spiele hin­tere­inan­der. Ein Spiel wird über 5 Innings gespielt oder mit max­i­malem Zeitlim­it von 1\,5 Stunden. \n  \nSpielplan 2026 \nTabelle 2026 \nMehr Infos \n  \n 
URL:https://tv1881altdorf.de/event/jugend-baseball-landesliga-nord-u15-laufer-wlfe-2-vs-altdorf-icesharks-on-the-road-duplikat
LOCATION:Laufer Wölfe Ballpark\, Am Haberloh 6\, Lauf\, Bayern\, 91207\, Germany
CATEGORIES:Baseball,Jugend Baseball Landesliga Nord (U15)
ATTACH;FMTTYPE=image/jpeg:https://tv1881altdorf.de/wp-content/uploads/2025/10/IMG_5565_LR_mod01_WEB.jpg
END:VEVENT
BEGIN:VEVENT
DTSTART;TZID=Europe/Berlin:20260620T160000
DTEND;TZID=Europe/Berlin:20260620T180000
DTSTAMP:20260422T214359
CREATED:20260124T231446Z
LAST-MODIFIED:20260124T231446Z
UID:27699-1781971200-1781978400@tv1881altdorf.de
SUMMARY:Ju-Jutsu - Trainer und Motto Training
DESCRIPTION:offenes Vere­in­strain­ing ohne Kyu-Beschränkung. \nThe­ma: \nAnschließend ab ca. 18:30 Uhr gemütlich­es Beisam­men­sein (wo entschei­den wir noch)
URL:https://tv1881altdorf.de/event/ju-jutsu-trainer-und-motto-training-2
LOCATION:Judo und Gymnastikhalle\, TV 1881 Altdorf e.V.\, Heumannstrasse 5a\, Altdorf\, 90518\, Germany
CATEGORIES:Judo und Ju-Jutsu
END:VEVENT
END:VCALENDAR