BEGIN:VCALENDAR
VERSION:2.0
PRODID:-//TV 1881 Altdorf e.V. - ECPv6.15.20//NONSGML v1.0//EN
CALSCALE:GREGORIAN
METHOD:PUBLISH
X-ORIGINAL-URL:https://tv1881altdorf.de
X-WR-CALDESC:Veranstaltungen für TV 1881 Altdorf e.V.
REFRESH-INTERVAL;VALUE=DURATION:PT1H
X-Robots-Tag:noindex
X-PUBLISHED-TTL:PT1H
BEGIN:VTIMEZONE
TZID:Europe/Berlin
BEGIN:DAYLIGHT
TZOFFSETFROM:+0100
TZOFFSETTO:+0200
TZNAME:CEST
DTSTART:20250330T010000
END:DAYLIGHT
BEGIN:STANDARD
TZOFFSETFROM:+0200
TZOFFSETTO:+0100
TZNAME:CET
DTSTART:20251026T010000
END:STANDARD
BEGIN:DAYLIGHT
TZOFFSETFROM:+0100
TZOFFSETTO:+0200
TZNAME:CEST
DTSTART:20260329T010000
END:DAYLIGHT
BEGIN:STANDARD
TZOFFSETFROM:+0200
TZOFFSETTO:+0100
TZNAME:CET
DTSTART:20261025T010000
END:STANDARD
BEGIN:DAYLIGHT
TZOFFSETFROM:+0100
TZOFFSETTO:+0200
TZNAME:CEST
DTSTART:20270328T010000
END:DAYLIGHT
BEGIN:STANDARD
TZOFFSETFROM:+0200
TZOFFSETTO:+0100
TZNAME:CET
DTSTART:20271031T010000
END:STANDARD
END:VTIMEZONE
BEGIN:VEVENT
DTSTART;VALUE=DATE:20260620
DTEND;VALUE=DATE:20260622
DTSTAMP:20260422T214345
CREATED:20251218T113133Z
LAST-MODIFIED:20251218T113133Z
UID:27077-1781913600-1782086399@tv1881altdorf.de
SUMMARY:37. Memmert Rothsee Triathlon
DESCRIPTION:
URL:https://tv1881altdorf.de/event/37-memmert-rothsee-triathlon
CATEGORIES:Triathlon
END:VEVENT
BEGIN:VEVENT
DTSTART;VALUE=DATE:20260621
DTEND;VALUE=DATE:20260622
DTSTAMP:20260422T214345
CREATED:20260323T162208Z
LAST-MODIFIED:20260323T162507Z
UID:28826-1782000000-1782086399@tv1881altdorf.de
SUMMARY:Mixed Fun Softballteam – Turnier in Altdorf
DESCRIPTION:Turnier in Altdorf \nMixed Fun Softballteam \n 
URL:https://tv1881altdorf.de/event/mixed-fun-softballteam-turnier-in-altdorf-2
LOCATION:Sportpark Altdorf
CATEGORIES:Baseball,Mixed Fun Softballteam
ATTACH;FMTTYPE=image/jpeg:https://tv1881altdorf.de/wp-content/uploads/2025/08/WhatsApp-Image-2025-08-08-at-22.29.01_WEB.jpg
END:VEVENT
BEGIN:VEVENT
DTSTART;VALUE=DATE:20260621
DTEND;VALUE=DATE:20260622
DTSTAMP:20260422T214345
CREATED:20260309T103521Z
LAST-MODIFIED:20260309T103554Z
UID:28524-1782000000-1782086399@tv1881altdorf.de
SUMMARY:Kreismeisterschaften Neustadt a. d. Aisch
DESCRIPTION:Ort: Ipsheim \nAlter­sklassen: ab U12 (ab 10 Jahre) \nWeit­ere Infos: ladv.de
URL:https://tv1881altdorf.de/event/kreismeisterschaften-neustadt-2026
CATEGORIES:Leichtathletik
END:VEVENT
END:VCALENDAR