BEGIN:VCALENDAR
VERSION:2.0
PRODID:-//TV 1881 Altdorf e.V. - ECPv6.15.20//NONSGML v1.0//EN
CALSCALE:GREGORIAN
METHOD:PUBLISH
X-WR-CALNAME:TV 1881 Altdorf e.V.
X-ORIGINAL-URL:https://tv1881altdorf.de
X-WR-CALDESC:Veranstaltungen für TV 1881 Altdorf e.V.
REFRESH-INTERVAL;VALUE=DURATION:PT1H
X-Robots-Tag:noindex
X-PUBLISHED-TTL:PT1H
BEGIN:VTIMEZONE
TZID:Europe/Berlin
BEGIN:DAYLIGHT
TZOFFSETFROM:+0100
TZOFFSETTO:+0200
TZNAME:CEST
DTSTART:20250330T010000
END:DAYLIGHT
BEGIN:STANDARD
TZOFFSETFROM:+0200
TZOFFSETTO:+0100
TZNAME:CET
DTSTART:20251026T010000
END:STANDARD
BEGIN:DAYLIGHT
TZOFFSETFROM:+0100
TZOFFSETTO:+0200
TZNAME:CEST
DTSTART:20260329T010000
END:DAYLIGHT
BEGIN:STANDARD
TZOFFSETFROM:+0200
TZOFFSETTO:+0100
TZNAME:CET
DTSTART:20261025T010000
END:STANDARD
BEGIN:DAYLIGHT
TZOFFSETFROM:+0100
TZOFFSETTO:+0200
TZNAME:CEST
DTSTART:20270328T010000
END:DAYLIGHT
BEGIN:STANDARD
TZOFFSETFROM:+0200
TZOFFSETTO:+0100
TZNAME:CET
DTSTART:20271031T010000
END:STANDARD
END:VTIMEZONE
BEGIN:VEVENT
DTSTART;TZID=Europe/Berlin:20260627T120000
DTEND;TZID=Europe/Berlin:20260627T153000
DTSTAMP:20260422T214250
CREATED:20260323T175218Z
LAST-MODIFIED:20260323T175731Z
UID:28851-1782561600-1782574200@tv1881altdorf.de
SUMMARY:Jugend Baseball Landesliga Nord (U15) – Erlangen White Sox 2 vs. Altdorf Icesharks – On the Road
DESCRIPTION:Am Sam­stag\, den 27. Juni ab 12.00 Uhr sind die Alt­dorf Ice­sharks U15 bei Erlan­gen White Sox 2 zu Gast. In der Jugend Base­ball Lan­desli­ga wer­den Dou­ble Head­er gespielt – zwei Spiele hin­tere­inan­der. Ein Spiel wird über 5 Innings gespielt oder mit max­i­malem Zeitlim­it von 1\,5 Stunden. \n  \nSpielplan 2026 \nTabelle 2026 \nMehr Infos \n  \n 
URL:https://tv1881altdorf.de/event/jugend-baseball-landesliga-nord-u15-erlangen-white-sox-2-vs-altdorf-icesharks-on-the-road
LOCATION:Erlangen White Sox Ballpark\, Kurt-Schumacher-Straße 11\, Erlangen\, 91052
CATEGORIES:Baseball,Jugend Baseball Landesliga Nord (U15)
ATTACH;FMTTYPE=image/jpeg:https://tv1881altdorf.de/wp-content/uploads/2025/08/Bildschirmfoto-2025-08-18-um-10.54.01-scaled.jpg
END:VEVENT
BEGIN:VEVENT
DTSTART;TZID=Europe/Berlin:20260627T140000
DTEND;TZID=Europe/Berlin:20260627T163000
DTSTAMP:20260422T214250
CREATED:20260323T201529Z
LAST-MODIFIED:20260331T170517Z
UID:28870-1782568800-1782577800@tv1881altdorf.de
SUMMARY:Baseball – Game 6 – Altdorf Icesharks vs. Erlangen White Sox 2 – Homegame in Altdorf
DESCRIPTION:Play Ball im Alt­dorf Ice­sharks Ball­park hin­ter der Mit­telschule/Leib­niz-Gym­na­si­um \nAm Sam­stag\, den 27. Juni ab 14.00 Uhr emp­fan­gen die Alt­dorf Ice­sharks den Cham­pi­on der Lan­desklasse 2025 – die White Sox aus Erlangen.\nIn der Lan­desklasse Base­ball Nord wer­den Sin­glegames über 7 Innings  (oder mit max­i­malem Zeitlim­it von 2\,5 Stun­den) gespielt. \n  \n  \nLinks: \nAlt­dorf Ice­sharks Ballpark \nSpielplan 2026 \nTabelle 2026 \nIce­sharks on Instagram \nErlan­gen White Sox on Instagram \n  \n \n  \n  \n  \n  \n  \n  \n  \n 
URL:https://tv1881altdorf.de/event/baseball-game-6-altdorf-icesharks-vs-erlangen-white-sox-2-homegame-in-altdorf
LOCATION:Altdorf Icesharks Ballpark hinter Mittelschule/Leibniz Gymnasium\, Schulstraße\, Altdorf\, Bayern\, 90518\, Deutschland
CATEGORIES:Baseball,Landesklasse Baseball Nord
ATTACH;FMTTYPE=image/jpeg:https://tv1881altdorf.de/wp-content/uploads/2026/03/130-DSC_-130_mod02_WEB-1.jpg
END:VEVENT
END:VCALENDAR