BEGIN:VCALENDAR
VERSION:2.0
PRODID:-//TV 1881 Altdorf e.V. - ECPv6.15.20//NONSGML v1.0//EN
CALSCALE:GREGORIAN
METHOD:PUBLISH
X-WR-CALNAME:TV 1881 Altdorf e.V.
X-ORIGINAL-URL:https://tv1881altdorf.de
X-WR-CALDESC:Veranstaltungen für TV 1881 Altdorf e.V.
REFRESH-INTERVAL;VALUE=DURATION:PT1H
X-Robots-Tag:noindex
X-PUBLISHED-TTL:PT1H
BEGIN:VTIMEZONE
TZID:Europe/Berlin
BEGIN:DAYLIGHT
TZOFFSETFROM:+0100
TZOFFSETTO:+0200
TZNAME:CEST
DTSTART:20250330T010000
END:DAYLIGHT
BEGIN:STANDARD
TZOFFSETFROM:+0200
TZOFFSETTO:+0100
TZNAME:CET
DTSTART:20251026T010000
END:STANDARD
BEGIN:DAYLIGHT
TZOFFSETFROM:+0100
TZOFFSETTO:+0200
TZNAME:CEST
DTSTART:20260329T010000
END:DAYLIGHT
BEGIN:STANDARD
TZOFFSETFROM:+0200
TZOFFSETTO:+0100
TZNAME:CET
DTSTART:20261025T010000
END:STANDARD
BEGIN:DAYLIGHT
TZOFFSETFROM:+0100
TZOFFSETTO:+0200
TZNAME:CEST
DTSTART:20270328T010000
END:DAYLIGHT
BEGIN:STANDARD
TZOFFSETFROM:+0200
TZOFFSETTO:+0100
TZNAME:CET
DTSTART:20271031T010000
END:STANDARD
END:VTIMEZONE
BEGIN:VEVENT
DTSTART;VALUE=DATE:20260628
DTEND;VALUE=DATE:20260629
DTSTAMP:20260422T214251
CREATED:20251218T113707Z
LAST-MODIFIED:20251218T113707Z
UID:27081-1782604800-1782691199@tv1881altdorf.de
SUMMARY:38. Hersbrucker Volkstriathlon 2026
DESCRIPTION:
URL:https://tv1881altdorf.de/event/38-hersbrucker-volkstriathlon-2026
CATEGORIES:Triathlon
END:VEVENT
BEGIN:VEVENT
DTSTART;TZID=Europe/Berlin:20260628T110000
DTEND;TZID=Europe/Berlin:20260628T133000
DTSTAMP:20260422T214251
CREATED:20260322T210129Z
LAST-MODIFIED:20260322T210509Z
UID:28795-1782644400-1782653400@tv1881altdorf.de
SUMMARY:Schüler Coach Pitch Nord (U10) – Altdorf Little Icesharks vs. Fürth Pirates – Homegame in Altdorf
DESCRIPTION:Play Ball – im Sportpark! \nAm Son­ntag\, den 28. Juni ab 11.00 Uhr emp­fan­gen die Alt­dorf Lit­tle Ice­sharks die Fürth Pirates zu einem Dou­ble Head­er – also 2 Spiele hin­tere­inan­der. In der Schüler Coach Pitch Liga wer­den 5 Innings gespielt oder mit max­i­malem Zeitlim­it von 1 Stunde. Eine Tabelle wird bei den Kids nicht geführt. Spaß für alle garantiert – auf und neben dem Platz. \nSpielplan 2026 \nMehr Infos
URL:https://tv1881altdorf.de/event/schler-coach-pitch-nord-u10-altdorf-little-icesharks-vs-frth-pirates-homegame-in-altdorf
LOCATION:Sportpark Altdorf
CATEGORIES:Baseball,Schüler Coach Pitch Nord (U10)
ATTACH;FMTTYPE=image/jpeg:https://tv1881altdorf.de/wp-content/uploads/2026/03/IMG_9280_LR_WEB.jpg
END:VEVENT
END:VCALENDAR