BEGIN:VCALENDAR
VERSION:2.0
PRODID:-//TV 1881 Altdorf e.V. - ECPv6.15.20//NONSGML v1.0//EN
CALSCALE:GREGORIAN
METHOD:PUBLISH
X-WR-CALNAME:TV 1881 Altdorf e.V.
X-ORIGINAL-URL:https://tv1881altdorf.de
X-WR-CALDESC:Veranstaltungen für TV 1881 Altdorf e.V.
REFRESH-INTERVAL;VALUE=DURATION:PT1H
X-Robots-Tag:noindex
X-PUBLISHED-TTL:PT1H
BEGIN:VTIMEZONE
TZID:Europe/Berlin
BEGIN:DAYLIGHT
TZOFFSETFROM:+0100
TZOFFSETTO:+0200
TZNAME:CEST
DTSTART:20250330T010000
END:DAYLIGHT
BEGIN:STANDARD
TZOFFSETFROM:+0200
TZOFFSETTO:+0100
TZNAME:CET
DTSTART:20251026T010000
END:STANDARD
BEGIN:DAYLIGHT
TZOFFSETFROM:+0100
TZOFFSETTO:+0200
TZNAME:CEST
DTSTART:20260329T010000
END:DAYLIGHT
BEGIN:STANDARD
TZOFFSETFROM:+0200
TZOFFSETTO:+0100
TZNAME:CET
DTSTART:20261025T010000
END:STANDARD
BEGIN:DAYLIGHT
TZOFFSETFROM:+0100
TZOFFSETTO:+0200
TZNAME:CEST
DTSTART:20270328T010000
END:DAYLIGHT
BEGIN:STANDARD
TZOFFSETFROM:+0200
TZOFFSETTO:+0100
TZNAME:CET
DTSTART:20271031T010000
END:STANDARD
END:VTIMEZONE
BEGIN:VEVENT
DTSTART;TZID=Europe/Berlin:20260809T140000
DTEND;TZID=Europe/Berlin:20260809T163000
DTSTAMP:20260423T003736
CREATED:20260323T211921Z
LAST-MODIFIED:20260331T170403Z
UID:28892-1786284000-1786293000@tv1881altdorf.de
SUMMARY:Baseball – Game 10 – Altdorf Icesharks vs. Ingolstadt Schanzer 2 – Homegame in Altdorf
DESCRIPTION:Play Ball im Alt­dorf Ice­sharks Ball­park hin­ter der Mit­telschule/Leib­niz-Gym­na­si­um \nAm Sam­stag\, den 9. August ab 14.00 Uhr emp­fan­gen die Alt­dorf Ice­sharks die Ingol­stadt Schanzer.\nIn der Lan­desklasse Base­ball Nord wer­den Sin­glegames über 7 Innings  (oder mit max­i­malem Zeitlim­it von 2\,5 Stun­den) gespielt. \n  \n  \nLinks: \nAlt­dorf Ice­sharks Ballpark \nSpielplan 2026 \nTabelle 2026 \nIce­sharks on Instagram \nIngol­stadt Schanz­er on Instagram \n  \n \n  \n  \n  \n  \n  \n 
URL:https://tv1881altdorf.de/event/baseball-game-10-altdorf-icesharks-vs-ingolstadt-schanzer-2-homegame-in-altdorf
LOCATION:Altdorf Icesharks Ballpark hinter Mittelschule/Leibniz Gymnasium\, Schulstraße\, Altdorf\, Bayern\, 90518\, Deutschland
CATEGORIES:Baseball,Landesklasse Baseball Nord
ATTACH;FMTTYPE=image/jpeg:https://tv1881altdorf.de/wp-content/uploads/2026/03/IMG_4685_LR_WEB.jpg
END:VEVENT
END:VCALENDAR