BEGIN:VCALENDAR
VERSION:2.0
PRODID:-//TV 1881 Altdorf e.V. - ECPv6.15.20//NONSGML v1.0//EN
CALSCALE:GREGORIAN
METHOD:PUBLISH
X-ORIGINAL-URL:https://tv1881altdorf.de
X-WR-CALDESC:Veranstaltungen für TV 1881 Altdorf e.V.
REFRESH-INTERVAL;VALUE=DURATION:PT1H
X-Robots-Tag:noindex
X-PUBLISHED-TTL:PT1H
BEGIN:VTIMEZONE
TZID:Europe/Berlin
BEGIN:DAYLIGHT
TZOFFSETFROM:+0100
TZOFFSETTO:+0200
TZNAME:CEST
DTSTART:20210328T010000
END:DAYLIGHT
BEGIN:STANDARD
TZOFFSETFROM:+0200
TZOFFSETTO:+0100
TZNAME:CET
DTSTART:20211031T010000
END:STANDARD
BEGIN:DAYLIGHT
TZOFFSETFROM:+0100
TZOFFSETTO:+0200
TZNAME:CEST
DTSTART:20220327T010000
END:DAYLIGHT
BEGIN:STANDARD
TZOFFSETFROM:+0200
TZOFFSETTO:+0100
TZNAME:CET
DTSTART:20221030T010000
END:STANDARD
BEGIN:DAYLIGHT
TZOFFSETFROM:+0100
TZOFFSETTO:+0200
TZNAME:CEST
DTSTART:20230326T010000
END:DAYLIGHT
BEGIN:STANDARD
TZOFFSETFROM:+0200
TZOFFSETTO:+0100
TZNAME:CET
DTSTART:20231029T010000
END:STANDARD
END:VTIMEZONE
BEGIN:VEVENT
DTSTART;TZID=Europe/Berlin:20220402T160000
DTEND;TZID=Europe/Berlin:20220402T173000
DTSTAMP:20260425T124911
CREATED:20220128T172019Z
LAST-MODIFIED:20220128T172019Z
UID:5151-1648915200-1648920600@tv1881altdorf.de
SUMMARY:Handball Herren 2 : DJK Erlangen Baiersdorf
DESCRIPTION:
URL:https://tv1881altdorf.de/event/handball-herren-2-djk-erlangen-baiersdorf
CATEGORIES:Herren II
END:VEVENT
BEGIN:VEVENT
DTSTART;TZID=Europe/Berlin:20220402T180000
DTEND;TZID=Europe/Berlin:20220402T193000
DTSTAMP:20260425T124911
CREATED:20220125T220545Z
LAST-MODIFIED:20220128T165404Z
UID:5113-1648922400-1648927800@tv1881altdorf.de
SUMMARY:Handball Damen : HG Eckental
DESCRIPTION:
URL:https://tv1881altdorf.de/event/handball-damen-hg-eckental
CATEGORIES:Damen
END:VEVENT
BEGIN:VEVENT
DTSTART;TZID=Europe/Berlin:20220408T180000
DTEND;TZID=Europe/Berlin:20220408T220000
DTSTAMP:20260425T124911
CREATED:20220217T170124Z
LAST-MODIFIED:20220218T112813Z
UID:5223-1649440800-1649455200@tv1881altdorf.de
SUMMARY:50-jähriges Jubiläum der Leichtathletik-Abteilung
DESCRIPTION:Der „offizielle“ Geburt­stag unser­er Abteilung. Im Landgasthof Weißes Kreuz in Altenthann feiern wir das 50-jährige beste­hen. Diese Feier ist für geladene Organ­isatoren und Funk­tionäre der Abteilung.
URL:https://tv1881altdorf.de/event/50-jaehriges-jubilaeum-der-leichtathletik-abteilung
CATEGORIES:Leichtathletik
END:VEVENT
BEGIN:VEVENT
DTSTART;TZID=Europe/Berlin:20220410T170000
DTEND;TZID=Europe/Berlin:20220410T183000
DTSTAMP:20260425T124911
CREATED:20220125T220801Z
LAST-MODIFIED:20220128T165313Z
UID:5115-1649610000-1649615400@tv1881altdorf.de
SUMMARY:Handball Damen : HSG Pyrbaum
DESCRIPTION:
URL:https://tv1881altdorf.de/event/handball-damen-hsg-pyrbaum
CATEGORIES:Damen
END:VEVENT
BEGIN:VEVENT
DTSTART;TZID=Europe/Berlin:20220416T180000
DTEND;TZID=Europe/Berlin:20220416T193000
DTSTAMP:20260425T124911
CREATED:20220125T220919Z
LAST-MODIFIED:20220128T165256Z
UID:5117-1650132000-1650137400@tv1881altdorf.de
SUMMARY:Handball Damen : SC Eltersdorf
DESCRIPTION:
URL:https://tv1881altdorf.de/event/handball-damen-sc-eltersdorf
CATEGORIES:Damen
END:VEVENT
BEGIN:VEVENT
DTSTART;TZID=Europe/Berlin:20220423T150000
DTEND;TZID=Europe/Berlin:20220423T163000
DTSTAMP:20260425T124911
CREATED:20220128T172119Z
LAST-MODIFIED:20220128T172124Z
UID:5153-1650726000-1650731400@tv1881altdorf.de
SUMMARY:Handball Herren 2 : DJK Erlangen Baiersdorf
DESCRIPTION:
URL:https://tv1881altdorf.de/event/handball-herren-2-djk-erlangen-baiersdorf-2
CATEGORIES:Herren II
END:VEVENT
BEGIN:VEVENT
DTSTART;VALUE=DATE:20220430
DTEND;VALUE=DATE:20220501
DTSTAMP:20260425T124911
CREATED:20220217T172628Z
LAST-MODIFIED:20220411T112724Z
UID:5235-1651276800-1651363199@tv1881altdorf.de
SUMMARY:Kreismeisterschaften Nürnberg-Land
DESCRIPTION:Ort: Röthenbach \nAlter­sklassen: ab U12 (ab 10 Jahre; 2012 Jahrgang) \nAuss­chrei­bung: hier \nZeit­plan: hier
URL:https://tv1881altdorf.de/event/kreismeisterschaften-2022
CATEGORIES:Leichtathletik
END:VEVENT
END:VCALENDAR