BEGIN:VCALENDAR
VERSION:2.0
PRODID:-//TV 1881 Altdorf e.V. - ECPv6.15.20//NONSGML v1.0//EN
CALSCALE:GREGORIAN
METHOD:PUBLISH
X-WR-CALNAME:TV 1881 Altdorf e.V.
X-ORIGINAL-URL:https://tv1881altdorf.de
X-WR-CALDESC:Veranstaltungen für TV 1881 Altdorf e.V.
REFRESH-INTERVAL;VALUE=DURATION:PT1H
X-Robots-Tag:noindex
X-PUBLISHED-TTL:PT1H
BEGIN:VTIMEZONE
TZID:Europe/Berlin
BEGIN:DAYLIGHT
TZOFFSETFROM:+0100
TZOFFSETTO:+0200
TZNAME:CEST
DTSTART:20210328T010000
END:DAYLIGHT
BEGIN:STANDARD
TZOFFSETFROM:+0200
TZOFFSETTO:+0100
TZNAME:CET
DTSTART:20211031T010000
END:STANDARD
BEGIN:DAYLIGHT
TZOFFSETFROM:+0100
TZOFFSETTO:+0200
TZNAME:CEST
DTSTART:20220327T010000
END:DAYLIGHT
BEGIN:STANDARD
TZOFFSETFROM:+0200
TZOFFSETTO:+0100
TZNAME:CET
DTSTART:20221030T010000
END:STANDARD
BEGIN:DAYLIGHT
TZOFFSETFROM:+0100
TZOFFSETTO:+0200
TZNAME:CEST
DTSTART:20230326T010000
END:DAYLIGHT
BEGIN:STANDARD
TZOFFSETFROM:+0200
TZOFFSETTO:+0100
TZNAME:CET
DTSTART:20231029T010000
END:STANDARD
END:VTIMEZONE
BEGIN:VEVENT
DTSTART;TZID=Europe/Berlin:20221203T150000
DTEND;TZID=Europe/Berlin:20221203T170000
DTSTAMP:20260425T013217
CREATED:20221012T142038Z
LAST-MODIFIED:20221012T142038Z
UID:7085-1670079600-1670086800@tv1881altdorf.de
SUMMARY:Damen 2 (H) - TV Altdorf 2 vs. TSV Ansbach II
DESCRIPTION:
URL:https://tv1881altdorf.de/event/damen-2-h-tv-altdorf-2-vs-tsv-ansbach-ii
LOCATION:Dreifachhalle der Mittelschule\, Schulstraße 6\, Altdorf\, 90518
CATEGORIES:Allgemein,Damen II,Heimspiel,Volleyball
END:VEVENT
BEGIN:VEVENT
DTSTART;TZID=Europe/Berlin:20221203T160000
DTEND;TZID=Europe/Berlin:20221203T173000
DTSTAMP:20260425T013217
CREATED:20220831T182335Z
LAST-MODIFIED:20220831T182335Z
UID:6757-1670083200-1670088600@tv1881altdorf.de
SUMMARY:Handball Herren I : HSG SGS Erl./HC Niederlindach
DESCRIPTION:
URL:https://tv1881altdorf.de/event/handball-herren-i-hsg-sgs-erl-hc-niederlindach
LOCATION:Altdorf bei Nürnberg
CATEGORIES:Allgemein,Handball,Herren I
ORGANIZER;CN="Die Handballer":MAILTO:abteilungsleiter@diehandballer.de
END:VEVENT
BEGIN:VEVENT
DTSTART;TZID=Europe/Berlin:20221203T160000
DTEND;TZID=Europe/Berlin:20221203T173000
DTSTAMP:20260425T013217
CREATED:20220831T184929Z
LAST-MODIFIED:20220831T184929Z
UID:6802-1670083200-1670088600@tv1881altdorf.de
SUMMARY:Handball SpVgg Diepersdorf : Herren II
DESCRIPTION:
URL:https://tv1881altdorf.de/event/handball-spvgg-diepersdorf-herren-ii
LOCATION:Diepersdorfer-Hauptstraße 40\, 91227 Diepersdorf
CATEGORIES:Allgemein,Handball,Herren II
ORGANIZER;CN="Die Handballer":MAILTO:abteilungsleiter@diehandballer.de
END:VEVENT
BEGIN:VEVENT
DTSTART;TZID=Europe/Berlin:20221203T180000
DTEND;TZID=Europe/Berlin:20221203T193000
DTSTAMP:20260425T013217
CREATED:20220831T164039Z
LAST-MODIFIED:20220831T164039Z
UID:6668-1670090400-1670095800@tv1881altdorf.de
SUMMARY:Handball Damen : HSG Berching Polanten
DESCRIPTION:
URL:https://tv1881altdorf.de/event/handball-damen-hsg-berching-polanten
LOCATION:Altdorf bei Nürnberg
CATEGORIES:Allgemein,Damen,Handball
ORGANIZER;CN="Die Handballer":MAILTO:abteilungsleiter@diehandballer.de
END:VEVENT
BEGIN:VEVENT
DTSTART;TZID=Europe/Berlin:20221204T120000
DTEND;TZID=Europe/Berlin:20221204T140000
DTSTAMP:20260425T013217
CREATED:20221012T142137Z
LAST-MODIFIED:20221012T142137Z
UID:7087-1670155200-1670162400@tv1881altdorf.de
SUMMARY:Damen 2 (H) - TV Altdorf 2 vs. TV Mömlingen
DESCRIPTION:
URL:https://tv1881altdorf.de/event/damen-2-h-tv-altdorf-2-vs-tv-moemlingen
LOCATION:Dreifachhalle der Mittelschule\, Schulstraße 6\, Altdorf\, 90518
CATEGORIES:Allgemein,Damen II,Heimspiel,Volleyball
END:VEVENT
BEGIN:VEVENT
DTSTART;TZID=Europe/Berlin:20221204T160000
DTEND;TZID=Europe/Berlin:20221204T180000
DTSTAMP:20260425T013217
CREATED:20221012T102109Z
LAST-MODIFIED:20221012T102109Z
UID:7061-1670169600-1670176800@tv1881altdorf.de
SUMMARY:Damen 1 (H) – TV Altdorf vs. TV Planegg-Krailling
DESCRIPTION:
URL:https://tv1881altdorf.de/event/damen-1-h-tv-altdorf-vs-tv-planegg-krailling
LOCATION:Dreifachhalle der Mittelschule\, Schulstraße 6\, Altdorf\, 90518
CATEGORIES:Allgemein,Damen I,Heimspiel,Volleyball
END:VEVENT
BEGIN:VEVENT
DTSTART;TZID=Europe/Berlin:20221210T180000
DTEND;TZID=Europe/Berlin:20221210T193000
DTSTAMP:20260425T013217
CREATED:20220831T183836Z
LAST-MODIFIED:20220831T183836Z
UID:6777-1670695200-1670700600@tv1881altdorf.de
SUMMARY:Handball Herren II : TS Herzogenaurach III
DESCRIPTION:
URL:https://tv1881altdorf.de/event/handball-herren-ii-ts-herzogenaurach-iii
LOCATION:Altdorf bei Nürnberg
CATEGORIES:Allgemein,Handball,Herren II
END:VEVENT
BEGIN:VEVENT
DTSTART;TZID=Europe/Berlin:20221210T190000
DTEND;TZID=Europe/Berlin:20221210T203000
DTSTAMP:20260425T013217
CREATED:20220831T175726Z
LAST-MODIFIED:20220831T183329Z
UID:6725-1670698800-1670704200@tv1881altdorf.de
SUMMARY:Handball TB 03 Roding : Herren I
DESCRIPTION:
URL:https://tv1881altdorf.de/event/handball-tb-03-roding-herren-i
LOCATION:Adolf-Kolping-Straße 16 93426 Roding
CATEGORIES:Allgemein,Handball,Herren I
ORGANIZER;CN="Die Handballer":MAILTO:abteilungsleiter@diehandballer.de
END:VEVENT
BEGIN:VEVENT
DTSTART;TZID=Europe/Berlin:20221217T120000
DTEND;TZID=Europe/Berlin:20221217T140000
DTSTAMP:20260425T013217
CREATED:20221012T142233Z
LAST-MODIFIED:20221012T142233Z
UID:7089-1671278400-1671285600@tv1881altdorf.de
SUMMARY:Damen 2 (H) - TV Altdorf 2 vs. TSV Neutraubling
DESCRIPTION:
URL:https://tv1881altdorf.de/event/damen-2-h-tv-altdorf-2-vs-tsv-neutraubling
LOCATION:Dreifachhalle der Mittelschule\, Schulstraße 6\, Altdorf\, 90518
CATEGORIES:Allgemein,Damen II,Heimspiel,Volleyball
END:VEVENT
BEGIN:VEVENT
DTSTART;TZID=Europe/Berlin:20221217T160000
DTEND;TZID=Europe/Berlin:20221217T180000
DTSTAMP:20260425T013217
CREATED:20221012T102159Z
LAST-MODIFIED:20221012T102159Z
UID:7063-1671292800-1671300000@tv1881altdorf.de
SUMMARY:Damen 1 (H) – TV Altdorf vs. Rote Raben Vilsbiburg II
DESCRIPTION:
URL:https://tv1881altdorf.de/event/damen-1-h-tv-altdorf-vs-rote-raben-vilsbiburg-ii
LOCATION:Dreifachhalle der Mittelschule\, Schulstraße 6\, Altdorf\, 90518
CATEGORIES:Allgemein,Damen I,Heimspiel,Volleyball
END:VEVENT
END:VCALENDAR