BEGIN:VCALENDAR
VERSION:2.0
PRODID:-//TV 1881 Altdorf e.V. - ECPv6.15.20//NONSGML v1.0//EN
CALSCALE:GREGORIAN
METHOD:PUBLISH
X-ORIGINAL-URL:https://tv1881altdorf.de
X-WR-CALDESC:Veranstaltungen für TV 1881 Altdorf e.V.
REFRESH-INTERVAL;VALUE=DURATION:PT1H
X-Robots-Tag:noindex
X-PUBLISHED-TTL:PT1H
BEGIN:VTIMEZONE
TZID:Europe/Berlin
BEGIN:DAYLIGHT
TZOFFSETFROM:+0100
TZOFFSETTO:+0200
TZNAME:CEST
DTSTART:20220327T010000
END:DAYLIGHT
BEGIN:STANDARD
TZOFFSETFROM:+0200
TZOFFSETTO:+0100
TZNAME:CET
DTSTART:20221030T010000
END:STANDARD
BEGIN:DAYLIGHT
TZOFFSETFROM:+0100
TZOFFSETTO:+0200
TZNAME:CEST
DTSTART:20230326T010000
END:DAYLIGHT
BEGIN:STANDARD
TZOFFSETFROM:+0200
TZOFFSETTO:+0100
TZNAME:CET
DTSTART:20231029T010000
END:STANDARD
BEGIN:DAYLIGHT
TZOFFSETFROM:+0100
TZOFFSETTO:+0200
TZNAME:CEST
DTSTART:20240331T010000
END:DAYLIGHT
BEGIN:STANDARD
TZOFFSETFROM:+0200
TZOFFSETTO:+0100
TZNAME:CET
DTSTART:20241027T010000
END:STANDARD
END:VTIMEZONE
BEGIN:VEVENT
DTSTART;TZID=Europe/Berlin:20230114T180000
DTEND;TZID=Europe/Berlin:20230114T193000
DTSTAMP:20260425T002112
CREATED:20220831T164944Z
LAST-MODIFIED:20220831T182825Z
UID:6678-1673719200-1673724600@tv1881altdorf.de
SUMMARY:Handball SG Regensburg : Damen
DESCRIPTION:
URL:https://tv1881altdorf.de/event/handball-sg-regensburg-damen
LOCATION:Alfons-Auer-Straße 24\, 93053 Regensburg
CATEGORIES:Allgemein,Handball,Herren I
ORGANIZER;CN="Die Handballer":MAILTO:abteilungsleiter@diehandballer.de
END:VEVENT
BEGIN:VEVENT
DTSTART;TZID=Europe/Berlin:20230115T170000
DTEND;TZID=Europe/Berlin:20230115T183000
DTSTAMP:20260425T002112
CREATED:20220831T183915Z
LAST-MODIFIED:20220831T183915Z
UID:6779-1673802000-1673807400@tv1881altdorf.de
SUMMARY:Handball Herren II : SV Buckenhofen II
DESCRIPTION:
URL:https://tv1881altdorf.de/event/handball-herren-ii-sv-buckenhofen-ii
LOCATION:Altdorf bei Nürnberg
CATEGORIES:Allgemein,Handball,Herren II
END:VEVENT
BEGIN:VEVENT
DTSTART;TZID=Europe/Berlin:20230121T140000
DTEND;TZID=Europe/Berlin:20230121T180000
DTSTAMP:20260425T002112
CREATED:20221012T143553Z
LAST-MODIFIED:20221012T143553Z
UID:7105-1674309600-1674324000@tv1881altdorf.de
SUMMARY:Damen 4 (H) - TV Altdorf 4 vs. TSV Feucht II & TSV 1860 Weißenburg II
DESCRIPTION:
URL:https://tv1881altdorf.de/event/damen-4-h-tv-altdorf-4-vs-tsv-feucht-ii-tsv-1860-weissenburg-ii
LOCATION:Dreifachhalle der Mittelschule\, Schulstraße 6\, Altdorf\, 90518
CATEGORIES:Allgemein,Damen VI,Heimspiel,Volleyball
END:VEVENT
BEGIN:VEVENT
DTSTART;TZID=Europe/Berlin:20230121T153000
DTEND;TZID=Europe/Berlin:20230121T170000
DTSTAMP:20260425T002112
CREATED:20220831T165142Z
LAST-MODIFIED:20220831T174718Z
UID:6680-1674315000-1674320400@tv1881altdorf.de
SUMMARY:Handball Mintraching/Neutraubling II : Damen
DESCRIPTION:
URL:https://tv1881altdorf.de/event/handball-mintraching-neutraubling-ll-damen
LOCATION:Schmiedgassse 17 93098 Mintraching
CATEGORIES:Allgemein,Damen,Handball
ORGANIZER;CN="Die Handballer":MAILTO:abteilungsleiter@diehandballer.de
END:VEVENT
BEGIN:VEVENT
DTSTART;TZID=Europe/Berlin:20230122T120000
DTEND;TZID=Europe/Berlin:20230122T140000
DTSTAMP:20260425T002112
CREATED:20221012T142357Z
LAST-MODIFIED:20221012T142357Z
UID:7091-1674388800-1674396000@tv1881altdorf.de
SUMMARY:Damen 2 (H) - TV Altdorf 2 vs. TSV Lengfeld
DESCRIPTION:
URL:https://tv1881altdorf.de/event/damen-2-h-tv-altdorf-2-vs-tsv-lengfeld
LOCATION:Dreifachhalle der Mittelschule\, Schulstraße 6\, Altdorf\, 90518
CATEGORIES:Allgemein,Damen II,Heimspiel,Volleyball
END:VEVENT
BEGIN:VEVENT
DTSTART;TZID=Europe/Berlin:20230122T160000
DTEND;TZID=Europe/Berlin:20230122T180000
DTSTAMP:20260425T002112
CREATED:20221012T102308Z
LAST-MODIFIED:20221012T102308Z
UID:7065-1674403200-1674410400@tv1881altdorf.de
SUMMARY:Damen 1 (H) – TV Altdorf vs. SV Karlsruhe-Beiertheim
DESCRIPTION:
URL:https://tv1881altdorf.de/event/damen-1-h-tv-altdorf-vs-sv-karlsruhe-beiertheim
LOCATION:Dreifachhalle der Mittelschule\, Schulstraße 6\, Altdorf\, 90518
CATEGORIES:Allgemein,Damen I,Heimspiel,Volleyball
END:VEVENT
BEGIN:VEVENT
DTSTART;TZID=Europe/Berlin:20230128T160000
DTEND;TZID=Europe/Berlin:20230128T173000
DTSTAMP:20260425T002112
CREATED:20220831T170349Z
LAST-MODIFIED:20220831T170349Z
UID:6698-1674921600-1674927000@tv1881altdorf.de
SUMMARY:Handball HG Eckental : Damen
DESCRIPTION:
URL:https://tv1881altdorf.de/event/handball-hg-eckental-damen-3
LOCATION:Altdorf bei Nürnberg
CATEGORIES:Allgemein,Damen,Handball
ORGANIZER;CN="Die Handballer":MAILTO:abteilungsleiter@diehandballer.de
END:VEVENT
BEGIN:VEVENT
DTSTART;TZID=Europe/Berlin:20230128T180000
DTEND;TZID=Europe/Berlin:20230128T193000
DTSTAMP:20260425T002112
CREATED:20220831T182436Z
LAST-MODIFIED:20220831T182436Z
UID:6760-1674928800-1674934200@tv1881altdorf.de
SUMMARY:Handball Herren I : HG Eckental
DESCRIPTION:
URL:https://tv1881altdorf.de/event/handball-herren-i-hg-eckental
LOCATION:Altdorf bei Nürnberg
CATEGORIES:Allgemein,Handball,Herren I
ORGANIZER;CN="Die Handballer":MAILTO:abteilungsleiter@diehandballer.de
END:VEVENT
BEGIN:VEVENT
DTSTART;VALUE=DATE:20230129
DTEND;VALUE=DATE:20230130
DTSTAMP:20260425T002112
CREATED:20221231T101656Z
LAST-MODIFIED:20230323T065731Z
UID:8164-1674950400-1675036799@tv1881altdorf.de
SUMMARY:Mittelfränkische Crossmeisterschaft in Eckental
DESCRIPTION:Weit­ere Infos: hier
URL:https://tv1881altdorf.de/event/mittelfraenkische-crossmeisterschaft-in-eckental
CATEGORIES:Leichtathletik
END:VEVENT
BEGIN:VEVENT
DTSTART;TZID=Europe/Berlin:20230129T120000
DTEND;TZID=Europe/Berlin:20230129T133000
DTSTAMP:20260425T002112
CREATED:20220831T185052Z
LAST-MODIFIED:20220831T185052Z
UID:6805-1674993600-1674999000@tv1881altdorf.de
SUMMARY:Handball HSG SGS Erl./HC Niederlindach III : Herren II
DESCRIPTION:
URL:https://tv1881altdorf.de/event/handball-hsg-sgs-erl-hc-niederlindach-iii-herren-ii
LOCATION:Schulstraße\, 91093 Heßdorf-Hanberg
CATEGORIES:Allgemein,Handball,Herren II
ORGANIZER;CN="Die Handballer":MAILTO:abteilungsleiter@diehandballer.de
END:VEVENT
END:VCALENDAR