BEGIN:VCALENDAR
VERSION:2.0
PRODID:-//TV 1881 Altdorf e.V. - ECPv6.15.20//NONSGML v1.0//EN
CALSCALE:GREGORIAN
METHOD:PUBLISH
X-ORIGINAL-URL:https://tv1881altdorf.de
X-WR-CALDESC:Veranstaltungen für TV 1881 Altdorf e.V.
REFRESH-INTERVAL;VALUE=DURATION:PT1H
X-Robots-Tag:noindex
X-PUBLISHED-TTL:PT1H
BEGIN:VTIMEZONE
TZID:Europe/Berlin
BEGIN:DAYLIGHT
TZOFFSETFROM:+0100
TZOFFSETTO:+0200
TZNAME:CEST
DTSTART:20220327T010000
END:DAYLIGHT
BEGIN:STANDARD
TZOFFSETFROM:+0200
TZOFFSETTO:+0100
TZNAME:CET
DTSTART:20221030T010000
END:STANDARD
BEGIN:DAYLIGHT
TZOFFSETFROM:+0100
TZOFFSETTO:+0200
TZNAME:CEST
DTSTART:20230326T010000
END:DAYLIGHT
BEGIN:STANDARD
TZOFFSETFROM:+0200
TZOFFSETTO:+0100
TZNAME:CET
DTSTART:20231029T010000
END:STANDARD
BEGIN:DAYLIGHT
TZOFFSETFROM:+0100
TZOFFSETTO:+0200
TZNAME:CEST
DTSTART:20240331T010000
END:DAYLIGHT
BEGIN:STANDARD
TZOFFSETFROM:+0200
TZOFFSETTO:+0100
TZNAME:CET
DTSTART:20241027T010000
END:STANDARD
END:VTIMEZONE
BEGIN:VEVENT
DTSTART;TZID=Europe/Berlin:20230204T120000
DTEND;TZID=Europe/Berlin:20230204T140000
DTSTAMP:20260424T225804
CREATED:20221012T142503Z
LAST-MODIFIED:20221012T142503Z
UID:7093-1675512000-1675519200@tv1881altdorf.de
SUMMARY:Damen 2 (H) - TV Altdorf 2 vs. VG Bamberg
DESCRIPTION:
URL:https://tv1881altdorf.de/event/damen-2-h-tv-altdorf-2-vs-vg-bamberg
LOCATION:Dreifachhalle der Mittelschule\, Schulstraße 6\, Altdorf\, 90518
CATEGORIES:Allgemein,Damen II,Heimspiel,Volleyball
END:VEVENT
BEGIN:VEVENT
DTSTART;TZID=Europe/Berlin:20230204T160000
DTEND;TZID=Europe/Berlin:20230204T173000
DTSTAMP:20260424T225804
CREATED:20220831T165511Z
LAST-MODIFIED:20220831T165511Z
UID:6683-1675526400-1675531800@tv1881altdorf.de
SUMMARY:Handball HV Oberviechtach : Damen
DESCRIPTION:
URL:https://tv1881altdorf.de/event/handball-hv-oberviechtach-damen
LOCATION:Wolfgrubenweg 1 92526 Oberviechtach
CATEGORIES:Allgemein,Damen,Handball
ORGANIZER;CN="Die Handballer":MAILTO:abteilungsleiter@diehandballer.de
END:VEVENT
BEGIN:VEVENT
DTSTART;TZID=Europe/Berlin:20230204T160000
DTEND;TZID=Europe/Berlin:20230204T180000
DTSTAMP:20260424T225804
CREATED:20221012T102358Z
LAST-MODIFIED:20221012T102358Z
UID:7067-1675526400-1675533600@tv1881altdorf.de
SUMMARY:Damen 1 (H) – TV Altdorf vs. SSC Freisen
DESCRIPTION:
URL:https://tv1881altdorf.de/event/damen-1-h-tv-altdorf-vs-ssc-freisen
LOCATION:Dreifachhalle der Mittelschule\, Schulstraße 6\, Altdorf\, 90518
CATEGORIES:Allgemein,Damen I,Heimspiel,Volleyball
END:VEVENT
BEGIN:VEVENT
DTSTART;TZID=Europe/Berlin:20230204T180000
DTEND;TZID=Europe/Berlin:20230204T193000
DTSTAMP:20260424T225804
CREATED:20220831T180221Z
LAST-MODIFIED:20220831T180221Z
UID:6731-1675533600-1675539000@tv1881altdorf.de
SUMMARY:Handball HV Oberviechtach : Herren I
DESCRIPTION:
URL:https://tv1881altdorf.de/event/handball-hv-oberviechtach-herren-i
LOCATION:Wolfgrubenweg 1 92526 Oberviechtach
CATEGORIES:Allgemein,Handball,Herren I
ORGANIZER;CN="Die Handballer":MAILTO:abteilungsleiter@diehandballer.de
END:VEVENT
BEGIN:VEVENT
DTSTART;TZID=Europe/Berlin:20230205T120000
DTEND;TZID=Europe/Berlin:20230205T140000
DTSTAMP:20260424T225804
CREATED:20221012T142622Z
LAST-MODIFIED:20221012T142622Z
UID:7095-1675598400-1675605600@tv1881altdorf.de
SUMMARY:Damen 2 (H) - TV Altdorf 2 vs. TV Erlangen
DESCRIPTION:
URL:https://tv1881altdorf.de/event/damen-2-h-tv-altdorf-2-vs-tv-erlangen
LOCATION:Dreifachhalle der Mittelschule\, Schulstraße 6\, Altdorf\, 90518
CATEGORIES:Allgemein,Damen II,Heimspiel,Volleyball
END:VEVENT
BEGIN:VEVENT
DTSTART;TZID=Europe/Berlin:20230205T160000
DTEND;TZID=Europe/Berlin:20230205T180000
DTSTAMP:20260424T225804
CREATED:20221012T102502Z
LAST-MODIFIED:20221012T102502Z
UID:7069-1675612800-1675620000@tv1881altdorf.de
SUMMARY:Damen 1 (H) – TV Altdorf vs. VCO Dresden
DESCRIPTION:
URL:https://tv1881altdorf.de/event/damen-1-h-tv-altdorf-vs-vco-dresden
LOCATION:Dreifachhalle der Mittelschule\, Schulstraße 6\, Altdorf\, 90518
CATEGORIES:Allgemein,Damen I,Heimspiel,Volleyball
END:VEVENT
BEGIN:VEVENT
DTSTART;TZID=Europe/Berlin:20230212T130000
DTEND;TZID=Europe/Berlin:20230212T143000
DTSTAMP:20260424T225804
CREATED:20220831T184139Z
LAST-MODIFIED:20220831T184139Z
UID:6784-1676206800-1676212200@tv1881altdorf.de
SUMMARY:Handball Herren II : SG Auerbach/Pegnitz II
DESCRIPTION:
URL:https://tv1881altdorf.de/event/handball-herren-ii-sg-auerbach-pegnitz-ii
LOCATION:Altdorf bei Nürnberg
CATEGORIES:Allgemein,Handball,Herren II
END:VEVENT
BEGIN:VEVENT
DTSTART;TZID=Europe/Berlin:20230212T150000
DTEND;TZID=Europe/Berlin:20230212T163000
DTSTAMP:20260424T225804
CREATED:20220831T170458Z
LAST-MODIFIED:20220831T170458Z
UID:6700-1676214000-1676219400@tv1881altdorf.de
SUMMARY:Handball Damen : HC Forchheim
DESCRIPTION:
URL:https://tv1881altdorf.de/event/handball-damen-hc-forchheim
LOCATION:Altdorf bei Nürnberg
CATEGORIES:Allgemein,Damen,Handball
ORGANIZER;CN="Die Handballer":MAILTO:abteilungsleiter@diehandballer.de
END:VEVENT
BEGIN:VEVENT
DTSTART;TZID=Europe/Berlin:20230212T170000
DTEND;TZID=Europe/Berlin:20230212T183000
DTSTAMP:20260424T225804
CREATED:20220831T182559Z
LAST-MODIFIED:20220831T182559Z
UID:6763-1676221200-1676226600@tv1881altdorf.de
SUMMARY:Handball Herren I : HC Forchheim
DESCRIPTION:
URL:https://tv1881altdorf.de/event/handball-herren-i-hc-forchheim
LOCATION:Altdorf bei Nürnberg
CATEGORIES:Allgemein,Handball,Herren I
ORGANIZER;CN="Die Handballer":MAILTO:abteilungsleiter@diehandballer.de
END:VEVENT
BEGIN:VEVENT
DTSTART;TZID=Europe/Berlin:20230218T180000
DTEND;TZID=Europe/Berlin:20230218T200000
DTSTAMP:20260424T225804
CREATED:20221012T102555Z
LAST-MODIFIED:20230130T105448Z
UID:7071-1676743200-1676750400@tv1881altdorf.de
SUMMARY:Damen 1 (H) – TV Altdorf vs. ESA Grimma Volleys
DESCRIPTION:
URL:https://tv1881altdorf.de/event/damen-1-h-tv-altdorf-vs-esa-grimma-volleys
LOCATION:Dreifachhalle der Mittelschule\, Schulstraße 6\, Altdorf\, 90518
CATEGORIES:Allgemein,Damen I,Heimspiel,Volleyball
END:VEVENT
BEGIN:VEVENT
DTSTART;TZID=Europe/Berlin:20230225T180000
DTEND;TZID=Europe/Berlin:20230225T200000
DTSTAMP:20260424T225804
CREATED:20220831T180058Z
LAST-MODIFIED:20230121T135008Z
UID:6728-1677348000-1677355200@tv1881altdorf.de
SUMMARY:Handball HC Hersbruck : Herren I
DESCRIPTION:
URL:https://tv1881altdorf.de/event/handball-hc-hersbruck-herren-i
LOCATION:Happurgerstraße 9\, 91217 Hersbruck
CATEGORIES:Allgemein,Handball,Herren I
ORGANIZER;CN="Die Handballer":MAILTO:abteilungsleiter@diehandballer.de
END:VEVENT
END:VCALENDAR