BEGIN:VCALENDAR
VERSION:2.0
PRODID:-//TV 1881 Altdorf e.V. - ECPv6.15.20//NONSGML v1.0//EN
CALSCALE:GREGORIAN
METHOD:PUBLISH
X-WR-CALNAME:TV 1881 Altdorf e.V.
X-ORIGINAL-URL:https://tv1881altdorf.de
X-WR-CALDESC:Veranstaltungen für TV 1881 Altdorf e.V.
REFRESH-INTERVAL;VALUE=DURATION:PT1H
X-Robots-Tag:noindex
X-PUBLISHED-TTL:PT1H
BEGIN:VTIMEZONE
TZID:Europe/Berlin
BEGIN:DAYLIGHT
TZOFFSETFROM:+0100
TZOFFSETTO:+0200
TZNAME:CEST
DTSTART:20220327T010000
END:DAYLIGHT
BEGIN:STANDARD
TZOFFSETFROM:+0200
TZOFFSETTO:+0100
TZNAME:CET
DTSTART:20221030T010000
END:STANDARD
BEGIN:DAYLIGHT
TZOFFSETFROM:+0100
TZOFFSETTO:+0200
TZNAME:CEST
DTSTART:20230326T010000
END:DAYLIGHT
BEGIN:STANDARD
TZOFFSETFROM:+0200
TZOFFSETTO:+0100
TZNAME:CET
DTSTART:20231029T010000
END:STANDARD
BEGIN:DAYLIGHT
TZOFFSETFROM:+0100
TZOFFSETTO:+0200
TZNAME:CEST
DTSTART:20240331T010000
END:DAYLIGHT
BEGIN:STANDARD
TZOFFSETFROM:+0200
TZOFFSETTO:+0100
TZNAME:CET
DTSTART:20241027T010000
END:STANDARD
END:VTIMEZONE
BEGIN:VEVENT
DTSTART;TZID=Europe/Berlin:20230304T140000
DTEND;TZID=Europe/Berlin:20230304T153000
DTSTAMP:20260424T214527
CREATED:20220831T185304Z
LAST-MODIFIED:20220831T185304Z
UID:6808-1677938400-1677943800@tv1881altdorf.de
SUMMARY:Handball HC Sulzbach Rosenberg III : Herren II
DESCRIPTION:
URL:https://tv1881altdorf.de/event/handball-hc-sulzbach-rosenberg-iii-herren-ii
LOCATION:Dieselstraße 29\, 92237 Sulzbach-Rosenberg
CATEGORIES:Allgemein,Handball,Herren II
ORGANIZER;CN="Die Handballer":MAILTO:abteilungsleiter@diehandballer.de
END:VEVENT
BEGIN:VEVENT
DTSTART;TZID=Europe/Berlin:20230304T180000
DTEND;TZID=Europe/Berlin:20230304T193000
DTSTAMP:20260424T214527
CREATED:20220831T165650Z
LAST-MODIFIED:20220831T165650Z
UID:6686-1677952800-1677958200@tv1881altdorf.de
SUMMARY:Handball HSG Pyrbaum/Seligenporten : Damen
DESCRIPTION:
URL:https://tv1881altdorf.de/event/handball-hsg-pyrbaum-seligenporten-damen
LOCATION:Schulstraße 10 90602 Pyrbaum
CATEGORIES:Allgemein,Damen,Handball
ORGANIZER;CN="Die Handballer":MAILTO:abteilungsleiter@diehandballer.de
END:VEVENT
BEGIN:VEVENT
DTSTART;TZID=Europe/Berlin:20230304T190000
DTEND;TZID=Europe/Berlin:20230304T203000
DTSTAMP:20260424T214527
CREATED:20220831T180655Z
LAST-MODIFIED:20220831T180655Z
UID:6733-1677956400-1677961800@tv1881altdorf.de
SUMMARY:Handball HG Amberg : Herren I
DESCRIPTION:
URL:https://tv1881altdorf.de/event/handball-hg-amberg-herren-i
LOCATION:Krumbacherstraße 2a\, 9224 Amberg
CATEGORIES:Allgemein,Handball,Herren I
ORGANIZER;CN="Die Handballer":MAILTO:abteilungsleiter@diehandballer.de
END:VEVENT
BEGIN:VEVENT
DTSTART;VALUE=DATE:20230311
DTEND;VALUE=DATE:20230312
DTSTAMP:20260424T214527
CREATED:20230224T105032Z
LAST-MODIFIED:20230323T065746Z
UID:8616-1678492800-1678579199@tv1881altdorf.de
SUMMARY:6. Lauf der Regensburg WLS 22/23
DESCRIPTION:
URL:https://tv1881altdorf.de/event/6-lauf-der-regensburg-wls-22-23
CATEGORIES:Orientierungslauf
END:VEVENT
BEGIN:VEVENT
DTSTART;TZID=Europe/Berlin:20230311T140000
DTEND;TZID=Europe/Berlin:20230311T153000
DTSTAMP:20260424T214527
CREATED:20220831T184244Z
LAST-MODIFIED:20220831T184244Z
UID:6786-1678543200-1678548600@tv1881altdorf.de
SUMMARY:Handball Herren II : SC Uttenreuth
DESCRIPTION:
URL:https://tv1881altdorf.de/event/handball-herren-ii-sc-uttenreuth
LOCATION:Altdorf bei Nürnberg
CATEGORIES:Allgemein,Handball,Herren II
END:VEVENT
BEGIN:VEVENT
DTSTART;TZID=Europe/Berlin:20230311T160000
DTEND;TZID=Europe/Berlin:20230311T173000
DTSTAMP:20260424T214527
CREATED:20220831T170553Z
LAST-MODIFIED:20220831T170553Z
UID:6702-1678550400-1678555800@tv1881altdorf.de
SUMMARY:Handball Damen : ESV 27 Regensburg III
DESCRIPTION:
URL:https://tv1881altdorf.de/event/handball-damen-esv-27-regensburg-iii
LOCATION:Altdorf bei Nürnberg
CATEGORIES:Allgemein,Damen,Handball
ORGANIZER;CN="Die Handballer":MAILTO:abteilungsleiter@diehandballer.de
END:VEVENT
BEGIN:VEVENT
DTSTART;TZID=Europe/Berlin:20230311T180000
DTEND;TZID=Europe/Berlin:20230311T193000
DTSTAMP:20260424T214527
CREATED:20220831T182431Z
LAST-MODIFIED:20220831T182431Z
UID:6758-1678557600-1678563000@tv1881altdorf.de
SUMMARY:Handball Herren I : ESV 27 Regensburg
DESCRIPTION:
URL:https://tv1881altdorf.de/event/handball-herren-i-esv-27-regensburg
LOCATION:Altdorf bei Nürnberg
CATEGORIES:Allgemein,Handball,Herren I
END:VEVENT
BEGIN:VEVENT
DTSTART;TZID=Europe/Berlin:20230318T150000
DTEND;TZID=Europe/Berlin:20230318T170000
DTSTAMP:20260424T214527
CREATED:20221012T142821Z
LAST-MODIFIED:20221012T142821Z
UID:7097-1679151600-1679158800@tv1881altdorf.de
SUMMARY:Damen 2 (H) - TV Altdorf 2 vs. TV/DJK Hammelburg
DESCRIPTION:
URL:https://tv1881altdorf.de/event/damen-2-h-tv-altdorf-2-vs-tv-djk-hammelburg
LOCATION:Dreifachhalle der Mittelschule\, Schulstraße 6\, Altdorf\, 90518
CATEGORIES:Allgemein,Damen II,Heimspiel,Volleyball
END:VEVENT
BEGIN:VEVENT
DTSTART;TZID=Europe/Berlin:20230318T171500
DTEND;TZID=Europe/Berlin:20230318T183000
DTSTAMP:20260424T214527
CREATED:20220831T165856Z
LAST-MODIFIED:20220831T165856Z
UID:6689-1679159700-1679164200@tv1881altdorf.de
SUMMARY:Handball Nabburg/Schwarzenfeld : Damen
DESCRIPTION:
URL:https://tv1881altdorf.de/event/handball-nabburg-schwarzenfeld-damen
LOCATION:Nabburger Straße 50 92521 Schwarzenfeld
CATEGORIES:Allgemein,Damen,Handball
ORGANIZER;CN="Die Handballer":MAILTO:abteilungsleiter@diehandballer.de
END:VEVENT
BEGIN:VEVENT
DTSTART;TZID=Europe/Berlin:20230318T190000
DTEND;TZID=Europe/Berlin:20230318T210000
DTSTAMP:20260424T214527
CREATED:20221012T102700Z
LAST-MODIFIED:20221012T102700Z
UID:7074-1679166000-1679173200@tv1881altdorf.de
SUMMARY:Damen 1 (H) – TV Altdorf vs. TSV Unterhaching
DESCRIPTION:
URL:https://tv1881altdorf.de/event/damen-1-h-tv-altdorf-vs-tsv-unterhaching
LOCATION:Dreifachhalle der Mittelschule\, Schulstraße 6\, Altdorf\, 90518
CATEGORIES:Allgemein,Damen I,Heimspiel,Volleyball
END:VEVENT
BEGIN:VEVENT
DTSTART;TZID=Europe/Berlin:20230318T200000
DTEND;TZID=Europe/Berlin:20230318T213000
DTSTAMP:20260424T214527
CREATED:20220831T180902Z
LAST-MODIFIED:20220831T180902Z
UID:6736-1679169600-1679175000@tv1881altdorf.de
SUMMARY:Handball TV 1861 Erlangen-Bruck III : Herren I
DESCRIPTION:
URL:https://tv1881altdorf.de/event/handball-tv-1861-erlangen-bruck-iii-herren-i
LOCATION:Emmy-Noether-Halle\, Noether Straße 49 C\, Erlangen\, 91058
CATEGORIES:Allgemein,Handball,Herren I
ORGANIZER;CN="Die Handballer":MAILTO:abteilungsleiter@diehandballer.de
END:VEVENT
BEGIN:VEVENT
DTSTART;TZID=Europe/Berlin:20230319T152000
DTEND;TZID=Europe/Berlin:20230319T170000
DTSTAMP:20260424T214527
CREATED:20220831T185450Z
LAST-MODIFIED:20220831T185450Z
UID:6813-1679239200-1679245200@tv1881altdorf.de
SUMMARY:Handball HC Forchheim III : Herren II
DESCRIPTION:
URL:https://tv1881altdorf.de/event/handball-hc-forchheim-iii-herren-ii
LOCATION:Kaiser-Heinrich-Straße 42\, 91301 Forchheim
CATEGORIES:Allgemein,Handball,Herren II
ORGANIZER;CN="Die Handballer":MAILTO:abteilungsleiter@diehandballer.de
END:VEVENT
BEGIN:VEVENT
DTSTART;TZID=Europe/Berlin:20230325T140000
DTEND;TZID=Europe/Berlin:20230325T153000
DTSTAMP:20260424T214527
CREATED:20220831T184553Z
LAST-MODIFIED:20220831T184553Z
UID:6791-1679752800-1679758200@tv1881altdorf.de
SUMMARY:Handball Herren II : SpVgg Diepersdorf
DESCRIPTION:
URL:https://tv1881altdorf.de/event/handball-herren-ii-spvgg-diepersdorf
LOCATION:Altdorf bei Nürnberg
CATEGORIES:Allgemein,Handball,Herren II
END:VEVENT
BEGIN:VEVENT
DTSTART;TZID=Europe/Berlin:20230325T160000
DTEND;TZID=Europe/Berlin:20230325T173000
DTSTAMP:20260424T214527
CREATED:20220831T182112Z
LAST-MODIFIED:20220831T182112Z
UID:6752-1679760000-1679765400@tv1881altdorf.de
SUMMARY:Handball Herren I : TS Herzogenaurach
DESCRIPTION:
URL:https://tv1881altdorf.de/event/handball-herren-i-ts-herzogenaurach
LOCATION:Altdorf bei Nürnberg
CATEGORIES:Allgemein,Handball,Herren I
END:VEVENT
BEGIN:VEVENT
DTSTART;TZID=Europe/Berlin:20230325T180000
DTEND;TZID=Europe/Berlin:20230325T193000
DTSTAMP:20260424T214527
CREATED:20220831T170649Z
LAST-MODIFIED:20220831T174154Z
UID:6704-1679767200-1679772600@tv1881altdorf.de
SUMMARY:Handball Damen : TS Herzogenaurach II
DESCRIPTION:
URL:https://tv1881altdorf.de/event/handball-damen-ts-herzogenaurach-ii
LOCATION:Altdorf bei Nürnberg
CATEGORIES:Allgemein,Damen,Handball
ORGANIZER;CN="Die Handballer":MAILTO:abteilungsleiter@diehandballer.de
END:VEVENT
END:VCALENDAR