BEGIN:VCALENDAR
VERSION:2.0
PRODID:-//TV 1881 Altdorf e.V. - ECPv6.15.20//NONSGML v1.0//EN
CALSCALE:GREGORIAN
METHOD:PUBLISH
X-WR-CALNAME:TV 1881 Altdorf e.V.
X-ORIGINAL-URL:https://tv1881altdorf.de
X-WR-CALDESC:Veranstaltungen für TV 1881 Altdorf e.V.
REFRESH-INTERVAL;VALUE=DURATION:PT1H
X-Robots-Tag:noindex
X-PUBLISHED-TTL:PT1H
BEGIN:VTIMEZONE
TZID:Europe/Berlin
BEGIN:DAYLIGHT
TZOFFSETFROM:+0100
TZOFFSETTO:+0200
TZNAME:CEST
DTSTART:20220327T010000
END:DAYLIGHT
BEGIN:STANDARD
TZOFFSETFROM:+0200
TZOFFSETTO:+0100
TZNAME:CET
DTSTART:20221030T010000
END:STANDARD
BEGIN:DAYLIGHT
TZOFFSETFROM:+0100
TZOFFSETTO:+0200
TZNAME:CEST
DTSTART:20230326T010000
END:DAYLIGHT
BEGIN:STANDARD
TZOFFSETFROM:+0200
TZOFFSETTO:+0100
TZNAME:CET
DTSTART:20231029T010000
END:STANDARD
BEGIN:DAYLIGHT
TZOFFSETFROM:+0100
TZOFFSETTO:+0200
TZNAME:CEST
DTSTART:20240331T010000
END:DAYLIGHT
BEGIN:STANDARD
TZOFFSETFROM:+0200
TZOFFSETTO:+0100
TZNAME:CET
DTSTART:20241027T010000
END:STANDARD
END:VTIMEZONE
BEGIN:VEVENT
DTSTART;VALUE=DATE:20230401
DTEND;VALUE=DATE:20230402
DTSTAMP:20260424T203300
CREATED:20230323T070919Z
LAST-MODIFIED:20230323T071023Z
UID:8893-1680307200-1680393599@tv1881altdorf.de
SUMMARY:2. OL-Trainingslauf Mittelfranken
DESCRIPTION:Weit­ere Infor­ma­tio­nen fol­gen noch.
URL:https://tv1881altdorf.de/event/2-ol-trainingslauf-mittelfranken-2023
LOCATION:Obermembach
CATEGORIES:Orientierungslauf
END:VEVENT
BEGIN:VEVENT
DTSTART;TZID=Europe/Berlin:20230403T083000
DTEND;TZID=Europe/Berlin:20230406T160000
DTSTAMP:20260424T203300
CREATED:20230317T091125Z
LAST-MODIFIED:20230317T091359Z
UID:8793-1680510600-1680796800@tv1881altdorf.de
SUMMARY:Osterferien Sportcamp
DESCRIPTION:Ihr habt Lust auf Action\, neue Sportarten und wollt neue Fre­unde ken­nen­ler­nen? Dann hat der TV 1881 Alt­dorf genau das Richtige für euch. In den Ferien bieten wir ein abteilungsüber­greifend­es Ferien­pro­gramm für euch an. Dabei kön­nt ihr ver­schiedene Sportarten ken­nen­ler­nen und aus­pro­bieren\, spie­len und jede Menge Spaß erleben. Angeleit­et werdet ihr dabei von den qual­i­fizierten Fachübungsleit­ern der jew­eili­gen Abteilung.\n\nAnmel­dung: https://tv1881altdorf.de/kurse/osterferien-sportcamp-2023
URL:https://tv1881altdorf.de/event/osterferien-sportcamp
LOCATION:TV Sportgelände\, Heumannstraße\, 5A\, Altdorf\, Bayern\, 90518\, Deutschland
CATEGORIES:Allgemein,Kiss,Öffentlich
END:VEVENT
BEGIN:VEVENT
DTSTART;TZID=Europe/Berlin:20230415T150000
DTEND;TZID=Europe/Berlin:20230415T173000
DTSTAMP:20260424T203300
CREATED:20220831T170028Z
LAST-MODIFIED:20220831T173943Z
UID:6692-1681570800-1681579800@tv1881altdorf.de
SUMMARY:Handball ASV 1863 Cham : Damen
DESCRIPTION:
URL:https://tv1881altdorf.de/event/handball-asv-1863-cham-damen
LOCATION:Dr. Muggenthalerstraße 32 93413 Cham
CATEGORIES:Allgemein,Damen,Handball
ORGANIZER;CN="Die Handballer":MAILTO:abteilungsleiter@diehandballer.de
END:VEVENT
BEGIN:VEVENT
DTSTART;TZID=Europe/Berlin:20230415T160000
DTEND;TZID=Europe/Berlin:20230415T173000
DTSTAMP:20260424T203300
CREATED:20220831T185112Z
LAST-MODIFIED:20220911T202946Z
UID:6806-1681574400-1681579800@tv1881altdorf.de
SUMMARY:Handball TS Herzogenaurach III : Herren II
DESCRIPTION:
URL:https://tv1881altdorf.de/event/handball-ts-herzogenaurach-iii-herren-ii
LOCATION:Burgstaller Weg 20\, 91074 Herzogenaurach
CATEGORIES:Allgemein,Handball,Herren II
END:VEVENT
BEGIN:VEVENT
DTSTART;TZID=Europe/Berlin:20230415T180000
DTEND;TZID=Europe/Berlin:20230415T193000
DTSTAMP:20260424T203300
CREATED:20220831T181134Z
LAST-MODIFIED:20220831T181134Z
UID:6738-1681581600-1681587000@tv1881altdorf.de
SUMMARY:Handball SG Auerbach/Pegnitz : Herren I
DESCRIPTION:
URL:https://tv1881altdorf.de/event/handball-sg-auerbach-pegnitz-herren-i
LOCATION:Place-de-Laneuveville\, 91275 Auerbach
CATEGORIES:Allgemein,Handball,Herren I
ORGANIZER;CN="Die Handballer":MAILTO:abteilungsleiter@diehandballer.de
END:VEVENT
BEGIN:VEVENT
DTSTART;TZID=Europe/Berlin:20230415T190000
DTEND;TZID=Europe/Berlin:20230415T210000
DTSTAMP:20260424T203300
CREATED:20221012T102752Z
LAST-MODIFIED:20221012T102752Z
UID:7076-1681585200-1681592400@tv1881altdorf.de
SUMMARY:Damen 1 (H) – TV Altdorf vs. TG Bad Soden
DESCRIPTION:
URL:https://tv1881altdorf.de/event/damen-1-h-tv-altdorf-vs-tg-bad-soden
LOCATION:Dreifachhalle der Mittelschule\, Schulstraße 6\, Altdorf\, 90518
CATEGORIES:Allgemein,Damen I,Heimspiel,Volleyball
END:VEVENT
BEGIN:VEVENT
DTSTART;VALUE=DATE:20230422
DTEND;VALUE=DATE:20230423
DTSTAMP:20260424T203300
CREATED:20230323T071518Z
LAST-MODIFIED:20230323T071643Z
UID:8903-1682121600-1682207999@tv1881altdorf.de
SUMMARY:1. Lauf zur ROLT
DESCRIPTION:Weit­ere Infor­ma­tio­nen fol­gen noch.
URL:https://tv1881altdorf.de/event/1-lauf-rolt-2023
LOCATION:Universität Regensburg
CATEGORIES:Orientierungslauf
END:VEVENT
BEGIN:VEVENT
DTSTART;VALUE=DATE:20230422
DTEND;VALUE=DATE:20230423
DTSTAMP:20260424T203300
CREATED:20230323T073245Z
LAST-MODIFIED:20230323T073438Z
UID:8927-1682121600-1682207999@tv1881altdorf.de
SUMMARY:Kreismeisterschaften Nürnberg-Land
DESCRIPTION:Ort: Röthenbach \nAlter­sklassen: ab U12 (ab 10 Jahre; 2013 Jahrgang) \nAuss­chrei­bung: hier \nZeit­plan: hier
URL:https://tv1881altdorf.de/event/kreismeisterschaften-2023
CATEGORIES:Leichtathletik
END:VEVENT
BEGIN:VEVENT
DTSTART;TZID=Europe/Berlin:20230422T120000
DTEND;TZID=Europe/Berlin:20230422T150000
DTSTAMP:20260424T203300
CREATED:20230418T124733Z
LAST-MODIFIED:20230418T124819Z
UID:9317-1682164800-1682175600@tv1881altdorf.de
SUMMARY:Eröffnung Bewegungspark
DESCRIPTION:
URL:https://tv1881altdorf.de/event/eroeffnung-bewegungspark
LOCATION:TV Sportgelände\, Heumannstraße\, 5A\, Altdorf\, Bayern\, 90518\, Deutschland
CATEGORIES:Allgemein,Öffentlich
END:VEVENT
BEGIN:VEVENT
DTSTART;TZID=Europe/Berlin:20230422T180000
DTEND;TZID=Europe/Berlin:20230422T193000
DTSTAMP:20260424T203300
CREATED:20220831T170155Z
LAST-MODIFIED:20230418T095511Z
UID:6695-1682186400-1682191800@tv1881altdorf.de
SUMMARY:Handball HSG Berching/Polanten : Damen
DESCRIPTION:
URL:https://tv1881altdorf.de/event/handball-hsg-berching-polanten-damen
LOCATION:Schlesierstraße 19 92334 Beching
CATEGORIES:Allgemein,Handball,Herren I
ORGANIZER;CN="Die Handballer":MAILTO:abteilungsleiter@diehandballer.de
END:VEVENT
BEGIN:VEVENT
DTSTART;TZID=Europe/Berlin:20230423T180000
DTEND;TZID=Europe/Berlin:20230423T193000
DTSTAMP:20260424T203300
CREATED:20220831T181352Z
LAST-MODIFIED:20220831T181352Z
UID:6741-1682272800-1682278200@tv1881altdorf.de
SUMMARY:Handball HSG SGS Erl./HC Niederlindach : Herren I
DESCRIPTION:
URL:https://tv1881altdorf.de/event/handball-hsg-sgs-erl-hc-niederlindach-herren-i
LOCATION:Schulstraße\, 91093 Heßdorf-Hanberg
CATEGORIES:Allgemein,Handball,Herren I
ORGANIZER;CN="Die Handballer":MAILTO:abteilungsleiter@diehandballer.de
END:VEVENT
BEGIN:VEVENT
DTSTART;VALUE=DATE:20230429
DTEND;VALUE=DATE:20230430
DTSTAMP:20260424T203300
CREATED:20230224T105208Z
LAST-MODIFIED:20230323T065840Z
UID:8618-1682726400-1682812799@tv1881altdorf.de
SUMMARY:Deutsche Meisterschaft Sprint-OL
DESCRIPTION:
URL:https://tv1881altdorf.de/event/deutsche-meisterschaft-sprint-ol-in-zittau
LOCATION:Zittau
CATEGORIES:Orientierungslauf
END:VEVENT
BEGIN:VEVENT
DTSTART;TZID=Europe/Berlin:20230429T160000
DTEND;TZID=Europe/Berlin:20230429T173000
DTSTAMP:20260424T203300
CREATED:20220831T170750Z
LAST-MODIFIED:20220831T171003Z
UID:6706-1682784000-1682789400@tv1881altdorf.de
SUMMARY:Handball Damen : SG Regensburg
DESCRIPTION:
URL:https://tv1881altdorf.de/event/handball-damen-sg-regensburg
LOCATION:Altdorf bei Nürnberg
CATEGORIES:Allgemein,Damen,Handball
ORGANIZER;CN="Die Handballer":MAILTO:abteilungsleiter@diehandballer.de
END:VEVENT
BEGIN:VEVENT
DTSTART;TZID=Europe/Berlin:20230429T180000
DTEND;TZID=Europe/Berlin:20230429T193000
DTSTAMP:20260424T203300
CREATED:20220831T181958Z
LAST-MODIFIED:20220831T182259Z
UID:6747-1682791200-1682796600@tv1881altdorf.de
SUMMARY:Handball Herren I : TB 03 Roding
DESCRIPTION:
URL:https://tv1881altdorf.de/event/handball-herren-i-tb-03-roding
LOCATION:Altdorf bei Nürnberg
CATEGORIES:Allgemein,Handball,Herren I
END:VEVENT
BEGIN:VEVENT
DTSTART;VALUE=DATE:20230430
DTEND;VALUE=DATE:20230501
DTSTAMP:20260424T203300
CREATED:20230224T105637Z
LAST-MODIFIED:20230323T065834Z
UID:8624-1682812800-1682899199@tv1881altdorf.de
SUMMARY:Bundesranglistenlauf Lang-OL
DESCRIPTION:
URL:https://tv1881altdorf.de/event/bundesranglistenlauf-lang-ol
LOCATION:Zittau
CATEGORIES:Orientierungslauf
END:VEVENT
END:VCALENDAR