BEGIN:VCALENDAR
VERSION:2.0
PRODID:-//TV 1881 Altdorf e.V. - ECPv6.15.20//NONSGML v1.0//EN
CALSCALE:GREGORIAN
METHOD:PUBLISH
X-WR-CALNAME:TV 1881 Altdorf e.V.
X-ORIGINAL-URL:https://tv1881altdorf.de
X-WR-CALDESC:Veranstaltungen für TV 1881 Altdorf e.V.
REFRESH-INTERVAL;VALUE=DURATION:PT1H
X-Robots-Tag:noindex
X-PUBLISHED-TTL:PT1H
BEGIN:VTIMEZONE
TZID:Europe/Berlin
BEGIN:DAYLIGHT
TZOFFSETFROM:+0100
TZOFFSETTO:+0200
TZNAME:CEST
DTSTART:20220327T010000
END:DAYLIGHT
BEGIN:STANDARD
TZOFFSETFROM:+0200
TZOFFSETTO:+0100
TZNAME:CET
DTSTART:20221030T010000
END:STANDARD
BEGIN:DAYLIGHT
TZOFFSETFROM:+0100
TZOFFSETTO:+0200
TZNAME:CEST
DTSTART:20230326T010000
END:DAYLIGHT
BEGIN:STANDARD
TZOFFSETFROM:+0200
TZOFFSETTO:+0100
TZNAME:CET
DTSTART:20231029T010000
END:STANDARD
BEGIN:DAYLIGHT
TZOFFSETFROM:+0100
TZOFFSETTO:+0200
TZNAME:CEST
DTSTART:20240331T010000
END:DAYLIGHT
BEGIN:STANDARD
TZOFFSETFROM:+0200
TZOFFSETTO:+0100
TZNAME:CET
DTSTART:20241027T010000
END:STANDARD
END:VTIMEZONE
BEGIN:VEVENT
DTSTART;TZID=Europe/Berlin:20230908T190000
DTEND;TZID=Europe/Berlin:20230908T210000
DTSTAMP:20260424T135402
CREATED:20230625T171523Z
LAST-MODIFIED:20230908T023505Z
UID:10264-1694199600-1694206800@tv1881altdorf.de
SUMMARY:Beachhandball - Beachplatz
DESCRIPTION:
URL:https://tv1881altdorf.de/event/beachhandball-beachplatz-6
CATEGORIES:Handball
END:VEVENT
BEGIN:VEVENT
DTSTART;VALUE=DATE:20230909
DTEND;VALUE=DATE:20230910
DTSTAMP:20260424T135402
CREATED:20230323T072016Z
LAST-MODIFIED:20230323T072050Z
UID:8916-1694217600-1694303999@tv1881altdorf.de
SUMMARY:5. Lauf zur ROLT
DESCRIPTION:Weit­ere Infor­ma­tio­nen fol­gen noch.
URL:https://tv1881altdorf.de/event/5-lauf-rolt-2023
LOCATION:Raffa
CATEGORIES:Orientierungslauf
END:VEVENT
BEGIN:VEVENT
DTSTART;VALUE=DATE:20230909
DTEND;VALUE=DATE:20230910
DTSTAMP:20260424T135402
CREATED:20230623T145455Z
LAST-MODIFIED:20230909T025006Z
UID:10229-1694217600-1694303999@tv1881altdorf.de
SUMMARY:Saisoneröffnung - Handball
DESCRIPTION:Vor­mit­tags — Kinder und Jugendliche\nNach­mit­tags — Train­ingsspiele der Vollmannschaften\nAbend — Grillen am Festzelt
URL:https://tv1881altdorf.de/event/saisoneroeffnung
CATEGORIES:Handball
END:VEVENT
BEGIN:VEVENT
DTSTART;VALUE=DATE:20230916
DTEND;VALUE=DATE:20230917
DTSTAMP:20260424T135402
CREATED:20230323T071110Z
LAST-MODIFIED:20230323T071204Z
UID:8896-1694822400-1694908799@tv1881altdorf.de
SUMMARY:4. OL-Trainingslauf Mittelfranken
DESCRIPTION:Weit­ere Infor­ma­tio­nen fol­gen noch.
URL:https://tv1881altdorf.de/event/4-ol-trainingslauf-mittelfranken-2023
LOCATION:Adelsdorf Neuhaus
CATEGORIES:Orientierungslauf
END:VEVENT
BEGIN:VEVENT
DTSTART;TZID=Europe/Berlin:20230917T143000
DTEND;TZID=Europe/Berlin:20230917T160000
DTSTAMP:20260424T135402
CREATED:20230816T210012Z
LAST-MODIFIED:20230917T045006Z
UID:11323-1694961000-1694966400@tv1881altdorf.de
SUMMARY:Bezirksoberliga Frauen TV 1881 Altdorf vs SG Regensburg (1)
DESCRIPTION:Bezirk­soberli­ga Frauen\nBegeg­nungs-Nr: 1\nHeim: TV 1881 Altdorf\nGast: SG Regensburg\nHalle: Alt­dorf\, Schul­turn­halle Grund­schule (neu) (240000)\nAdresse: Hagen­hausen­er Str. 5\, 90518 Altdorf
URL:https://tv1881altdorf.de/event/bezirksoberliga-frauen-tv-1881-altdorf-vs-sg-regensburg-1
LOCATION:Altdorf\, Schulturnhalle Grundschule (neu) (240000): Hagenhausener Str. 5\, 90518 Altdorf
CATEGORIES:Handball
END:VEVENT
BEGIN:VEVENT
DTSTART;VALUE=DATE:20230923
DTEND;VALUE=DATE:20230924
DTSTAMP:20260424T135402
CREATED:20230810T055847Z
LAST-MODIFIED:20230810T060302Z
UID:11264-1695427200-1695513599@tv1881altdorf.de
SUMMARY:Deutsche Meisterschaft Handball - Alt Herren Berlin / Rudow
DESCRIPTION:Am Sam­stag\, den 23.09 geht es für unsere AH nach Berlin auf die Deutsche Meis­ter­schaft. Unsere Oldies trainieren bere­its fleißig und sind hoch motiviert. \nVor eini­gen Jahren war sog­ar der  Titel drin\, mal sehen was unsere Män­ner dieses Jahr in der Haupt­stadt ergat­tern können. \nMitreisende und laut­starke Fans sind gerne gesehen!
URL:https://tv1881altdorf.de/event/deutsche-meisterschaft-handball-alt-herren
LOCATION:Elfriede Kuhr Straße  12357 Berlin
CATEGORIES:Allgemein,Alte Herren,Handball
ATTACH;FMTTYPE=image/jpeg:https://tv1881altdorf.de/wp-content/uploads/2023/08/IMG_4781.jpeg
ORGANIZER;CN="Die Handballer":MAILTO:abteilungsleiter@diehandballer.de
END:VEVENT
BEGIN:VEVENT
DTSTART;TZID=Europe/Berlin:20230930T143000
DTEND;TZID=Europe/Berlin:20230930T163000
DTSTAMP:20260424T135402
CREATED:20230919T112049Z
LAST-MODIFIED:20230920T121403Z
UID:11734-1696084200-1696091400@tv1881altdorf.de
SUMMARY:Volleyball (H) - TV Altdorf II vs. TV Unterdürrbach
DESCRIPTION:
URL:https://tv1881altdorf.de/event/damen-2-h-tv-altdorf-ii-vs-tv-unterduerrbach
LOCATION:Dreifachhalle der Mittelschule\, Schulstraße 6\, Altdorf\, 90518
CATEGORIES:Damen II,Heimspiel,Volleyball
END:VEVENT
BEGIN:VEVENT
DTSTART;TZID=Europe/Berlin:20230930T150000
DTEND;TZID=Europe/Berlin:20230930T190000
DTSTAMP:20260424T135402
CREATED:20231001T201543Z
LAST-MODIFIED:20231001T213110Z
UID:12072-1696086000-1696100400@tv1881altdorf.de
SUMMARY:Tennis Damen Nordliga 2  gg TC Neunkirchen Brand II
DESCRIPTION:Halle House of Sports Eckental
URL:https://tv1881altdorf.de/event/d-tc-neunkirchen-brand-ii
CATEGORIES:Damen,Tennis
END:VEVENT
BEGIN:VEVENT
DTSTART;TZID=Europe/Berlin:20230930T170000
DTEND;TZID=Europe/Berlin:20230930T210000
DTSTAMP:20260424T135402
CREATED:20230922T134552Z
LAST-MODIFIED:20231001T212612Z
UID:11849-1696093200-1696107600@tv1881altdorf.de
SUMMARY:Tennis H40_2 Nordliga 2 gg TSV Ochenbruck II
DESCRIPTION:Halle TSV Altenfurt
URL:https://tv1881altdorf.de/event/h40_2-tsv-ochenbruck-ii
CATEGORIES:Tennis
END:VEVENT
BEGIN:VEVENT
DTSTART;TZID=Europe/Berlin:20230930T180000
DTEND;TZID=Europe/Berlin:20230930T200000
DTSTAMP:20260424T135402
CREATED:20230919T112938Z
LAST-MODIFIED:20230920T121349Z
UID:11736-1696096800-1696104000@tv1881altdorf.de
SUMMARY:Volleyball (H) - TV SUSPA Altdorf vs. DJK Sportbund München-Ost
DESCRIPTION:Tick­ets: \n\n8\,50€ Erwach­sene (inkl. 1€ Verzehrgutschein)\n5\,00€ Ermäßigt (inkl. 1€ Verzehrgutschein)\n\nLivestream: https://www.sport1extra.de/en-int/page/2bundesliga-frauen-sud \nSpielplan: https://www.volleyball-bundesliga.de/cms/home/2_bundesliga_frauen/2_bundesliga_frauen_sued/tabellespielplan/spielplan.xhtml
URL:https://tv1881altdorf.de/event/damen-1-h-tv-suspa-altdorf-vs-djk-sportbund-muenchen-ost
LOCATION:Dreifachhalle der Mittelschule\, Schulstraße 6\, Altdorf\, 90518
CATEGORIES:Damen I,Heimspiel,Volleyball
END:VEVENT
END:VCALENDAR