BEGIN:VCALENDAR
VERSION:2.0
PRODID:-//TV 1881 Altdorf e.V. - ECPv6.15.20//NONSGML v1.0//EN
CALSCALE:GREGORIAN
METHOD:PUBLISH
X-ORIGINAL-URL:https://tv1881altdorf.de
X-WR-CALDESC:Veranstaltungen für TV 1881 Altdorf e.V.
REFRESH-INTERVAL;VALUE=DURATION:PT1H
X-Robots-Tag:noindex
X-PUBLISHED-TTL:PT1H
BEGIN:VTIMEZONE
TZID:Europe/Berlin
BEGIN:DAYLIGHT
TZOFFSETFROM:+0100
TZOFFSETTO:+0200
TZNAME:CEST
DTSTART:20220327T010000
END:DAYLIGHT
BEGIN:STANDARD
TZOFFSETFROM:+0200
TZOFFSETTO:+0100
TZNAME:CET
DTSTART:20221030T010000
END:STANDARD
BEGIN:DAYLIGHT
TZOFFSETFROM:+0100
TZOFFSETTO:+0200
TZNAME:CEST
DTSTART:20230326T010000
END:DAYLIGHT
BEGIN:STANDARD
TZOFFSETFROM:+0200
TZOFFSETTO:+0100
TZNAME:CET
DTSTART:20231029T010000
END:STANDARD
BEGIN:DAYLIGHT
TZOFFSETFROM:+0100
TZOFFSETTO:+0200
TZNAME:CEST
DTSTART:20240331T010000
END:DAYLIGHT
BEGIN:STANDARD
TZOFFSETFROM:+0200
TZOFFSETTO:+0100
TZNAME:CET
DTSTART:20241027T010000
END:STANDARD
END:VTIMEZONE
BEGIN:VEVENT
DTSTART;TZID=Europe/Berlin:20231001T140000
DTEND;TZID=Europe/Berlin:20231001T153000
DTSTAMP:20260424T123739
CREATED:20230724T171512Z
LAST-MODIFIED:20231001T082006Z
UID:10887-1696168800-1696174200@tv1881altdorf.de
SUMMARY:Bezirksliga Männer Staffel West TS Herzogenaurach vs TV 1881 Altdorf (4)
DESCRIPTION:Bezirk­sli­ga Män­ner Staffel West\nBegeg­nungs-Nr: 4\nHeim: TS Herzogenaurach\nGast: TV 1881 Altdorf\nHalle: Her­zo­ge­nau­rach\, Sporthalle Gym­na­si­um (240145)\nAdresse: Burgstaller Weg 20\, 91074 Herzogenaurach
URL:https://tv1881altdorf.de/event/bezirksliga-maenner-staffel-west-ts-herzogenaurach-vs-tv-1881-altdorf-4
LOCATION:Herzogenaurach\, Sporthalle Gymnasium (240145): Burgstaller Weg 20\, 91074 Herzogenaurach
CATEGORIES:Handball
END:VEVENT
BEGIN:VEVENT
DTSTART;TZID=Europe/Berlin:20231001T160000
DTEND;TZID=Europe/Berlin:20231001T173000
DTSTAMP:20260424T123739
CREATED:20230816T210013Z
LAST-MODIFIED:20231001T082006Z
UID:11326-1696176000-1696181400@tv1881altdorf.de
SUMMARY:Bezirksklasse Frauen Staffel West HSG Pyrbaum/Seligenporten II vs TV 1881 Altdorf II (24024002)
DESCRIPTION:Bezirk­sklasse Frauen Staffel West\nBegeg­nungs-Nr: 24024002\nHeim: HSG Pyrbaum/Seligenporten II\nGast: TV 1881 Alt­dorf II\nHalle: Post­bauer-Heng\, Schul­sporthalle (240320)\nAdresse: Im Cen­trum 5\, 92353 Postbauer-Heng
URL:https://tv1881altdorf.de/event/bezirksklasse-frauen-staffel-west-hsg-pyrbaum-seligenporten-ii-vs-tv-1881-altdorf-ii-4
LOCATION:Postbauer-Heng\, Schulsporthalle (240320): Im Centrum 5\, 92353 Postbauer-Heng
CATEGORIES:Handball
END:VEVENT
BEGIN:VEVENT
DTSTART;TZID=Europe/Berlin:20231001T160000
DTEND;TZID=Europe/Berlin:20231001T173000
DTSTAMP:20260424T123739
CREATED:20230928T073019Z
LAST-MODIFIED:20231001T082006Z
UID:11925-1696176000-1696181400@tv1881altdorf.de
SUMMARY:Bezirksklasse Männer Staffel West TS Herzogenaurach III vs TV 1881 Altdorf II (24014005)
DESCRIPTION:Bezirk­sklasse Män­ner Staffel West\nBegeg­nungs-Nr: 24014005\nHeim: TS Her­zo­ge­nau­rach III\nGast: TV 1881 Alt­dorf II\nHalle: Her­zo­ge­nau­rach\, Sporthalle Gym­na­si­um (240145)\nAdresse: Burgstaller Weg 20\, 91074 Herzogenaurach
URL:https://tv1881altdorf.de/event/bezirksklasse-maenner-staffel-west-ts-herzogenaurach-iii-vs-tv-1881-altdorf-ii-24014005
LOCATION:Herzogenaurach\, Sporthalle Gymnasium (240145): Burgstaller Weg 20\, 91074 Herzogenaurach
CATEGORIES:Handball
END:VEVENT
BEGIN:VEVENT
DTSTART;TZID=Europe/Berlin:20231004T190000
DTEND;TZID=Europe/Berlin:20231004T210000
DTSTAMP:20260424T123739
CREATED:20230918T185731Z
LAST-MODIFIED:20230918T185731Z
UID:11722-1696446000-1696453200@tv1881altdorf.de
SUMMARY:Außerordentliche Mitgliederversammlung
DESCRIPTION:Ein­ladung aMV 2023-04.10.2023–2
URL:https://tv1881altdorf.de/event/ausserordentliche-mitgliederversammlung-2
CATEGORIES:Allgemein,Öffentlich
END:VEVENT
BEGIN:VEVENT
DTSTART;TZID=Europe/Berlin:20231007T160000
DTEND;TZID=Europe/Berlin:20231007T200000
DTSTAMP:20260424T123739
CREATED:20231001T201506Z
LAST-MODIFIED:20231001T212914Z
UID:12068-1696694400-1696708800@tv1881altdorf.de
SUMMARY:Tennis D40 Landesliga 2 gg TSV Ochenbruck
DESCRIPTION:Halle Ten­nis Cen­ter Noris Nürnberg
URL:https://tv1881altdorf.de/event/d40-tsv-ochenbruck
CATEGORIES:Damen 40,Tennis
END:VEVENT
BEGIN:VEVENT
DTSTART;TZID=Europe/Berlin:20231007T200000
DTEND;TZID=Europe/Berlin:20231007T213000
DTSTAMP:20260424T123739
CREATED:20230816T210014Z
LAST-MODIFIED:20231007T095506Z
UID:11329-1696708800-1696714200@tv1881altdorf.de
SUMMARY:Bezirksoberliga Frauen Mintraching/Neutraubling II vs TV 1881 Altdorf (20)
DESCRIPTION:Bezirk­soberli­ga Frauen\nBegeg­nungs-Nr: 20\nHeim: Mintraching/Neutraubling II\nGast: TV 1881 Altdorf\nHalle: Mintra­ch­ing\, Sporthalle II (240222)\nAdresse: Schmiedgasse 17\, 93098 Mintraching
URL:https://tv1881altdorf.de/event/bezirksoberliga-frauen-mintraching-neutraubling-ii-vs-tv-1881-altdorf-20
LOCATION:Mintraching\, Sporthalle II (240222): Schmiedgasse 17\, 93098 Mintraching
CATEGORIES:Handball
END:VEVENT
BEGIN:VEVENT
DTSTART;TZID=Europe/Berlin:20231015T130000
DTEND;TZID=Europe/Berlin:20231015T143000
DTSTAMP:20260424T123739
CREATED:20230724T171513Z
LAST-MODIFIED:20231015T115506Z
UID:10889-1697374800-1697380200@tv1881altdorf.de
SUMMARY:Bezirksliga Männer Staffel West TV 1861 Erlangen-Bruck III vs TV 1881 Altdorf (13)
DESCRIPTION:Bezirk­sli­ga Män­ner Staffel West\nBegeg­nungs-Nr: 13\nHeim: TV 1861 Erlan­gen-Bruck III\nGast: TV 1881 Altdorf\nHalle: Erlan­gen\, Sporthalle am Europakanal (240083)\nAdresse: Schaller­shofer­straße 20\, 91056 Erlangen
URL:https://tv1881altdorf.de/event/bezirksliga-maenner-staffel-west-tv-1861-erlangen-bruck-iii-vs-tv-1881-altdorf-13
LOCATION:Erlangen\, Sporthalle am Europakanal (240083): Schallershoferstraße 20\, 91056 Erlangen
CATEGORIES:Handball
END:VEVENT
BEGIN:VEVENT
DTSTART;TZID=Europe/Berlin:20231015T150000
DTEND;TZID=Europe/Berlin:20231015T163000
DTSTAMP:20260424T123739
CREATED:20230928T073022Z
LAST-MODIFIED:20231015T115506Z
UID:11928-1697382000-1697387400@tv1881altdorf.de
SUMMARY:Bezirksklasse Männer Staffel West HSG SGS Erl/HC Niederl III vs TV 1881 Altdorf II (24014013)
DESCRIPTION:Bezirk­sklasse Män­ner Staffel West\nBegeg­nungs-Nr: 24014013\nHeim: HSG SGS Erl/HC Niederl III\nGast: TV 1881 Alt­dorf II\nHalle: Hannberg\, See­bach­grund­halle (240148)\nAdresse: Schul­strasse\, 91093 Heßdorf-Hannberg
URL:https://tv1881altdorf.de/event/bezirksklasse-maenner-staffel-west-hsg-sgs-erl-hc-niederl-iii-vs-tv-1881-altdorf-ii-24014013
LOCATION:Hannberg\, Seebachgrundhalle (240148): Schulstrasse\, 91093 Heßdorf-Hannberg
CATEGORIES:Handball
END:VEVENT
BEGIN:VEVENT
DTSTART;TZID=Europe/Berlin:20231015T160000
DTEND;TZID=Europe/Berlin:20231015T173000
DTSTAMP:20260424T123739
CREATED:20230816T210027Z
LAST-MODIFIED:20231015T115506Z
UID:11330-1697385600-1697391000@tv1881altdorf.de
SUMMARY:Bezirksoberliga Frauen TV 1881 Altdorf vs HSG Weiden (27)
DESCRIPTION:Bezirk­soberli­ga Frauen\nBegeg­nungs-Nr: 27\nHeim: TV 1881 Altdorf\nGast: HSG Weiden\nHalle: Alt­dorf\, Schul­turn­halle Grund­schule (neu) (240000)\nAdresse: Hagen­hausen­er Str. 5\, 90518 Altdorf
URL:https://tv1881altdorf.de/event/bezirksoberliga-frauen-tv-1881-altdorf-vs-hsg-weiden-27
LOCATION:Altdorf\, Schulturnhalle Grundschule (neu) (240000): Hagenhausener Str. 5\, 90518 Altdorf
CATEGORIES:Handball
END:VEVENT
BEGIN:VEVENT
DTSTART;TZID=Europe/Berlin:20231015T190000
DTEND;TZID=Europe/Berlin:20231015T203000
DTSTAMP:20260424T123739
CREATED:20230816T210027Z
LAST-MODIFIED:20231015T115506Z
UID:11331-1697396400-1697401800@tv1881altdorf.de
SUMMARY:Bezirksklasse Frauen Staffel West TS Herzogenaurach II vs TV 1881 Altdorf II (24024009)
DESCRIPTION:Bezirk­sklasse Frauen Staffel West\nBegeg­nungs-Nr: 24024009\nHeim: TS Her­zo­ge­nau­rach II\nGast: TV 1881 Alt­dorf II\nHalle: Her­zo­ge­nau­rach\, Sporthalle Gym­na­si­um (240145)\nAdresse: Burgstaller Weg 20\, 91074 Herzogenaurach
URL:https://tv1881altdorf.de/event/bezirksklasse-frauen-staffel-west-ts-herzogenaurach-ii-vs-tv-1881-altdorf-ii-13
LOCATION:Herzogenaurach\, Sporthalle Gymnasium (240145): Burgstaller Weg 20\, 91074 Herzogenaurach
CATEGORIES:Handball
END:VEVENT
BEGIN:VEVENT
DTSTART;VALUE=DATE:20231020
DTEND;VALUE=DATE:20231021
DTSTAMP:20260424T123739
CREATED:20231020T080532Z
LAST-MODIFIED:20231020T080843Z
UID:12336-1697760000-1697846399@tv1881altdorf.de
SUMMARY:Training der Freitagskicker am 20.10.2023 Halle Förderschule
DESCRIPTION:Hal­lo Freitagskicker\, \ndas Spiel / Train­ing Fuss­ball für den Fre­itag 20.10.2023 wurde abgesagt ! \nD.h. es find­et ab 18 Uhr das Train­ing am Fre­itag 20.10.2023\nin der Förder­schul Halle statt \nLG Ger­hard
URL:https://tv1881altdorf.de/event/training-der-freitagskicker-am-20-10-2023-halle-foerderschule
CATEGORIES:Freitagskicker,Öffentlich
ATTACH;FMTTYPE=image/jpeg:https://tv1881altdorf.de/wp-content/uploads/2023/10/Gruppenbild-fuer-Gerhard2018_1-scaled.jpg
END:VEVENT
BEGIN:VEVENT
DTSTART;VALUE=DATE:20231021
DTEND;VALUE=DATE:20231022
DTSTAMP:20260424T123739
CREATED:20230323T071223Z
LAST-MODIFIED:20230323T071302Z
UID:8899-1697846400-1697932799@tv1881altdorf.de
SUMMARY:5. OL-Trainingslauf Mittelfranken
DESCRIPTION:Weit­ere Infor­ma­tio­nen fol­gen noch.
URL:https://tv1881altdorf.de/event/5-ol-trainingslauf-mittelfranken-2023
LOCATION:Hallerndorf
CATEGORIES:Orientierungslauf
END:VEVENT
BEGIN:VEVENT
DTSTART;VALUE=DATE:20231021
DTEND;VALUE=DATE:20231022
DTSTAMP:20260424T123739
CREATED:20230323T072106Z
LAST-MODIFIED:20230323T072136Z
UID:8919-1697846400-1697932799@tv1881altdorf.de
SUMMARY:6. Lauf zur ROLT
DESCRIPTION:Weit­ere Infor­ma­tio­nen fol­gen noch.
URL:https://tv1881altdorf.de/event/6-lauf-rolt-2023
LOCATION:Otterbachtal
CATEGORIES:Orientierungslauf
END:VEVENT
BEGIN:VEVENT
DTSTART;TZID=Europe/Berlin:20231021T143000
DTEND;TZID=Europe/Berlin:20231021T163000
DTSTAMP:20260424T123739
CREATED:20230919T113130Z
LAST-MODIFIED:20230920T121248Z
UID:11738-1697898600-1697905800@tv1881altdorf.de
SUMMARY:Volleyball (H) - TV Altdorf II vs. TSV Neutraubling
DESCRIPTION:
URL:https://tv1881altdorf.de/event/damen-2-h-tv-altdorf-ii-vs-tsv-neutraubling
LOCATION:Dreifachhalle der Mittelschule\, Schulstraße 6\, Altdorf\, 90518
CATEGORIES:Damen II,Heimspiel,Volleyball
END:VEVENT
BEGIN:VEVENT
DTSTART;TZID=Europe/Berlin:20231021T160000
DTEND;TZID=Europe/Berlin:20231021T173000
DTSTAMP:20260424T123739
CREATED:20230816T210028Z
LAST-MODIFIED:20231021T132506Z
UID:11333-1697904000-1697909400@tv1881altdorf.de
SUMMARY:Bezirksoberliga Frauen HG Eckental vs TV 1881 Altdorf (33)
DESCRIPTION:Bezirk­soberli­ga Frauen\nBegeg­nungs-Nr: 33\nHeim: HG Eckental\nGast: TV 1881 Altdorf\nHalle: Eck­en­tal\, Sporthalle Eschenau (240080)\nAdresse: Schul­str. 1\, 90542 Eckental
URL:https://tv1881altdorf.de/event/bezirksoberliga-frauen-hg-eckental-vs-tv-1881-altdorf-33
LOCATION:Eckental\, Sporthalle Eschenau (240080): Schulstr. 1\, 90542 Eckental
CATEGORIES:Handball
END:VEVENT
BEGIN:VEVENT
DTSTART;TZID=Europe/Berlin:20231021T160000
DTEND;TZID=Europe/Berlin:20231021T200000
DTSTAMP:20260424T123739
CREATED:20230922T134558Z
LAST-MODIFIED:20231001T212132Z
UID:11855-1697904000-1697918400@tv1881altdorf.de
SUMMARY:Tennis H40 Nordliga 1 gg  DJK Weiden
DESCRIPTION:Halle TC Postkeller Weiden
URL:https://tv1881altdorf.de/event/h40-djk-weiden
CATEGORIES:Tennis
END:VEVENT
BEGIN:VEVENT
DTSTART;TZID=Europe/Berlin:20231021T160000
DTEND;TZID=Europe/Berlin:20231021T200000
DTSTAMP:20260424T123739
CREATED:20230922T134614Z
LAST-MODIFIED:20231001T214042Z
UID:11861-1697904000-1697918400@tv1881altdorf.de
SUMMARY:Tennis H50 Landesliga 2 gg TC Kümmersbrück
DESCRIPTION:Halle TC Rot-Weiß Amberg
URL:https://tv1881altdorf.de/event/h50-tc-kuemmersbrueck
CATEGORIES:Herren 50,Tennis
END:VEVENT
BEGIN:VEVENT
DTSTART;TZID=Europe/Berlin:20231021T170000
DTEND;TZID=Europe/Berlin:20231021T210000
DTSTAMP:20260424T123739
CREATED:20230922T134553Z
LAST-MODIFIED:20231001T212532Z
UID:11850-1697907600-1697922000@tv1881altdorf.de
SUMMARY:Tennis H40_2 Nordliga 2 gg DJK Berg
DESCRIPTION:Halle TSV Altenfurt
URL:https://tv1881altdorf.de/event/h40_2-djk-berg
CATEGORIES:Tennis
END:VEVENT
BEGIN:VEVENT
DTSTART;TZID=Europe/Berlin:20231022T120000
DTEND;TZID=Europe/Berlin:20231022T133000
DTSTAMP:20260424T123739
CREATED:20230928T073034Z
LAST-MODIFIED:20231021T132506Z
UID:11930-1697976000-1697981400@tv1881altdorf.de
SUMMARY:Bezirksklasse Männer Staffel West TV 1881 Altdorf II vs HSG SGS Erl/HC Niederl II (24014019)
DESCRIPTION:Bezirk­sklasse Män­ner Staffel West\nBegeg­nungs-Nr: 24014019\nHeim: TV 1881 Alt­dorf II\nGast: HSG SGS Erl/HC Niederl II\nHalle: Alt­dorf\, Schul­turn­halle Grund­schule (neu) (240000)\nAdresse: Hagen­hausen­er Str. 5\, 90518 Altdorf
URL:https://tv1881altdorf.de/event/bezirksklasse-maenner-staffel-west-tv-1881-altdorf-ii-vs-hsg-sgs-erl-hc-niederl-ii-24014019
LOCATION:Altdorf\, Schulturnhalle Grundschule (neu) (240000): Hagenhausener Str. 5\, 90518 Altdorf
CATEGORIES:Handball
END:VEVENT
BEGIN:VEVENT
DTSTART;TZID=Europe/Berlin:20231022T160000
DTEND;TZID=Europe/Berlin:20231022T173000
DTSTAMP:20260424T123739
CREATED:20230724T171513Z
LAST-MODIFIED:20231022T133506Z
UID:10891-1697990400-1697995800@tv1881altdorf.de
SUMMARY:Bezirksliga Männer Staffel West TV 1881 Altdorf vs TSV Winkelhaid (17)
DESCRIPTION:Bezirk­sli­ga Män­ner Staffel West\nBegeg­nungs-Nr: 17\nHeim: TV 1881 Altdorf\nGast: TSV Winkelhaid\nHalle: Alt­dorf\, Schul­turn­halle Grund­schule (neu) (240000)\nAdresse: Hagen­hausen­er Str. 5\, 90518 Altdorf
URL:https://tv1881altdorf.de/event/bezirksliga-maenner-staffel-west-tv-1881-altdorf-vs-tsv-winkelhaid-17
LOCATION:Altdorf\, Schulturnhalle Grundschule (neu) (240000): Hagenhausener Str. 5\, 90518 Altdorf
CATEGORIES:Handball
END:VEVENT
BEGIN:VEVENT
DTSTART;TZID=Europe/Berlin:20231022T183000
DTEND;TZID=Europe/Berlin:20231022T203000
DTSTAMP:20260424T123739
CREATED:20221107T111207Z
LAST-MODIFIED:20230921T125029Z
UID:7298-1697999400-1698006600@tv1881altdorf.de
SUMMARY:Tennis-Mitgliederversammlung
DESCRIPTION:
URL:https://tv1881altdorf.de/event/mitgliederversammlung-4
LOCATION:Gaststätte Sportpark\, Heumannstraße 5\, 90518 Altdorf bei Nürnberg\, Deutschland
CATEGORIES:Tennis
END:VEVENT
BEGIN:VEVENT
DTSTART;TZID=Europe/Berlin:20231028T143000
DTEND;TZID=Europe/Berlin:20231028T163000
DTSTAMP:20260424T123739
CREATED:20230919T113232Z
LAST-MODIFIED:20230920T121237Z
UID:11740-1698503400-1698510600@tv1881altdorf.de
SUMMARY:Volleyball (H) - TV Altdorf II vs. BSV 98 Bayreuth
DESCRIPTION:
URL:https://tv1881altdorf.de/event/damen-2-h-tv-altdorf-ii-vs-bsv-98-bayreuth
LOCATION:Dreifachhalle der Mittelschule\, Schulstraße 6\, Altdorf\, 90518
CATEGORIES:Damen II,Heimspiel,Volleyball
END:VEVENT
BEGIN:VEVENT
DTSTART;TZID=Europe/Berlin:20231028T160000
DTEND;TZID=Europe/Berlin:20231028T173000
DTSTAMP:20260424T123739
CREATED:20230724T171525Z
LAST-MODIFIED:20231028T150506Z
UID:10893-1698508800-1698514200@tv1881altdorf.de
SUMMARY:Bezirksliga Männer Staffel West TV 1881 Altdorf vs HC Forchheim II (8)
DESCRIPTION:Bezirk­sli­ga Män­ner Staffel West\nBegeg­nungs-Nr: 8\nHeim: TV 1881 Altdorf\nGast: HC Forch­heim II\nHalle: Alt­dorf\, Schul­turn­halle Grund­schule (neu) (240000)\nAdresse: Hagen­hausen­er Str. 5\, 90518 Altdorf
URL:https://tv1881altdorf.de/event/bezirksliga-maenner-staffel-west-tv-1881-altdorf-vs-hc-forchheim-ii-8
LOCATION:Altdorf\, Schulturnhalle Grundschule (neu) (240000): Hagenhausener Str. 5\, 90518 Altdorf
CATEGORIES:Handball
END:VEVENT
BEGIN:VEVENT
DTSTART;TZID=Europe/Berlin:20231028T180000
DTEND;TZID=Europe/Berlin:20231028T200000
DTSTAMP:20260424T123739
CREATED:20230919T113350Z
LAST-MODIFIED:20230920T121228Z
UID:11742-1698516000-1698523200@tv1881altdorf.de
SUMMARY:Volleyball (H) - TV SUSPA Altdorf vs. TV Planegg-Krailling
DESCRIPTION:Tick­ets: \n\n8\,50€ Erwach­sene (inkl. 1€ Verzehrgutschein)\n5\,00€ Ermäßigt (inkl. 1€ Verzehrgutschein)\n\nLivestream: https://www.sport1extra.de/en-int/page/2bundesliga-frauen-sud \nSpielplan: https://www.volleyball-bundesliga.de/cms/home/2_bundesliga_frauen/2_bundesliga_frauen_sued/tabellespielplan/spielplan.xhtml
URL:https://tv1881altdorf.de/event/damen-1-h-tv-suspa-altdorf-vs-tv-planegg-krailling
LOCATION:Dreifachhalle der Mittelschule\, Schulstraße 6\, Altdorf\, 90518
CATEGORIES:Damen I,Heimspiel,Volleyball
END:VEVENT
END:VCALENDAR