BEGIN:VCALENDAR
VERSION:2.0
PRODID:-//TV 1881 Altdorf e.V. - ECPv6.15.20//NONSGML v1.0//EN
CALSCALE:GREGORIAN
METHOD:PUBLISH
X-ORIGINAL-URL:https://tv1881altdorf.de
X-WR-CALDESC:Veranstaltungen für TV 1881 Altdorf e.V.
REFRESH-INTERVAL;VALUE=DURATION:PT1H
X-Robots-Tag:noindex
X-PUBLISHED-TTL:PT1H
BEGIN:VTIMEZONE
TZID:Europe/Berlin
BEGIN:DAYLIGHT
TZOFFSETFROM:+0100
TZOFFSETTO:+0200
TZNAME:CEST
DTSTART:20220327T010000
END:DAYLIGHT
BEGIN:STANDARD
TZOFFSETFROM:+0200
TZOFFSETTO:+0100
TZNAME:CET
DTSTART:20221030T010000
END:STANDARD
BEGIN:DAYLIGHT
TZOFFSETFROM:+0100
TZOFFSETTO:+0200
TZNAME:CEST
DTSTART:20230326T010000
END:DAYLIGHT
BEGIN:STANDARD
TZOFFSETFROM:+0200
TZOFFSETTO:+0100
TZNAME:CET
DTSTART:20231029T010000
END:STANDARD
BEGIN:DAYLIGHT
TZOFFSETFROM:+0100
TZOFFSETTO:+0200
TZNAME:CEST
DTSTART:20240331T010000
END:DAYLIGHT
BEGIN:STANDARD
TZOFFSETFROM:+0200
TZOFFSETTO:+0100
TZNAME:CET
DTSTART:20241027T010000
END:STANDARD
END:VTIMEZONE
BEGIN:VEVENT
DTSTART;TZID=Europe/Berlin:20231103T180000
DTEND;TZID=Europe/Berlin:20231103T200000
DTSTAMP:20260424T112132
CREATED:20231101T121223Z
LAST-MODIFIED:20231101T121223Z
UID:12436-1699034400-1699041600@tv1881altdorf.de
SUMMARY:Freitagskicker Training Freitag 03.11.2023
DESCRIPTION:Wegen Herb­st­fe­rien find­et das Train­ing der Freitagskicker\nam Fre­itag 03.11.2023 ab 18 Uhr auf dem TVA Platz Heumannstr. 5 statt \nBeginn 18 Uhr \n 
URL:https://tv1881altdorf.de/event/freitagskicker-training-freitag-03-11-2023
LOCATION:Sportpark Altdorf
ORGANIZER;CN="Schienhammer Walter":MAILTO:walter.schienhammer@t-online.de
END:VEVENT
BEGIN:VEVENT
DTSTART;TZID=Europe/Berlin:20231104T120000
DTEND;TZID=Europe/Berlin:20231104T133000
DTSTAMP:20260424T112132
CREATED:20230816T210029Z
LAST-MODIFIED:20231103T164006Z
UID:11335-1699099200-1699104600@tv1881altdorf.de
SUMMARY:Bezirksklasse Frauen Staffel West TV 1881 Altdorf II vs SG DJK Erlangen/Baiersdorf II (24024016)
DESCRIPTION:Bezirk­sklasse Frauen Staffel West\nBegeg­nungs-Nr: 24024016\nHeim: TV 1881 Alt­dorf II\nGast: SG DJK Erlangen/Baiersdorf II\nHalle: Alt­dorf\, Schul­turn­halle Grund­schule (neu) (240000)\nAdresse: Hagen­hausen­er Str. 5\, 90518 Altdorf
URL:https://tv1881altdorf.de/event/bezirksklasse-frauen-staffel-west-tv-1881-altdorf-ii-vs-sg-djk-erlangen-baiersdorf-ii-26
LOCATION:Altdorf\, Schulturnhalle Grundschule (neu) (240000): Hagenhausener Str. 5\, 90518 Altdorf
CATEGORIES:Handball
END:VEVENT
BEGIN:VEVENT
DTSTART;TZID=Europe/Berlin:20231104T140000
DTEND;TZID=Europe/Berlin:20231104T153000
DTSTAMP:20260424T112132
CREATED:20230928T073035Z
LAST-MODIFIED:20231103T164006Z
UID:11933-1699106400-1699111800@tv1881altdorf.de
SUMMARY:Bezirksklasse Männer Staffel West TV 1881 Altdorf II vs TS Herzogenaurach II (24014020)
DESCRIPTION:Bezirk­sklasse Män­ner Staffel West\nBegeg­nungs-Nr: 24014020\nHeim: TV 1881 Alt­dorf II\nGast: TS Her­zo­ge­nau­rach II\nHalle: Alt­dorf\, Schul­turn­halle Grund­schule (neu) (240000)\nAdresse: Hagen­hausen­er Str. 5\, 90518 Altdorf
URL:https://tv1881altdorf.de/event/bezirksklasse-maenner-staffel-west-tv-1881-altdorf-ii-vs-ts-herzogenaurach-ii-24014020
LOCATION:Altdorf\, Schulturnhalle Grundschule (neu) (240000): Hagenhausener Str. 5\, 90518 Altdorf
CATEGORIES:Handball
END:VEVENT
BEGIN:VEVENT
DTSTART;TZID=Europe/Berlin:20231104T150000
DTEND;TZID=Europe/Berlin:20231104T190000
DTSTAMP:20260424T112132
CREATED:20231001T201544Z
LAST-MODIFIED:20231001T213250Z
UID:12073-1699110000-1699124400@tv1881altdorf.de
SUMMARY:Tennis Damen Nordliga 2 gg SB Bayern 07 Nürnberg
DESCRIPTION:Halle House of Sports Eckental
URL:https://tv1881altdorf.de/event/d-sb-bayern-07-nuernberg
CATEGORIES:Damen,Tennis
END:VEVENT
BEGIN:VEVENT
DTSTART;TZID=Europe/Berlin:20231104T160000
DTEND;TZID=Europe/Berlin:20231104T173000
DTSTAMP:20260424T112132
CREATED:20230816T210030Z
LAST-MODIFIED:20231103T164006Z
UID:11336-1699113600-1699119000@tv1881altdorf.de
SUMMARY:Bezirksoberliga Frauen TV 1881 Altdorf vs SG Rohr/Pavelsbach (14)
DESCRIPTION:Bezirk­soberli­ga Frauen\nBegeg­nungs-Nr: 14\nHeim: TV 1881 Altdorf\nGast: SG Rohr/Pavelsbach\nHalle: Alt­dorf\, Schul­turn­halle Grund­schule (neu) (240000)\nAdresse: Hagen­hausen­er Str. 5\, 90518 Altdorf
URL:https://tv1881altdorf.de/event/bezirksoberliga-frauen-tv-1881-altdorf-vs-sg-rohr-pavelsbach-14
LOCATION:Altdorf\, Schulturnhalle Grundschule (neu) (240000): Hagenhausener Str. 5\, 90518 Altdorf
CATEGORIES:Handball
END:VEVENT
BEGIN:VEVENT
DTSTART;TZID=Europe/Berlin:20231104T180000
DTEND;TZID=Europe/Berlin:20231104T193000
DTSTAMP:20260424T112132
CREATED:20230724T171526Z
LAST-MODIFIED:20231104T165006Z
UID:10894-1699120800-1699126200@tv1881altdorf.de
SUMMARY:Bezirksliga Männer Staffel West TV 1881 Altdorf vs SG DJK Erlangen/Baiersdorf (26)
DESCRIPTION:Bezirk­sli­ga Män­ner Staffel West\nBegeg­nungs-Nr: 26\nHeim: TV 1881 Altdorf\nGast: SG DJK Erlangen/Baiersdorf\nHalle: Alt­dorf\, Schul­turn­halle Grund­schule (neu) (240000)\nAdresse: Hagen­hausen­er Str. 5\, 90518 Altdorf
URL:https://tv1881altdorf.de/event/bezirksliga-maenner-staffel-west-tv-1881-altdorf-vs-sg-djk-erlangen-baiersdorf-26
LOCATION:Altdorf\, Schulturnhalle Grundschule (neu) (240000): Hagenhausener Str. 5\, 90518 Altdorf
CATEGORIES:Handball
END:VEVENT
BEGIN:VEVENT
DTSTART;TZID=Europe/Berlin:20231105T100000
DTEND;TZID=Europe/Berlin:20231105T140000
DTSTAMP:20260424T112132
CREATED:20230922T134559Z
LAST-MODIFIED:20231001T212047Z
UID:11856-1699178400-1699192800@tv1881altdorf.de
SUMMARY:Tennis H40 Nordliga 1 gg SC Großschwarzenlohe
DESCRIPTION:Halle Ten­nishalle Röthenbach
URL:https://tv1881altdorf.de/event/h40-sc-grossschwarzenlohe
CATEGORIES:Tennis
END:VEVENT
BEGIN:VEVENT
DTSTART;TZID=Europe/Berlin:20231111T120000
DTEND;TZID=Europe/Berlin:20231111T160000
DTSTAMP:20260424T112132
CREATED:20230922T134554Z
LAST-MODIFIED:20231001T212456Z
UID:11851-1699704000-1699718400@tv1881altdorf.de
SUMMARY:Tennis H40_2 Nordliga 2 gg FSV Schönberg
DESCRIPTION:Halle FV Wendelstein
URL:https://tv1881altdorf.de/event/h40_2-fsv-schoenberg
CATEGORIES:Tennis
END:VEVENT
BEGIN:VEVENT
DTSTART;TZID=Europe/Berlin:20231111T153000
DTEND;TZID=Europe/Berlin:20231111T170000
DTSTAMP:20260424T112132
CREATED:20230816T210042Z
LAST-MODIFIED:20231110T182006Z
UID:11337-1699716600-1699722000@tv1881altdorf.de
SUMMARY:Bezirksklasse Frauen Staffel West HC Hersbruck II vs TV 1881 Altdorf II (24024017)
DESCRIPTION:Bezirk­sklasse Frauen Staffel West\nBegeg­nungs-Nr: 24024017\nHeim: HC Hers­bruck II\nGast: TV 1881 Alt­dorf II\nHalle: Hers­bruck\, Sportzen­trum (240143)\nAdresse: Hap­purg­er Str. 9\, 91217 Hersbruck
URL:https://tv1881altdorf.de/event/bezirksklasse-frauen-staffel-west-hc-hersbruck-ii-vs-tv-1881-altdorf-ii-22
LOCATION:Hersbruck\, Sportzentrum (240143): Happurger Str. 9\, 91217 Hersbruck
CATEGORIES:Handball
END:VEVENT
BEGIN:VEVENT
DTSTART;TZID=Europe/Berlin:20231111T160000
DTEND;TZID=Europe/Berlin:20231111T173000
DTSTAMP:20260424T112132
CREATED:20230816T210042Z
LAST-MODIFIED:20231110T182006Z
UID:11338-1699718400-1699723800@tv1881altdorf.de
SUMMARY:Bezirksoberliga Frauen TV 1881 Altdorf vs HSG Berching/Pollanten (40)
DESCRIPTION:Bezirk­soberli­ga Frauen\nBegeg­nungs-Nr: 40\nHeim: TV 1881 Altdorf\nGast: HSG Berching/Pollanten\nHalle: Alt­dorf\, Schul­turn­halle Grund­schule (neu) (240000)\nAdresse: Hagen­hausen­er Str. 5\, 90518 Altdorf
URL:https://tv1881altdorf.de/event/bezirksoberliga-frauen-tv-1881-altdorf-vs-hsg-berching-pollanten-40
LOCATION:Altdorf\, Schulturnhalle Grundschule (neu) (240000): Hagenhausener Str. 5\, 90518 Altdorf
CATEGORIES:Handball
END:VEVENT
BEGIN:VEVENT
DTSTART;TZID=Europe/Berlin:20231111T173000
DTEND;TZID=Europe/Berlin:20231111T190000
DTSTAMP:20260424T112132
CREATED:20230928T073049Z
LAST-MODIFIED:20231110T182006Z
UID:11935-1699723800-1699729200@tv1881altdorf.de
SUMMARY:Bezirksklasse Männer Staffel West HC Hersbruck II vs TV 1881 Altdorf II (24014022)
DESCRIPTION:Bezirk­sklasse Män­ner Staffel West\nBegeg­nungs-Nr: 24014022\nHeim: HC Hers­bruck II\nGast: TV 1881 Alt­dorf II\nHalle: Hers­bruck\, Sportzen­trum (240143)\nAdresse: Hap­purg­er Str. 9\, 91217 Hersbruck
URL:https://tv1881altdorf.de/event/bezirksklasse-maenner-staffel-west-hc-hersbruck-ii-vs-tv-1881-altdorf-ii-24014022
LOCATION:Hersbruck\, Sportzentrum (240143): Happurger Str. 9\, 91217 Hersbruck
CATEGORIES:Handball
END:VEVENT
BEGIN:VEVENT
DTSTART;TZID=Europe/Berlin:20231111T193000
DTEND;TZID=Europe/Berlin:20231111T210000
DTSTAMP:20260424T112132
CREATED:20230724T171526Z
LAST-MODIFIED:20231111T183506Z
UID:10896-1699731000-1699736400@tv1881altdorf.de
SUMMARY:Bezirksliga Männer Staffel West HC Hersbruck vs TV 1881 Altdorf (22)
DESCRIPTION:Bezirk­sli­ga Män­ner Staffel West\nBegeg­nungs-Nr: 22\nHeim: HC Hersbruck\nGast: TV 1881 Altdorf\nHalle: Hers­bruck\, Sportzen­trum (240143)\nAdresse: Hap­purg­er Str. 9\, 91217 Hersbruck
URL:https://tv1881altdorf.de/event/bezirksliga-maenner-staffel-west-hc-hersbruck-vs-tv-1881-altdorf-22
LOCATION:Hersbruck\, Sportzentrum (240143): Happurger Str. 9\, 91217 Hersbruck
CATEGORIES:Handball
END:VEVENT
BEGIN:VEVENT
DTSTART;TZID=Europe/Berlin:20231118T140000
DTEND;TZID=Europe/Berlin:20231118T180000
DTSTAMP:20260424T112132
CREATED:20230919T113517Z
LAST-MODIFIED:20231107T095104Z
UID:11744-1700316000-1700330400@tv1881altdorf.de
SUMMARY:Volleyball (H) - TV Altdorf III vs. Veitsbronn 3 & Feucht
DESCRIPTION:
URL:https://tv1881altdorf.de/event/damen-3-h-tv-altdorf-iii-vs-veitsbronn-3-feucht
LOCATION:Dreifachhalle der Mittelschule\, Schulstraße 6\, Altdorf\, 90518
CATEGORIES:Damen III,Heimspiel,Volleyball
END:VEVENT
BEGIN:VEVENT
DTSTART;TZID=Europe/Berlin:20231118T140000
DTEND;TZID=Europe/Berlin:20231118T180000
DTSTAMP:20260424T112132
CREATED:20231107T095317Z
LAST-MODIFIED:20231107T095439Z
UID:12496-1700316000-1700330400@tv1881altdorf.de
SUMMARY:Volleyball (H) - TV Altdorf IV vs. Allersberg 2 & Thalmässing
DESCRIPTION:
URL:https://tv1881altdorf.de/event/volleyball-h-tv-altdorf-iv-vs-allersberg-2-thalmaessing
LOCATION:Dreifachhalle der Mittelschule\, Schulstraße 6\, Altdorf\, 90518
CATEGORIES:Damen VI,Heimspiel,Volleyball
END:VEVENT
BEGIN:VEVENT
DTSTART;TZID=Europe/Berlin:20231118T160000
DTEND;TZID=Europe/Berlin:20231118T173000
DTSTAMP:20260424T112132
CREATED:20230816T210043Z
LAST-MODIFIED:20231117T200506Z
UID:11340-1700323200-1700328600@tv1881altdorf.de
SUMMARY:Bezirksoberliga Frauen ESV 27 Regensbg. III vs TV 1881 Altdorf (46)
DESCRIPTION:Bezirk­soberli­ga Frauen\nBegeg­nungs-Nr: 46\nHeim: ESV 27 Regens­bg. III\nGast: TV 1881 Altdorf\nHalle: Regens­burg\, Sporthalle ESV 27 (240340)\nAdresse: Dech­bet­ten­er BrÃ¼cke 2\, 93051 Regensburg
URL:https://tv1881altdorf.de/event/bezirksoberliga-frauen-esv-27-regensbg-iii-vs-tv-1881-altdorf-46
LOCATION:Regensburg\, Sporthalle ESV 27 (240340): Dechbettener BrÃ¼cke 2\, 93051 Regensburg
CATEGORIES:Handball
END:VEVENT
BEGIN:VEVENT
DTSTART;TZID=Europe/Berlin:20231118T160000
DTEND;TZID=Europe/Berlin:20231118T200000
DTSTAMP:20260424T112132
CREATED:20230922T134614Z
LAST-MODIFIED:20231001T214007Z
UID:11862-1700323200-1700337600@tv1881altdorf.de
SUMMARY:Tennis H50 Landesliga 2 gg 1. Regensburger TennisKlub II
DESCRIPTION:Halle TC Rot-Weiß Amberg
URL:https://tv1881altdorf.de/event/h50-1-regensburger-tennisklub-ii
CATEGORIES:Herren 50,Tennis
END:VEVENT
BEGIN:VEVENT
DTSTART;TZID=Europe/Berlin:20231119T123000
DTEND;TZID=Europe/Berlin:20231119T143000
DTSTAMP:20260424T112132
CREATED:20230919T113633Z
LAST-MODIFIED:20230920T121146Z
UID:11746-1700397000-1700404200@tv1881altdorf.de
SUMMARY:Volleyball (H) - TV Altdorf II vs. TSV Zirndorf
DESCRIPTION:
URL:https://tv1881altdorf.de/event/damen-2-h-tv-altdorf-ii-vs-tsv-zirndorf
LOCATION:Dreifachhalle der Mittelschule\, Schulstraße 6\, Altdorf\, 90518
CATEGORIES:Damen II,Heimspiel,Volleyball
END:VEVENT
BEGIN:VEVENT
DTSTART;TZID=Europe/Berlin:20231119T160000
DTEND;TZID=Europe/Berlin:20231119T180000
DTSTAMP:20260424T112132
CREATED:20230919T113727Z
LAST-MODIFIED:20230920T121137Z
UID:11748-1700409600-1700416800@tv1881altdorf.de
SUMMARY:Volleyball (H) - TV SUSPA Altdorf vs. VC Wiesbaden II
DESCRIPTION:Tick­ets: \n\n8\,50€ Erwach­sene (inkl. 1€ Verzehrgutschein)\n5\,00€ Ermäßigt (inkl. 1€ Verzehrgutschein)\n\nLivestream: https://www.sport1extra.de/en-int/page/2bundesliga-frauen-sud \nSpielplan: https://www.volleyball-bundesliga.de/cms/home/2_bundesliga_frauen/2_bundesliga_frauen_sued/tabellespielplan/spielplan.xhtml
URL:https://tv1881altdorf.de/event/damen-1-h-tv-suspa-altdorf-vs-vc-wiesbaden-ii
LOCATION:Dreifachhalle der Mittelschule\, Schulstraße 6\, Altdorf\, 90518
CATEGORIES:Damen I,Heimspiel,Volleyball
END:VEVENT
BEGIN:VEVENT
DTSTART;TZID=Europe/Berlin:20231123T180000
DTEND;TZID=Europe/Berlin:20231123T190000
DTSTAMP:20260424T112132
CREATED:20231006T093043Z
LAST-MODIFIED:20231122T212007Z
UID:12159-1700762400-1700766000@tv1881altdorf.de
SUMMARY:Unterweisung Lebensmittel - Verkauf Halle
DESCRIPTION:
URL:https://tv1881altdorf.de/event/unterweisung-lebensmittel-verkauf-halle
LOCATION:Grundschulturnhalle Altdorf — Mittlerer Raum
CATEGORIES:Handball
END:VEVENT
BEGIN:VEVENT
DTSTART;VALUE=DATE:20231124
DTEND;VALUE=DATE:20231125
DTSTAMP:20260424T112132
CREATED:20230323T075148Z
LAST-MODIFIED:20230323T075350Z
UID:8948-1700784000-1700870399@tv1881altdorf.de
SUMMARY:Jahresabschlussfeier
DESCRIPTION:
URL:https://tv1881altdorf.de/event/jahresabschlussfeier-2023
CATEGORIES:Leichtathletik,Orientierungslauf
END:VEVENT
BEGIN:VEVENT
DTSTART;TZID=Europe/Berlin:20231125T160000
DTEND;TZID=Europe/Berlin:20231125T173000
DTSTAMP:20260424T112132
CREATED:20230816T210043Z
LAST-MODIFIED:20231124T215006Z
UID:11342-1700928000-1700933400@tv1881altdorf.de
SUMMARY:Bezirksklasse Frauen Staffel West SG Rohr/Pavelsbach II vs TV 1881 Altdorf II (24024025)
DESCRIPTION:Bezirk­sklasse Frauen Staffel West\nBegeg­nungs-Nr: 24024025\nHeim: SG Rohr/Pavelsbach II\nGast: TV 1881 Alt­dorf II\nHalle: Freystadt\, Mehrzweck­halle G- Hauptschule (240106)\nAdresse: Allers­berg­er Str. 11\, 92342 Freystadt
URL:https://tv1881altdorf.de/event/bezirksklasse-frauen-staffel-west-sg-rohr-pavelsbach-ii-vs-tv-1881-altdorf-ii-31
LOCATION:Freystadt\, Mehrzweckhalle G- Hauptschule (240106): Allersberger Str. 11\, 92342 Freystadt
CATEGORIES:Handball
END:VEVENT
BEGIN:VEVENT
DTSTART;TZID=Europe/Berlin:20231125T180000
DTEND;TZID=Europe/Berlin:20231125T193000
DTSTAMP:20260424T112132
CREATED:20230928T073050Z
LAST-MODIFIED:20231124T215006Z
UID:11937-1700935200-1700940600@tv1881altdorf.de
SUMMARY:Bezirksklasse Männer Staffel West HC Forchheim III vs TV 1881 Altdorf II (24014031)
DESCRIPTION:Bezirk­sklasse Män­ner Staffel West\nBegeg­nungs-Nr: 24014031\nHeim: HC Forch­heim III\nGast: TV 1881 Alt­dorf II\nHalle: Forch­heim\, Sporthalle Realschule (240102)\nAdresse: Pestalozzis­traße 2\, 91301 Forchheim
URL:https://tv1881altdorf.de/event/bezirksklasse-maenner-staffel-west-hc-forchheim-iii-vs-tv-1881-altdorf-ii-24014031
LOCATION:Forchheim\, Sporthalle Realschule (240102): Pestalozzistraße 2\, 91301 Forchheim
CATEGORIES:Handball
END:VEVENT
BEGIN:VEVENT
DTSTART;TZID=Europe/Berlin:20231126T130000
DTEND;TZID=Europe/Berlin:20231126T143000
DTSTAMP:20260424T112132
CREATED:20230724T171527Z
LAST-MODIFIED:20231125T220507Z
UID:10898-1701003600-1701009000@tv1881altdorf.de
SUMMARY:Bezirksliga Männer Staffel West SV Buckenhofen II vs TV 1881 Altdorf (31)
DESCRIPTION:Bezirk­sli­ga Män­ner Staffel West\nBegeg­nungs-Nr: 31\nHeim: SV Buck­en­hofen II\nGast: TV 1881 Altdorf\nHalle: Forch­heim\, Ehren­bürg-Gym­na­si­um (240103)\nAdresse: Ruhalm­straße 10\, 91301 Forchheim
URL:https://tv1881altdorf.de/event/bezirksliga-maenner-staffel-west-sv-buckenhofen-ii-vs-tv-1881-altdorf-31
LOCATION:Forchheim\, Ehrenbürg-Gymnasium (240103): Ruhalmstraße 10\, 91301 Forchheim
CATEGORIES:Handball
END:VEVENT
BEGIN:VEVENT
DTSTART;TZID=Europe/Berlin:20231126T160000
DTEND;TZID=Europe/Berlin:20231126T173000
DTSTAMP:20260424T112132
CREATED:20230816T210044Z
LAST-MODIFIED:20231125T220507Z
UID:11343-1701014400-1701019800@tv1881altdorf.de
SUMMARY:Bezirksoberliga Frauen TV 1881 Altdorf vs HC Erlangen II (53)
DESCRIPTION:Bezirk­soberli­ga Frauen\nBegeg­nungs-Nr: 53\nHeim: TV 1881 Altdorf\nGast: HC Erlan­gen II\nHalle: Alt­dorf\, Schul­turn­halle Grund­schule (neu) (240000)\nAdresse: Hagen­hausen­er Str. 5\, 90518 Altdorf
URL:https://tv1881altdorf.de/event/bezirksoberliga-frauen-tv-1881-altdorf-vs-hc-erlangen-ii-53
LOCATION:Altdorf\, Schulturnhalle Grundschule (neu) (240000): Hagenhausener Str. 5\, 90518 Altdorf
CATEGORIES:Handball
END:VEVENT
END:VCALENDAR