BEGIN:VCALENDAR
VERSION:2.0
PRODID:-//TV 1881 Altdorf e.V. - ECPv6.15.20//NONSGML v1.0//EN
CALSCALE:GREGORIAN
METHOD:PUBLISH
X-WR-CALNAME:TV 1881 Altdorf e.V.
X-ORIGINAL-URL:https://tv1881altdorf.de
X-WR-CALDESC:Veranstaltungen für TV 1881 Altdorf e.V.
REFRESH-INTERVAL;VALUE=DURATION:PT1H
X-Robots-Tag:noindex
X-PUBLISHED-TTL:PT1H
BEGIN:VTIMEZONE
TZID:Europe/Berlin
BEGIN:DAYLIGHT
TZOFFSETFROM:+0100
TZOFFSETTO:+0200
TZNAME:CEST
DTSTART:20230326T010000
END:DAYLIGHT
BEGIN:STANDARD
TZOFFSETFROM:+0200
TZOFFSETTO:+0100
TZNAME:CET
DTSTART:20231029T010000
END:STANDARD
BEGIN:DAYLIGHT
TZOFFSETFROM:+0100
TZOFFSETTO:+0200
TZNAME:CEST
DTSTART:20240331T010000
END:DAYLIGHT
BEGIN:STANDARD
TZOFFSETFROM:+0200
TZOFFSETTO:+0100
TZNAME:CET
DTSTART:20241027T010000
END:STANDARD
BEGIN:DAYLIGHT
TZOFFSETFROM:+0100
TZOFFSETTO:+0200
TZNAME:CEST
DTSTART:20250330T010000
END:DAYLIGHT
BEGIN:STANDARD
TZOFFSETFROM:+0200
TZOFFSETTO:+0100
TZNAME:CET
DTSTART:20251026T010000
END:STANDARD
END:VTIMEZONE
BEGIN:VEVENT
DTSTART;TZID=Europe/Berlin:20240106T160000
DTEND;TZID=Europe/Berlin:20240106T200000
DTSTAMP:20260424T082550
CREATED:20231001T201545Z
LAST-MODIFIED:20231001T213429Z
UID:12075-1704556800-1704571200@tv1881altdorf.de
SUMMARY:Tennis Damen Nordliga 2 gg TC Wachendorf II
DESCRIPTION:Halle TC Schwa­der­müh­le Cadolzburg
URL:https://tv1881altdorf.de/event/d-tc-wachendorf-ii
CATEGORIES:Damen,Tennis
END:VEVENT
BEGIN:VEVENT
DTSTART;TZID=Europe/Berlin:20240107T100000
DTEND;TZID=Europe/Berlin:20240107T140000
DTSTAMP:20260424T082550
CREATED:20230922T134554Z
LAST-MODIFIED:20231001T212405Z
UID:11852-1704621600-1704636000@tv1881altdorf.de
SUMMARY:Tennis H40_2 Nordliga 2 gg TC Amberg am Schanzl
DESCRIPTION:Halle TC Amberg am Schanzl
URL:https://tv1881altdorf.de/event/h40_2-tc-amberg-am-schanzl
CATEGORIES:Tennis
END:VEVENT
BEGIN:VEVENT
DTSTART;VALUE=DATE:20240114
DTEND;VALUE=DATE:20240115
DTSTAMP:20260424T082550
CREATED:20231208T215144Z
LAST-MODIFIED:20231208T215238Z
UID:12953-1705190400-1705276799@tv1881altdorf.de
SUMMARY:Mittelfränkische Crossmeisterschaft in Eckental
DESCRIPTION:Weit­ere Infos: fol­gt noch
URL:https://tv1881altdorf.de/event/mittelfraenkische-crossmeisterschaft-in-eckental-2024
CATEGORIES:Leichtathletik,Orientierungslauf
END:VEVENT
BEGIN:VEVENT
DTSTART;TZID=Europe/Berlin:20240114T150000
DTEND;TZID=Europe/Berlin:20240114T170000
DTSTAMP:20260424T082550
CREATED:20230919T115002Z
LAST-MODIFIED:20230920T121005Z
UID:11758-1705244400-1705251600@tv1881altdorf.de
SUMMARY:Volleyball (H) - TV Altdorf II vs. TSV Eibelstadt II
DESCRIPTION:
URL:https://tv1881altdorf.de/event/damen-2-h-tv-altdorf-ii-vs-tsv-eibelstadt-ii
LOCATION:Dreifachhalle der Mittelschule\, Schulstraße 6\, Altdorf\, 90518
CATEGORIES:Damen II,Heimspiel,Volleyball
END:VEVENT
BEGIN:VEVENT
DTSTART;VALUE=DATE:20240120
DTEND;VALUE=DATE:20240121
DTSTAMP:20260424T082550
CREATED:20240113T102500Z
LAST-MODIFIED:20240113T102544Z
UID:13605-1705708800-1705795199@tv1881altdorf.de
SUMMARY:3. Lauf der Regensburg WLS 23/24
DESCRIPTION:
URL:https://tv1881altdorf.de/event/3-lauf-der-regensburg-wls-23-24
CATEGORIES:Orientierungslauf
END:VEVENT
BEGIN:VEVENT
DTSTART;TZID=Europe/Berlin:20240120T143000
DTEND;TZID=Europe/Berlin:20240120T163000
DTSTAMP:20260424T082550
CREATED:20230919T115120Z
LAST-MODIFIED:20230920T120955Z
UID:11760-1705761000-1705768200@tv1881altdorf.de
SUMMARY:Volleyball (H) - TV Altdorf II vs. VGF Marktredwitz
DESCRIPTION:
URL:https://tv1881altdorf.de/event/damen-2-h-tv-altdorf-ii-vs-vgf-marktredwitz
LOCATION:Dreifachhalle der Mittelschule\, Schulstraße 6\, Altdorf\, 90518
CATEGORIES:Damen II,Heimspiel,Volleyball
END:VEVENT
BEGIN:VEVENT
DTSTART;TZID=Europe/Berlin:20240120T170000
DTEND;TZID=Europe/Berlin:20240120T210000
DTSTAMP:20260424T082550
CREATED:20230922T134615Z
LAST-MODIFIED:20231001T213928Z
UID:11863-1705770000-1705784400@tv1881altdorf.de
SUMMARY:Tennis H50 Landesliga 2 gg TC BW Sulbach-Rosenberg
DESCRIPTION:Halle Sport­park Sulzbach-Rosenberg
URL:https://tv1881altdorf.de/event/h50-tc-bw-sulbach-rosenberg
CATEGORIES:Tennis
END:VEVENT
BEGIN:VEVENT
DTSTART;TZID=Europe/Berlin:20240120T170000
DTEND;TZID=Europe/Berlin:20240120T210000
DTSTAMP:20260424T082550
CREATED:20231001T201506Z
LAST-MODIFIED:20231001T212757Z
UID:12070-1705770000-1705784400@tv1881altdorf.de
SUMMARY:Tennis D40 Landesliga 2 gg TSV Wolkersdorf
DESCRIPTION:Halle Ambi­ente Ten­nis Worzeldorf
URL:https://tv1881altdorf.de/event/d40-tsv-wolkersdorf
CATEGORIES:Damen 40,Tennis
END:VEVENT
BEGIN:VEVENT
DTSTART;TZID=Europe/Berlin:20240120T180000
DTEND;TZID=Europe/Berlin:20240120T200000
DTSTAMP:20260424T082550
CREATED:20230919T115321Z
LAST-MODIFIED:20230920T120943Z
UID:11762-1705773600-1705780800@tv1881altdorf.de
SUMMARY:Volleyball (H) - TV SUSPA Altdorf vs. SV Lohhof
DESCRIPTION:Tick­ets: \n\n8\,50€ Erwach­sene (inkl. 1€ Verzehrgutschein)\n5\,00€ Ermäßigt (inkl. 1€ Verzehrgutschein)\n\nLivestream: https://www.sport1extra.de/en-int/page/2bundesliga-frauen-sud \nSpielplan: https://www.volleyball-bundesliga.de/cms/home/2_bundesliga_frauen/2_bundesliga_frauen_sued/tabellespielplan/spielplan.xhtml
URL:https://tv1881altdorf.de/event/damen-1-h-tv-suspa-altdorf-vs-sv-lohhof
LOCATION:Dreifachhalle der Mittelschule\, Schulstraße 6\, Altdorf\, 90518
CATEGORIES:Damen I,Heimspiel,Volleyball
END:VEVENT
BEGIN:VEVENT
DTSTART;TZID=Europe/Berlin:20240121T170000
DTEND;TZID=Europe/Berlin:20240121T183000
DTSTAMP:20260424T082550
CREATED:20230816T210100Z
LAST-MODIFIED:20240121T130505Z
UID:11353-1705856400-1705861800@tv1881altdorf.de
SUMMARY:Bezirksoberliga Frauen SG Rohr/Pavelsbach vs TV 1881 Altdorf (14)
DESCRIPTION:Bezirk­soberli­ga Frauen\nBegeg­nungs-Nr: 14\nHeim: SG Rohr/Pavelsbach\nGast: TV 1881 Altdorf\nHalle: Post­bauer-Heng\, Schul­sporthalle (240320)\nAdresse: Im Cen­trum 5\, 92353 Postbauer-Heng
URL:https://tv1881altdorf.de/event/bezirksoberliga-frauen-sg-rohr-pavelsbach-vs-tv-1881-altdorf-14
LOCATION:Postbauer-Heng\, Schulsporthalle (240320): Im Centrum 5\, 92353 Postbauer-Heng
CATEGORIES:Handball
END:VEVENT
BEGIN:VEVENT
DTSTART;TZID=Europe/Berlin:20240127T140000
DTEND;TZID=Europe/Berlin:20240127T180000
DTSTAMP:20260424T082550
CREATED:20231107T095646Z
LAST-MODIFIED:20231107T095646Z
UID:12498-1706364000-1706378400@tv1881altdorf.de
SUMMARY:Volleyball (H) - TV Altdorf IV vs. Ochenbruck 2 & Lauf 2
DESCRIPTION:
URL:https://tv1881altdorf.de/event/volleyball-h-tv-altdorf-iv-vs-ochenbruck-2-lauf-2
LOCATION:Dreifachhalle der Mittelschule\, Schulstraße 6\, Altdorf\, 90518
CATEGORIES:Damen VI,Heimspiel,Volleyball
END:VEVENT
BEGIN:VEVENT
DTSTART;TZID=Europe/Berlin:20240127T160000
DTEND;TZID=Europe/Berlin:20240127T173000
DTSTAMP:20260424T082550
CREATED:20230928T073119Z
LAST-MODIFIED:20240127T145005Z
UID:11944-1706371200-1706376600@tv1881altdorf.de
SUMMARY:Bezirksklasse Männer Staffel West SpVgg Diepersd. vs TV 1881 Altdorf II (24014051)
DESCRIPTION:Bezirk­sklasse Män­ner Staffel West\nBegeg­nungs-Nr: 24014051\nHeim: SpVgg Diepersd.\nGast: TV 1881 Alt­dorf II\nHalle: Diepers­dorf\, Schul­sporthalle (240060)\nAdresse: Diepers­dor­fer-Haupt­strasse 40\, 91227 Diepersdorf
URL:https://tv1881altdorf.de/event/bezirksklasse-maenner-staffel-west-spvgg-diepersd-vs-tv-1881-altdorf-ii-24014051
LOCATION:Diepersdorf\, Schulsporthalle (240060): Diepersdorfer-Hauptstrasse 40\, 91227 Diepersdorf
CATEGORIES:Handball
END:VEVENT
BEGIN:VEVENT
DTSTART;TZID=Europe/Berlin:20240127T174500
DTEND;TZID=Europe/Berlin:20240127T191500
DTSTAMP:20260424T082550
CREATED:20230724T171528Z
LAST-MODIFIED:20240127T145005Z
UID:10903-1706377500-1706382900@tv1881altdorf.de
SUMMARY:Bezirksliga Männer Staffel West HC Forchheim II vs TV 1881 Altdorf (8)
DESCRIPTION:Bezirk­sli­ga Män­ner Staffel West\nBegeg­nungs-Nr: 8\nHeim: HC Forch­heim II\nGast: TV 1881 Altdorf\nHalle: Forch­heim\, Sporthalle Realschule (240102)\nAdresse: Pestalozzis­traße 2\, 91301 Forchheim
URL:https://tv1881altdorf.de/event/bezirksliga-maenner-staffel-west-hc-forchheim-ii-vs-tv-1881-altdorf-8
LOCATION:Forchheim\, Sporthalle Realschule (240102): Pestalozzistraße 2\, 91301 Forchheim
CATEGORIES:Handball
END:VEVENT
BEGIN:VEVENT
DTSTART;TZID=Europe/Berlin:20240128T110000
DTEND;TZID=Europe/Berlin:20240128T123000
DTSTAMP:20260424T082550
CREATED:20230816T210113Z
LAST-MODIFIED:20240127T145005Z
UID:11355-1706439600-1706445000@tv1881altdorf.de
SUMMARY:Bezirksoberliga Frauen TV 1881 Altdorf vs Mintraching/Neutraubling II (20)
DESCRIPTION:Bezirk­soberli­ga Frauen\nBegeg­nungs-Nr: 20\nHeim: TV 1881 Altdorf\nGast: Mintraching/Neutraubling II\nHalle: Alt­dorf\, Schul­turn­halle Grund­schule (neu) (240000)\nAdresse: Hagen­hausen­er Str. 5\, 90518 Altdorf
URL:https://tv1881altdorf.de/event/bezirksoberliga-frauen-tv-1881-altdorf-vs-mintraching-neutraubling-ii-20
LOCATION:Altdorf\, Schulturnhalle Grundschule (neu) (240000): Hagenhausener Str. 5\, 90518 Altdorf
CATEGORIES:Handball
END:VEVENT
END:VCALENDAR