BEGIN:VCALENDAR
VERSION:2.0
PRODID:-//TV 1881 Altdorf e.V. - ECPv6.15.20//NONSGML v1.0//EN
CALSCALE:GREGORIAN
METHOD:PUBLISH
X-WR-CALNAME:TV 1881 Altdorf e.V.
X-ORIGINAL-URL:https://tv1881altdorf.de
X-WR-CALDESC:Veranstaltungen für TV 1881 Altdorf e.V.
REFRESH-INTERVAL;VALUE=DURATION:PT1H
X-Robots-Tag:noindex
X-PUBLISHED-TTL:PT1H
BEGIN:VTIMEZONE
TZID:Europe/Berlin
BEGIN:DAYLIGHT
TZOFFSETFROM:+0100
TZOFFSETTO:+0200
TZNAME:CEST
DTSTART:20230326T010000
END:DAYLIGHT
BEGIN:STANDARD
TZOFFSETFROM:+0200
TZOFFSETTO:+0100
TZNAME:CET
DTSTART:20231029T010000
END:STANDARD
BEGIN:DAYLIGHT
TZOFFSETFROM:+0100
TZOFFSETTO:+0200
TZNAME:CEST
DTSTART:20240331T010000
END:DAYLIGHT
BEGIN:STANDARD
TZOFFSETFROM:+0200
TZOFFSETTO:+0100
TZNAME:CET
DTSTART:20241027T010000
END:STANDARD
BEGIN:DAYLIGHT
TZOFFSETFROM:+0100
TZOFFSETTO:+0200
TZNAME:CEST
DTSTART:20250330T010000
END:DAYLIGHT
BEGIN:STANDARD
TZOFFSETFROM:+0200
TZOFFSETTO:+0100
TZNAME:CET
DTSTART:20251026T010000
END:STANDARD
END:VTIMEZONE
BEGIN:VEVENT
DTSTART;VALUE=DATE:20240302
DTEND;VALUE=DATE:20240303
DTSTAMP:20260424T053957
CREATED:20240113T103535Z
LAST-MODIFIED:20240113T103615Z
UID:13613-1709337600-1709423999@tv1881altdorf.de
SUMMARY:1. BayernCup-OL 2024 (Lang-OL)
DESCRIPTION:
URL:https://tv1881altdorf.de/event/6-bayerncup-ol-2024-lang-ol
CATEGORIES:Orientierungslauf
END:VEVENT
BEGIN:VEVENT
DTSTART;TZID=Europe/Berlin:20240302T120000
DTEND;TZID=Europe/Berlin:20240302T133000
DTSTAMP:20260424T053957
CREATED:20230816T210115Z
LAST-MODIFIED:20240302T005505Z
UID:11363-1709380800-1709386200@tv1881altdorf.de
SUMMARY:Bezirksklasse Frauen Staffel West TV 1881 Altdorf II vs HC Hersbruck II (24024053)
DESCRIPTION:Bezirk­sklasse Frauen Staffel West\nBegeg­nungs-Nr: 24024053\nHeim: TV 1881 Alt­dorf II\nGast: HC Hers­bruck II\nHalle: Alt­dorf\, Schul­turn­halle Grund­schule (neu) (240000)\nAdresse: Hagen­hausen­er Str. 5\, 90518 Altdorf
URL:https://tv1881altdorf.de/event/bezirksklasse-frauen-staffel-west-tv-1881-altdorf-ii-vs-hc-hersbruck-ii-22
LOCATION:Altdorf\, Schulturnhalle Grundschule (neu) (240000): Hagenhausener Str. 5\, 90518 Altdorf
CATEGORIES:Handball
END:VEVENT
BEGIN:VEVENT
DTSTART;TZID=Europe/Berlin:20240302T140000
DTEND;TZID=Europe/Berlin:20240302T153000
DTSTAMP:20260424T053957
CREATED:20230724T171540Z
LAST-MODIFIED:20240302T005505Z
UID:10908-1709388000-1709393400@tv1881altdorf.de
SUMMARY:Bezirksliga Männer Staffel West TV 1881 Altdorf vs HC Hersbruck (22)
DESCRIPTION:Bezirk­sli­ga Män­ner Staffel West\nBegeg­nungs-Nr: 22\nHeim: TV 1881 Altdorf\nGast: HC Hersbruck\nHalle: Alt­dorf\, Schul­turn­halle Grund­schule (neu) (240000)\nAdresse: Hagen­hausen­er Str. 5\, 90518 Altdorf
URL:https://tv1881altdorf.de/event/bezirksliga-maenner-staffel-west-tv-1881-altdorf-vs-hc-hersbruck-22
LOCATION:Altdorf\, Schulturnhalle Grundschule (neu) (240000): Hagenhausener Str. 5\, 90518 Altdorf
CATEGORIES:Handball
END:VEVENT
BEGIN:VEVENT
DTSTART;TZID=Europe/Berlin:20240302T150000
DTEND;TZID=Europe/Berlin:20240302T190000
DTSTAMP:20260424T053957
CREATED:20231001T201559Z
LAST-MODIFIED:20231001T213544Z
UID:12077-1709391600-1709406000@tv1881altdorf.de
SUMMARY:Tennis Damen Nordliga 2 ggASV Veitsbronn-Siegelsdorf
DESCRIPTION:Halle ATV 1873 Franko­nia Nbg
URL:https://tv1881altdorf.de/event/d-asv-veitsbronn-siegelsdorf
CATEGORIES:Damen,Tennis
END:VEVENT
BEGIN:VEVENT
DTSTART;TZID=Europe/Berlin:20240302T160000
DTEND;TZID=Europe/Berlin:20240302T173000
DTSTAMP:20260424T053957
CREATED:20230928T073133Z
LAST-MODIFIED:20240302T005505Z
UID:11953-1709395200-1709400600@tv1881altdorf.de
SUMMARY:Bezirksklasse Männer Staffel West TV 1881 Altdorf II vs HC Hersbruck II (24014066)
DESCRIPTION:Bezirk­sklasse Män­ner Staffel West\nBegeg­nungs-Nr: 24014066\nHeim: TV 1881 Alt­dorf II\nGast: HC Hers­bruck II\nHalle: Alt­dorf\, Schul­turn­halle Grund­schule (neu) (240000)\nAdresse: Hagen­hausen­er Str. 5\, 90518 Altdorf
URL:https://tv1881altdorf.de/event/bezirksklasse-maenner-staffel-west-tv-1881-altdorf-ii-vs-hc-hersbruck-ii-24014066
LOCATION:Altdorf\, Schulturnhalle Grundschule (neu) (240000): Hagenhausener Str. 5\, 90518 Altdorf
CATEGORIES:Handball
END:VEVENT
BEGIN:VEVENT
DTSTART;TZID=Europe/Berlin:20240302T180000
DTEND;TZID=Europe/Berlin:20240302T193000
DTSTAMP:20260424T053957
CREATED:20230816T210129Z
LAST-MODIFIED:20240302T005505Z
UID:11365-1709402400-1709407800@tv1881altdorf.de
SUMMARY:Bezirksoberliga Frauen HSG Berching/Pollanten vs TV 1881 Altdorf (40)
DESCRIPTION:Bezirk­soberli­ga Frauen\nBegeg­nungs-Nr: 40\nHeim: HSG Berching/Pollanten\nGast: TV 1881 Altdorf\nHalle: Berch­ing\, Mehrzweck­halle (240026)\nAdresse: Schle­sier­str. 19\, 92334 Berching
URL:https://tv1881altdorf.de/event/bezirksoberliga-frauen-hsg-berching-pollanten-vs-tv-1881-altdorf-40
LOCATION:Berching\, Mehrzweckhalle (240026): Schlesierstr. 19\, 92334 Berching
CATEGORIES:Handball
END:VEVENT
BEGIN:VEVENT
DTSTART;VALUE=DATE:20240303
DTEND;VALUE=DATE:20240304
DTSTAMP:20260424T053957
CREATED:20240113T103330Z
LAST-MODIFIED:20240113T103429Z
UID:13611-1709424000-1709510399@tv1881altdorf.de
SUMMARY:Bayerische Meisterschaften Sprint-OL; 2. BC 2024
DESCRIPTION:
URL:https://tv1881altdorf.de/event/bayerische-meisterschaften-sprint-ol-2-bc-2024
CATEGORIES:Orientierungslauf
END:VEVENT
BEGIN:VEVENT
DTSTART;TZID=Europe/Berlin:20240303T120000
DTEND;TZID=Europe/Berlin:20240303T160000
DTSTAMP:20260424T053957
CREATED:20230922T134557Z
LAST-MODIFIED:20231001T212252Z
UID:11854-1709467200-1709481600@tv1881altdorf.de
SUMMARY:Tennis H40_2 Nordliga 2 gg ASC Sengenthal
DESCRIPTION:Halle SC Großschwarzenlohe
URL:https://tv1881altdorf.de/event/h40_2-asc-sengenthal
CATEGORIES:Tennis
END:VEVENT
BEGIN:VEVENT
DTSTART;VALUE=DATE:20240309
DTEND;VALUE=DATE:20240310
DTSTAMP:20260424T053957
CREATED:20231208T215531Z
LAST-MODIFIED:20231208T215621Z
UID:12958-1709942400-1710028799@tv1881altdorf.de
SUMMARY:Hallenkreisbestenkämpfe Nürnberg-Land
DESCRIPTION:Ort: Lauf \nAlter­sklassen: bis U12 (ab 11 Jahre) \nAuss­chrei­bung: fol­gt noch \nZeit­plan: fol­gt noch
URL:https://tv1881altdorf.de/event/hallenkreisbestenkaempfe-2024
CATEGORIES:Leichtathletik
END:VEVENT
BEGIN:VEVENT
DTSTART;TZID=Europe/Berlin:20240309T130000
DTEND;TZID=Europe/Berlin:20240309T143000
DTSTAMP:20260424T053957
CREATED:20230816T210129Z
LAST-MODIFIED:20240309T032006Z
UID:11366-1709989200-1709994600@tv1881altdorf.de
SUMMARY:Bezirksklasse Frauen Staffel West SG DJK Erlangen/Baiersdorf II vs TV 1881 Altdorf II (24024057)
DESCRIPTION:Bezirk­sklasse Frauen Staffel West\nBegeg­nungs-Nr: 24024057\nHeim: SG DJK Erlangen/Baiersdorf II\nGast: TV 1881 Alt­dorf II\nHalle: Baiers­dorf\, Mehrzweck­halle Hauptschule (240025)\nAdresse: Am Igels­dor­fer Weg 2\, 91083 Baiersdorf
URL:https://tv1881altdorf.de/event/bezirksklasse-frauen-staffel-west-sg-djk-erlangen-baiersdorf-ii-vs-tv-1881-altdorf-ii-26
LOCATION:Baiersdorf\, Mehrzweckhalle Hauptschule (240025): Am Igelsdorfer Weg 2\, 91083 Baiersdorf
CATEGORIES:Handball
END:VEVENT
BEGIN:VEVENT
DTSTART;TZID=Europe/Berlin:20240309T150000
DTEND;TZID=Europe/Berlin:20240309T163000
DTSTAMP:20260424T053957
CREATED:20230724T171541Z
LAST-MODIFIED:20240309T032006Z
UID:10910-1709996400-1710001800@tv1881altdorf.de
SUMMARY:Bezirksliga Männer Staffel West SG DJK Erlangen/Baiersdorf vs TV 1881 Altdorf (26)
DESCRIPTION:Bezirk­sli­ga Män­ner Staffel West\nBegeg­nungs-Nr: 26\nHeim: SG DJK Erlangen/Baiersdorf\nGast: TV 1881 Altdorf\nHalle: Baiers­dorf\, Mehrzweck­halle Hauptschule (240025)\nAdresse: Am Igels­dor­fer Weg 2\, 91083 Baiersdorf
URL:https://tv1881altdorf.de/event/bezirksliga-maenner-staffel-west-sg-djk-erlangen-baiersdorf-vs-tv-1881-altdorf-26
LOCATION:Baiersdorf\, Mehrzweckhalle Hauptschule (240025): Am Igelsdorfer Weg 2\, 91083 Baiersdorf
CATEGORIES:Handball
END:VEVENT
BEGIN:VEVENT
DTSTART;TZID=Europe/Berlin:20240309T150000
DTEND;TZID=Europe/Berlin:20240309T190000
DTSTAMP:20260424T053957
CREATED:20230922T134613Z
LAST-MODIFIED:20231001T211704Z
UID:11860-1709996400-1710010800@tv1881altdorf.de
SUMMARY:Tennis H40 Nordliga 1  gg 1.FC Hersbruck
DESCRIPTION:Halle Ten­nishalle Röthenbach
URL:https://tv1881altdorf.de/event/h40-1-fc-hersbruck
CATEGORIES:Tennis
END:VEVENT
BEGIN:VEVENT
DTSTART;TZID=Europe/Berlin:20240309T160000
DTEND;TZID=Europe/Berlin:20240309T200000
DTSTAMP:20260424T053957
CREATED:20230922T134628Z
LAST-MODIFIED:20231001T213809Z
UID:11865-1710000000-1710014400@tv1881altdorf.de
SUMMARY:Tennis H50 Landesliga 2 gg TC Rot-Blau Regensburg II
DESCRIPTION:Halle MEGA-Sports Obertraubling
URL:https://tv1881altdorf.de/event/h50-tc-rot-blau-regensburg-ii
CATEGORIES:Herren 50,Tennis
END:VEVENT
BEGIN:VEVENT
DTSTART;VALUE=DATE:20240310
DTEND;VALUE=DATE:20240311
DTSTAMP:20260424T053957
CREATED:20231208T215350Z
LAST-MODIFIED:20231208T215439Z
UID:12956-1710028800-1710115199@tv1881altdorf.de
SUMMARY:Hallenkreismeisterschaften Nürnberg-Land
DESCRIPTION:Ort: Lauf \nAlter­sklassen: ab U14 (ab 12 Jahre) \nAuss­chrei­bung: fol­gt noch \nZeit­plan: fol­gt noch
URL:https://tv1881altdorf.de/event/hallenkreismeisterschaften-2024
CATEGORIES:Leichtathletik
END:VEVENT
BEGIN:VEVENT
DTSTART;TZID=Europe/Berlin:20240310T160000
DTEND;TZID=Europe/Berlin:20240310T173000
DTSTAMP:20260424T053957
CREATED:20230816T210130Z
LAST-MODIFIED:20240310T035505Z
UID:11367-1710086400-1710091800@tv1881altdorf.de
SUMMARY:Bezirksoberliga Frauen TV 1881 Altdorf vs ESV 27 Regensbg. III (46)
DESCRIPTION:Bezirk­soberli­ga Frauen\nBegeg­nungs-Nr: 46\nHeim: TV 1881 Altdorf\nGast: ESV 27 Regens­bg. III\nHalle: Alt­dorf\, Schul­turn­halle Grund­schule (neu) (240000)\nAdresse: Hagen­hausen­er Str. 5\, 90518 Altdorf
URL:https://tv1881altdorf.de/event/bezirksoberliga-frauen-tv-1881-altdorf-vs-esv-27-regensbg-iii-46
LOCATION:Altdorf\, Schulturnhalle Grundschule (neu) (240000): Hagenhausener Str. 5\, 90518 Altdorf
CATEGORIES:Handball
END:VEVENT
BEGIN:VEVENT
DTSTART;TZID=Europe/Berlin:20240310T160000
DTEND;TZID=Europe/Berlin:20240310T173000
DTSTAMP:20260424T053957
CREATED:20230928T073146Z
LAST-MODIFIED:20240310T035505Z
UID:11955-1710086400-1710091800@tv1881altdorf.de
SUMMARY:Bezirksklasse Männer Staffel West TS Herzogenaurach II vs TV 1881 Altdorf II (24014074)
DESCRIPTION:Bezirk­sklasse Män­ner Staffel West\nBegeg­nungs-Nr: 24014074\nHeim: TS Her­zo­ge­nau­rach II\nGast: TV 1881 Alt­dorf II\nHalle: Her­zo­ge­nau­rach\, Sporthalle Gym­na­si­um (240145)\nAdresse: Burgstaller Weg 20\, 91074 Herzogenaurach
URL:https://tv1881altdorf.de/event/bezirksklasse-maenner-staffel-west-ts-herzogenaurach-ii-vs-tv-1881-altdorf-ii-24014074
LOCATION:Herzogenaurach\, Sporthalle Gymnasium (240145): Burgstaller Weg 20\, 91074 Herzogenaurach
CATEGORIES:Handball
END:VEVENT
BEGIN:VEVENT
DTSTART;TZID=Europe/Berlin:20240315T203000
DTEND;TZID=Europe/Berlin:20240315T220000
DTSTAMP:20260424T053957
CREATED:20230623T145456Z
LAST-MODIFIED:20240315T053505Z
UID:10244-1710534600-1710540000@tv1881altdorf.de
SUMMARY:Monatsversammlung Handballabteilung
DESCRIPTION:
URL:https://tv1881altdorf.de/event/monatsversammlung-handballabteilung-3
LOCATION:Gaststätte Sportpark\, Heumannstraße 5\, 90518 Altdorf bei Nürnberg\, Deutschland
CATEGORIES:Handball
END:VEVENT
BEGIN:VEVENT
DTSTART;VALUE=DATE:20240316
DTEND;VALUE=DATE:20240317
DTSTAMP:20260424T053957
CREATED:20231228T172803Z
LAST-MODIFIED:20240316T195511Z
UID:13444-1710547200-1710633599@tv1881altdorf.de
SUMMARY:2. Lauf zur Orientierungslauf Serie Altdorf
DESCRIPTION:Ort: Nürnberg-Moorenbrunn \nAuss­chrei­bung: hier \nErgeb­nisse Bahn: hier \nErgeb­nisse Kat­e­gorie: hier \nZwis­chen­zeit­en: hier
URL:https://tv1881altdorf.de/event/2-lauf-zur-orientierungslauf-serie-altdorf
CATEGORIES:Orientierungslauf
ATTACH;FMTTYPE=image/jpeg:https://tv1881altdorf.de/wp-content/uploads/2023/11/OL_OLSA-Logo-Big.jpeg
END:VEVENT
BEGIN:VEVENT
DTSTART;TZID=Europe/Berlin:20240316T113000
DTEND;TZID=Europe/Berlin:20240316T130000
DTSTAMP:20260424T053957
CREATED:20230724T171541Z
LAST-MODIFIED:20240316T061504Z
UID:10911-1710588600-1710594000@tv1881altdorf.de
SUMMARY:Bezirksliga Männer Staffel West TV 1881 Altdorf vs SV Buckenhofen II (31)
DESCRIPTION:Bezirk­sli­ga Män­ner Staffel West\nBegeg­nungs-Nr: 31\nHeim: TV 1881 Altdorf\nGast: SV Buck­en­hofen II\nHalle: Alt­dorf\, Schul­turn­halle Grund­schule (neu) (240000)\nAdresse: Hagen­hausen­er Str. 5\, 90518 Altdorf
URL:https://tv1881altdorf.de/event/bezirksliga-maenner-staffel-west-tv-1881-altdorf-vs-sv-buckenhofen-ii-31
LOCATION:Altdorf\, Schulturnhalle Grundschule (neu) (240000): Hagenhausener Str. 5\, 90518 Altdorf
CATEGORIES:Handball
END:VEVENT
BEGIN:VEVENT
DTSTART;VALUE=DATE:20240317
DTEND;VALUE=DATE:20240318
DTSTAMP:20260424T053957
CREATED:20240113T102957Z
LAST-MODIFIED:20240113T103130Z
UID:13607-1710633600-1710719999@tv1881altdorf.de
SUMMARY:6. Lauf der Regensburg WLS 23/24
DESCRIPTION:
URL:https://tv1881altdorf.de/event/6-lauf-der-regensburg-wls-23-24
CATEGORIES:Orientierungslauf
END:VEVENT
BEGIN:VEVENT
DTSTART;TZID=Europe/Berlin:20240317T110000
DTEND;TZID=Europe/Berlin:20240317T123000
DTSTAMP:20260424T053957
CREATED:20230816T210130Z
LAST-MODIFIED:20240317T062005Z
UID:11368-1710673200-1710678600@tv1881altdorf.de
SUMMARY:Bezirksklasse Frauen Staffel West TV 1881 Altdorf II vs SG Rohr/Pavelsbach II (24024061)
DESCRIPTION:Bezirk­sklasse Frauen Staffel West\nBegeg­nungs-Nr: 24024061\nHeim: TV 1881 Alt­dorf II\nGast: SG Rohr/Pavelsbach II\nHalle: Alt­dorf\, Schul­turn­halle Grund­schule (neu) (240000)\nAdresse: Hagen­hausen­er Str. 5\, 90518 Altdorf
URL:https://tv1881altdorf.de/event/bezirksklasse-frauen-staffel-west-tv-1881-altdorf-ii-vs-sg-rohr-pavelsbach-ii-31
LOCATION:Altdorf\, Schulturnhalle Grundschule (neu) (240000): Hagenhausener Str. 5\, 90518 Altdorf
CATEGORIES:Handball
END:VEVENT
BEGIN:VEVENT
DTSTART;TZID=Europe/Berlin:20240323T180000
DTEND;TZID=Europe/Berlin:20240323T200000
DTSTAMP:20260424T053957
CREATED:20230919T120245Z
LAST-MODIFIED:20230920T120753Z
UID:11772-1711216800-1711224000@tv1881altdorf.de
SUMMARY:Volleyball (H) - TV SUSPA Altdorf vs. proWin Volleys Holz
DESCRIPTION:Tick­ets: \n\n8\,50€ Erwach­sene (inkl. 1€ Verzehrgutschein)\n5\,00€ Ermäßigt (inkl. 1€ Verzehrgutschein)\n\nLivestream: https://www.sport1extra.de/en-int/page/2bundesliga-frauen-sud \nSpielplan: https://www.volleyball-bundesliga.de/cms/home/2_bundesliga_frauen/2_bundesliga_frauen_sued/tabellespielplan/spielplan.xhtml
URL:https://tv1881altdorf.de/event/damen-1-h-tv-suspa-altdorf-vs-prowin-volleys-holz
LOCATION:Dreifachhalle der Mittelschule\, Schulstraße 6\, Altdorf\, 90518
CATEGORIES:Damen I,Heimspiel,Volleyball
END:VEVENT
BEGIN:VEVENT
DTSTART;TZID=Europe/Berlin:20240324T100000
DTEND;TZID=Europe/Berlin:20240324T113000
DTSTAMP:20260424T053957
CREATED:20230816T210131Z
LAST-MODIFIED:20240324T080505Z
UID:11371-1711274400-1711279800@tv1881altdorf.de
SUMMARY:Bezirksklasse Frauen Staffel West TV 1881 Altdorf II vs SG Auerbach/Pegnitz (24024068)
DESCRIPTION:Bezirk­sklasse Frauen Staffel West\nBegeg­nungs-Nr: 24024068\nHeim: TV 1881 Alt­dorf II\nGast: SG Auerbach/Pegnitz\nHalle: Alt­dorf\, Schul­turn­halle Grund­schule (neu) (240000)\nAdresse: Hagen­hausen­er Str. 5\, 90518 Altdorf
URL:https://tv1881altdorf.de/event/bezirksklasse-frauen-staffel-west-tv-1881-altdorf-ii-vs-sg-auerbach-pegnitz-40
LOCATION:Altdorf\, Schulturnhalle Grundschule (neu) (240000): Hagenhausener Str. 5\, 90518 Altdorf
CATEGORIES:Handball
END:VEVENT
BEGIN:VEVENT
DTSTART;TZID=Europe/Berlin:20240324T120000
DTEND;TZID=Europe/Berlin:20240324T133000
DTSTAMP:20260424T053957
CREATED:20230928T073159Z
LAST-MODIFIED:20240321T130503Z
UID:11959-1711281600-1711287000@tv1881altdorf.de
SUMMARY:Freundschaftspiel: TV 1881 Altdorf H2 : DJK Neumarkt
DESCRIPTION:Halle: Alt­dorf\, Schul­turn­halle Grund­schule (neu) (240000)\nAdresse: Hagen­hausen­er Str. 5\, 90518 Altdorf
URL:https://tv1881altdorf.de/event/bezirksklasse-maenner-staffel-west-tv-1881-altdorf-ii-vs-sc-uttenreuth-24014084
LOCATION:Altdorf\, Schulturnhalle Grundschule (neu) (240000): Hagenhausener Str. 5\, 90518 Altdorf
CATEGORIES:Handball
END:VEVENT
BEGIN:VEVENT
DTSTART;TZID=Europe/Berlin:20240324T140000
DTEND;TZID=Europe/Berlin:20240324T153000
DTSTAMP:20260424T053957
CREATED:20230816T210144Z
LAST-MODIFIED:20240324T080505Z
UID:11372-1711288800-1711294200@tv1881altdorf.de
SUMMARY:Bezirksoberliga Frauen TV 1881 Altdorf vs HV Oberviechtach (59)
DESCRIPTION:Bezirk­soberli­ga Frauen\nBegeg­nungs-Nr: 59\nHeim: TV 1881 Altdorf\nGast: HV Oberviechtach\nHalle: Alt­dorf\, Schul­turn­halle Grund­schule (neu) (240000)\nAdresse: Hagen­hausen­er Str. 5\, 90518 Altdorf
URL:https://tv1881altdorf.de/event/bezirksoberliga-frauen-tv-1881-altdorf-vs-hv-oberviechtach-59
LOCATION:Altdorf\, Schulturnhalle Grundschule (neu) (240000): Hagenhausener Str. 5\, 90518 Altdorf
CATEGORIES:Handball
END:VEVENT
BEGIN:VEVENT
DTSTART;TZID=Europe/Berlin:20240324T160000
DTEND;TZID=Europe/Berlin:20240324T173000
DTSTAMP:20260424T053957
CREATED:20230724T171542Z
LAST-MODIFIED:20240324T080505Z
UID:10912-1711296000-1711301400@tv1881altdorf.de
SUMMARY:Bezirksliga Männer Staffel West TV 1881 Altdorf vs SG Auerbach/Pegnitz II (40)
DESCRIPTION:Bezirk­sli­ga Män­ner Staffel West\nBegeg­nungs-Nr: 40\nHeim: TV 1881 Altdorf\nGast: SG Auerbach/Pegnitz II\nHalle: Alt­dorf\, Schul­turn­halle Grund­schule (neu) (240000)\nAdresse: Hagen­hausen­er Str. 5\, 90518 Altdorf
URL:https://tv1881altdorf.de/event/bezirksliga-maenner-staffel-west-tv-1881-altdorf-vs-sg-auerbach-pegnitz-ii-40
LOCATION:Altdorf\, Schulturnhalle Grundschule (neu) (240000): Hagenhausener Str. 5\, 90518 Altdorf
CATEGORIES:Handball
END:VEVENT
BEGIN:VEVENT
DTSTART;VALUE=DATE:20240331
DTEND;VALUE=DATE:20240407
DTSTAMP:20260424T053957
CREATED:20240312T134334Z
LAST-MODIFIED:20240312T134334Z
UID:14640-1711843200-1712447999@tv1881altdorf.de
SUMMARY:Baseball Camp Easterball in Rimini
DESCRIPTION:Seit 15 Jahren fahren die Ice­sharks nach Rim­i­ni in das Base­ball Camp East­er­ball um sich den Schliff für die vor ihnen liegende Sai­son zu holen. In diesem Jahr sind es 8 aktive Teil­nehmer\, darunter 6 Jugend­spiel­er zzgl. 5 Begleit­per­so­n­en\, bzw. Eltern­teile\, die ihre freie Zeit unter der Mit­telmehrson­ne ver­brin­gen und Spaß haben. \nAnreise ist am Son­ntag 31. März und die Rück­reise am 06. April 2024. Die Coach­es rekru­tieren sich aus ehe­ma­li­gen Profi- und Col­lege Spiel­ern. Simon Gührung\, ehe­ma­liger Team­chef der Deutschen Base­ball National­mannschaft begleit­et als Catch­er die Kursteilnehmer.
URL:https://tv1881altdorf.de/event/baseball-camp-easterball-in-rimini
LOCATION:Hotel Byron Rimini\, Viale Giuliano Dati 88\, Viserba RN\, Italien
CATEGORIES:Allgemein,Baseball
END:VEVENT
END:VCALENDAR