BEGIN:VCALENDAR
VERSION:2.0
PRODID:-//TV 1881 Altdorf e.V. - ECPv6.15.20//NONSGML v1.0//EN
CALSCALE:GREGORIAN
METHOD:PUBLISH
X-ORIGINAL-URL:https://tv1881altdorf.de
X-WR-CALDESC:Veranstaltungen für TV 1881 Altdorf e.V.
REFRESH-INTERVAL;VALUE=DURATION:PT1H
X-Robots-Tag:noindex
X-PUBLISHED-TTL:PT1H
BEGIN:VTIMEZONE
TZID:Europe/Berlin
BEGIN:DAYLIGHT
TZOFFSETFROM:+0100
TZOFFSETTO:+0200
TZNAME:CEST
DTSTART:20230326T010000
END:DAYLIGHT
BEGIN:STANDARD
TZOFFSETFROM:+0200
TZOFFSETTO:+0100
TZNAME:CET
DTSTART:20231029T010000
END:STANDARD
BEGIN:DAYLIGHT
TZOFFSETFROM:+0100
TZOFFSETTO:+0200
TZNAME:CEST
DTSTART:20240331T010000
END:DAYLIGHT
BEGIN:STANDARD
TZOFFSETFROM:+0200
TZOFFSETTO:+0100
TZNAME:CET
DTSTART:20241027T010000
END:STANDARD
BEGIN:DAYLIGHT
TZOFFSETFROM:+0100
TZOFFSETTO:+0200
TZNAME:CEST
DTSTART:20250330T010000
END:DAYLIGHT
BEGIN:STANDARD
TZOFFSETFROM:+0200
TZOFFSETTO:+0100
TZNAME:CET
DTSTART:20251026T010000
END:STANDARD
END:VTIMEZONE
BEGIN:VEVENT
DTSTART;TZID=Europe/Berlin:20240706T130000
DTEND;TZID=Europe/Berlin:20240706T160000
DTSTAMP:20260424T000256
CREATED:20240519T154644Z
LAST-MODIFIED:20240520T092854Z
UID:15753-1720270800-1720281600@tv1881altdorf.de
SUMMARY:Jugend Baseball – Altdorf Icesharks vs. Erlangen White Sox – Homegame in Altdorf
DESCRIPTION:Play Ball – im Sportpark! \nAm Sam­stag\, den 6. Juli ab 13.00 Uhr emp­fan­gen die Alt­dorf Ice­sharks die Laufer Wölfe. In der Jugend Base­ball Lan­desli­ga wer­den Dou­ble Head­er gespielt – zwei Spiele hin­tere­inan­der. Ein Spiel wird über 5 Innings gespielt oder mit max­i­malem Zeitlim­it von 1\,5 Stunden. \nMehr Infos
URL:https://tv1881altdorf.de/event/jugend-baseball-altdorf-icesharks-vs-sg-oberfranken-copy-2-copy-copy
LOCATION:Sportpark Altdorf
CATEGORIES:Baseball,Jugend Baseball Landesliga Nord (U15)
ATTACH;FMTTYPE=image/jpeg:https://tv1881altdorf.de/wp-content/uploads/2024/05/Baseball_Icesharks_2024-05-04_Gamepost_08_2000px.jpg
END:VEVENT
BEGIN:VEVENT
DTSTART;TZID=Europe/Berlin:20240706T130000
DTEND;TZID=Europe/Berlin:20240706T230000
DTSTAMP:20260424T000256
CREATED:20240304T080229Z
LAST-MODIFIED:20240304T081011Z
UID:14495-1720270800-1720306800@tv1881altdorf.de
SUMMARY:Handballer Cocktailstand am Altstadtfest
DESCRIPTION:Auf die Gläs­er\, fer­tig\, los! \nAm 06.07. schwin­gen die Hand­baller wieder ein­mal die Shak­er für euch und mix­en geniale Som­mer Drinks.\nVon Caipi\, über Long Island bis hin zum klas­sis­chen Aper­ol. Bei uns gibt es DIE küh­le Erfrischung! \nSchaut vor­bei und sichert euch mit unser­er Stem­pelka­rte sog­ar noch den ein oder anderen Gratis-Cocktails 😉 \nWir freuen uns auf euch\,\neure Handballer \n \n 
URL:https://tv1881altdorf.de/event/handballer-cocktailstand-am-altstadtfest
LOCATION:Altdorf bei Nürnberg
CATEGORIES:Allgemein,Handball
ATTACH;FMTTYPE=image/jpeg:https://tv1881altdorf.de/wp-content/uploads/2024/03/b841da0b-47ba-4384-81da-48fd45d667e9-1-e1709539270309.jpg
ORGANIZER;CN="Die Handballer":MAILTO:abteilungsleiter@diehandballer.de
END:VEVENT
BEGIN:VEVENT
DTSTART;TZID=Europe/Berlin:20240713T110000
DTEND;TZID=Europe/Berlin:20240713T140000
DTSTAMP:20260424T000256
CREATED:20240519T155251Z
LAST-MODIFIED:20240520T092938Z
UID:15757-1720868400-1720879200@tv1881altdorf.de
SUMMARY:Jugend Baseball – Erlangen White Sox vs. Altdorf Icesharks – On the Road
DESCRIPTION:Am Sam­stag\, den 13. Juli ab 11.00 Uhr sind die Alt­dorf Ice­sharks bei Erlan­gen White Sox zu Gast. In der Jugend Base­ball Lan­desli­ga wer­den Dou­ble Head­er gespielt – zwei Spiele hin­tere­inan­der. Ein Spiel wird über 5 Innings gespielt oder mit max­i­malem Zeitlim­it von 1\,5 Stunden. \n  \nMehr Infos
URL:https://tv1881altdorf.de/event/jugend-baseball-altdorf-icesharks-vs-sg-oberfranken-copy-copy
LOCATION:Erlangen White Sox Ballpark\, Kurt-Schumacher-Straße 11\, Erlangen\, 91052
CATEGORIES:Baseball,Jugend Baseball Landesliga Nord (U15)
ATTACH;FMTTYPE=image/jpeg:https://tv1881altdorf.de/wp-content/uploads/2024/05/Baseball_Icesharks_2024-05-04_Gamepost_05_2000px.jpg
END:VEVENT
BEGIN:VEVENT
DTSTART;TZID=Europe/Berlin:20240713T120000
DTEND;TZID=Europe/Berlin:20240713T233000
DTSTAMP:20260424T000256
CREATED:20240304T075646Z
LAST-MODIFIED:20240304T075646Z
UID:14492-1720872000-1720913400@tv1881altdorf.de
SUMMARY:Handball Jedermannturnier
DESCRIPTION:Am 13.07 find­et das jährliche Jed­er­man­nturnier der Hand­baller am Sport­platz in Alt­dorf statt. \nFür das leib­liche Wohl ist gesorgt und wir freuen uns auf alle\, die sich sportlich betäti­gen möchten.\nSchaut vor­bei und spielt mit!\nWeit­ere Infos find­et ihr auf unserem Social Media Account. \nWir freuen uns auf euch! \nDie Hand­baller des TVA
URL:https://tv1881altdorf.de/event/handball-jedermannturnier
LOCATION:Sportplatz\, Heumannstraße\, Altdorf\, 90518
CATEGORIES:Allgemein,Handball
ATTACH;FMTTYPE=image/png:https://tv1881altdorf.de/wp-content/uploads/2024/03/Jedermann.png
ORGANIZER;CN="Die Handballer":MAILTO:abteilungsleiter@diehandballer.de
END:VEVENT
BEGIN:VEVENT
DTSTART;TZID=Europe/Berlin:20240714T140000
DTEND;TZID=Europe/Berlin:20240714T163000
DTSTAMP:20260424T000256
CREATED:20240519T174020Z
LAST-MODIFIED:20240520T094814Z
UID:15811-1720965600-1720974600@tv1881altdorf.de
SUMMARY:Baseball – Game 7 – Unterwurmbach Red Sox vs. Altdorf Icesharks – On the Road
DESCRIPTION:Play Ball in Unter­wurm­bach bei Gunzenhausen\n \nAm Son­ntag\, den 14. Juli ab 14.00 Uhr sind die Alt­dorf Ice­sharks bei den Unter­wurm­bach Red Sox zu Gast. In der Lan­desklasse Base­ball Nord wer­den Sin­glegames über 7 Innings  (oder mit max­i­malem Zeitlim­it von 2\,5 Stun­den) gespielt. \n  \nLinks: \nAktuelle Tabelle \nSpielplan 2024 \nUnter­wurm­bach Red Sox \n \n  \n  \n  \n  \n  \n 
URL:https://tv1881altdorf.de/event/game-3-altdorf-icesharks-vs-unterwurmbach-redsox-home-copy-copy-2-copy
LOCATION:Unterwurmbach Red Sox Ballpark\, Lindermer 100\, Unterwurmbach / Gunzenhausen\, 91710
CATEGORIES:Baseball,Landesklasse Baseball Nord,Landesklasse Baseball Nord
ATTACH;FMTTYPE=image/jpeg:https://tv1881altdorf.de/wp-content/uploads/2024/05/13_DSC06065_1000px_Termine.jpg
END:VEVENT
BEGIN:VEVENT
DTSTART;VALUE=DATE:20240719
DTEND;VALUE=DATE:20240722
DTSTAMP:20260424T000256
CREATED:20240321T122853Z
LAST-MODIFIED:20240321T122853Z
UID:14868-1721347200-1721606399@tv1881altdorf.de
SUMMARY:ATJC und ATDC 2024
DESCRIPTION:Wir freuen uns sehr\, Sie als Teil­nehmer oder Besuch­er beim \n32. Alt­dor­fer Ten­nis Jugend Cup und dem \n7. Alt­dor­fer Ten­nis Damen Cup \nwillkom­men zu heißen — einem der am höch­sten eingestuften bay­erischen Jugend-Ten­nis­turniere. Wir wün­schen Ihnen viel Spaß beim Zuschauen\, viel Erfolg bei den Spie­len und einen guten Appetit bei den Speisen unseres engagierten Küchenteams. \nUnser her­zlich­es Dankeschön gilt allen Spon­soren und Inser­enten in diesem Mag­a­zin\, dem Vor­stand des TV 1881 Alt­dorf für die tolle Unter­stützung\, den Nach­barvere­inen für die gute Zusam­me­nar­beit sowie allen frei­willi­gen Helfern. \nUlrich Späth \nDown­loads\nAuss­chrei­bung (PDF\, 120 kb)
URL:https://tv1881altdorf.de/event/atjc-und-atdc-2024
CATEGORIES:Tennis
END:VEVENT
BEGIN:VEVENT
DTSTART;TZID=Europe/Berlin:20240720T150000
DTEND;TZID=Europe/Berlin:20240720T170000
DTSTAMP:20260424T000256
CREATED:20240403T100331Z
LAST-MODIFIED:20240403T100331Z
UID:15154-1721487600-1721494800@tv1881altdorf.de
SUMMARY:Aufbau und Vorbereitungstreffen für Halbmarathon
DESCRIPTION:Ein­teilung der Streck­en­posten und Auf­bau am Sportpark\nNach­mel­dun­gen für den Wettkampf
URL:https://tv1881altdorf.de/event/aufbau-und-vorbereitungstreffen-fuer-halbmarathon
LOCATION:Sportpark Altdorf
CATEGORIES:Lauftreff
END:VEVENT
BEGIN:VEVENT
DTSTART;TZID=Europe/Berlin:20240721T083000
DTEND;TZID=Europe/Berlin:20240721T110000
DTSTAMP:20260424T000256
CREATED:20240403T100558Z
LAST-MODIFIED:20240403T100558Z
UID:15156-1721550600-1721559600@tv1881altdorf.de
SUMMARY:35. Wallenstein-Halbmarathon
DESCRIPTION:• ab 7:00 Uhr Nach­mel­dun­gen möglich\n• Ort: Sportpark\n• Start. 8:30 Uhr für Halb­marathon und 12 km-Strecke\n• 11:00 Uhr Siegerehrung \nAlle Infos unter tv1881altdorf.de/wallenstein-halbmarathon
URL:https://tv1881altdorf.de/event/35-wallenstein-halbmarathon
LOCATION:Sportpark Altdorf
CATEGORIES:Lauftreff
END:VEVENT
BEGIN:VEVENT
DTSTART;TZID=Europe/Berlin:20240721T130000
DTEND;TZID=Europe/Berlin:20240721T160000
DTSTAMP:20260424T000256
CREATED:20240519T160145Z
LAST-MODIFIED:20240520T093006Z
UID:15762-1721566800-1721577600@tv1881altdorf.de
SUMMARY:Jugend Baseball – Guggenberger Legionäre Regensburg vs. Altdorf Icesharks – On the Road
DESCRIPTION:Am Son­ntag\, den 21. Juli ab 13.00 Uhr sind die Alt­dorf Ice­sharks bei den Guggen­berg­er Legionären in Regens­burg zu Gast. Die Armin-Wolf-Base­ball-Are­na in Regens­burg ist die größte Base­ball Loca­tion in Deutsch­land und immer einen Trip wert. In der Jugend Base­ball Lan­desli­ga wer­den Dou­ble Head­er gespielt – zwei Spiele hin­tere­inan­der. Ein Spiel wird über 5 Innings gespielt oder mit max­i­malem Zeitlim­it von 1\,5 Stunden. \n \nMehr Infos
URL:https://tv1881altdorf.de/event/jugend-baseball-altdorf-icesharks-vs-sg-oberfranken-copy-copy-copy
LOCATION:Armin-Wolf-Baseball-Arena Regensburg\, Donaustaufer Str. 258\, Regensburg\, 93055
CATEGORIES:Baseball,Jugend Baseball Landesliga Nord (U15)
ATTACH;FMTTYPE=image/jpeg:https://tv1881altdorf.de/wp-content/uploads/2024/05/Baseball_Icesharks_2024-05-04_Gamepost_06_2000px.jpg
END:VEVENT
BEGIN:VEVENT
DTSTART;TZID=Europe/Berlin:20240721T140000
DTEND;TZID=Europe/Berlin:20240721T163000
DTSTAMP:20260424T000256
CREATED:20240519T181126Z
LAST-MODIFIED:20240718T172107Z
UID:15816-1721570400-1721579400@tv1881altdorf.de
SUMMARY:Baseball – Game 8 – Altdorf Icesharks vs. Michelbach Angels – Homegame in Altdorf +++ CANCELED +++
DESCRIPTION:+++ CANCELED +++ CANCELED +++ CANCELED +++ CANCELED +++ CANCELED +++ \nDieses Spiel muss lei­der abge­sagt wer­den\, das andere Team kann nicht antreten. Somit ver­liert der Geg­n­er mit 7:0.\n \n  \n  \nPlay Ball im neuen Alt­dorf Ice­sharks Ball­park hin­ter der Mit­telschule/Leib­niz-Gym­na­si­um\n \nAm Son­ntag\, den 21. Juli ab 14.00 Uhr emp­fan­gen Alt­dorf Ice­sharks die Michel­bach Angels. In der Lan­desklasse Base­ball Nord wer­den Sin­glegames über 7 Innings  (oder mit max­i­malem Zeitlim­it von 2\,5 Stun­den) gespielt. \n  \nLinks: \nAktuelle Tabelle \nSpielplan 2024 \nMichel­bach Angels \n \n  \n  \n  \n  \n 
URL:https://tv1881altdorf.de/event/game-3-altdorf-icesharks-vs-unterwurmbach-redsox-home-copy-copy-copy
LOCATION:Altdorf Icesharks Ballpark hinter Mittelschule/Leibniz Gymnasium\, Schulstraße\, Altdorf\, Bayern\, 90518\, Deutschland
CATEGORIES:Baseball,Landesklasse Baseball Nord,Landesklasse Baseball Nord
ATTACH;FMTTYPE=image/jpeg:https://tv1881altdorf.de/wp-content/uploads/2024/05/20_DSC09638_1000px_Termine.jpg
END:VEVENT
BEGIN:VEVENT
DTSTART;VALUE=DATE:20240725
DTEND;VALUE=DATE:20240726
DTSTAMP:20260424T000256
CREATED:20231208T094405Z
LAST-MODIFIED:20231208T214518Z
UID:12939-1721865600-1721951999@tv1881altdorf.de
SUMMARY:Kreisbestenkämpfe 3-Kampf in Lauf
DESCRIPTION:Ort: Lauf \nAlter­sklassen: bis U14 \nAuss­chrei­bung: fol­gt noch \nZeit­plan: fol­gt noch
URL:https://tv1881altdorf.de/event/kreisbestenkaempfe-3kampf-2024
CATEGORIES:Leichtathletik
END:VEVENT
BEGIN:VEVENT
DTSTART;TZID=Europe/Berlin:20240726T170000
DTEND;TZID=Europe/Berlin:20240726T170000
DTSTAMP:20260424T000256
CREATED:20240403T100748Z
LAST-MODIFIED:20240403T100748Z
UID:15158-1722013200-1722013200@tv1881altdorf.de
SUMMARY:Sommerfest des Lauftreffs im Sportpark
DESCRIPTION:
URL:https://tv1881altdorf.de/event/sommerfest-des-lauftreffs-im-sportpark
LOCATION:Sportpark Altdorf
CATEGORIES:Lauftreff
END:VEVENT
BEGIN:VEVENT
DTSTART;TZID=Europe/Berlin:20240728T140000
DTEND;TZID=Europe/Berlin:20240728T163000
DTSTAMP:20260424T000256
CREATED:20240519T181624Z
LAST-MODIFIED:20240520T093647Z
UID:15820-1722175200-1722184200@tv1881altdorf.de
SUMMARY:Baseball – Game 9 – Altdorf Icesharks vs. Fürth Pirates – Homegame in Altdorf
DESCRIPTION:Play Ball im neuen Alt­dorf Ice­sharks Ball­park hin­ter der Mit­telschule/Leib­niz-Gym­na­si­um\n \nAm Son­ntag\, den 28. Juli ab 14.00 Uhr emp­fan­gen Alt­dorf Ice­sharks die Fürth Pirates. In der Lan­desklasse Base­ball Nord wer­den Sin­glegames über 7 Innings  (oder mit max­i­malem Zeitlim­it von 2\,5 Stun­den) gespielt. \n  \nLinks: \nAktuelle Tabelle \nSpielplan 2024 \nFürth Pirates \n \n  \n  \n  \n 
URL:https://tv1881altdorf.de/event/game-3-altdorf-icesharks-vs-unterwurmbach-redsox-home-copy-copy-copy-copy
LOCATION:Altdorf Icesharks Ballpark hinter Mittelschule/Leibniz Gymnasium\, Schulstraße\, Altdorf\, Bayern\, 90518\, Deutschland
CATEGORIES:Baseball,Landesklasse Baseball Nord,Landesklasse Baseball Nord
ATTACH;FMTTYPE=image/jpeg:https://tv1881altdorf.de/wp-content/uploads/2024/05/10_DSC05491_1000px_Termine.jpg
END:VEVENT
BEGIN:VEVENT
DTSTART;VALUE=DATE:20240731
DTEND;VALUE=DATE:20240801
DTSTAMP:20260424T000256
CREATED:20250407T100058Z
LAST-MODIFIED:20250407T100204Z
UID:20910-1722384000-1722470399@tv1881altdorf.de
SUMMARY:Kreisbestenkämpfe 3-Kampf in Lauf
DESCRIPTION:Ort: Lauf \nAlter­sklassen: bis U14 \nWeit­ere Infos: fol­gt noch
URL:https://tv1881altdorf.de/event/kreisbestenkaempfe-3kampf-2025
CATEGORIES:Leichtathletik
END:VEVENT
END:VCALENDAR