BEGIN:VCALENDAR
VERSION:2.0
PRODID:-//TV 1881 Altdorf e.V. - ECPv6.15.20//NONSGML v1.0//EN
CALSCALE:GREGORIAN
METHOD:PUBLISH
X-ORIGINAL-URL:https://tv1881altdorf.de
X-WR-CALDESC:Veranstaltungen für TV 1881 Altdorf e.V.
REFRESH-INTERVAL;VALUE=DURATION:PT1H
X-Robots-Tag:noindex
X-PUBLISHED-TTL:PT1H
BEGIN:VTIMEZONE
TZID:Europe/Berlin
BEGIN:DAYLIGHT
TZOFFSETFROM:+0100
TZOFFSETTO:+0200
TZNAME:CEST
DTSTART:20230326T010000
END:DAYLIGHT
BEGIN:STANDARD
TZOFFSETFROM:+0200
TZOFFSETTO:+0100
TZNAME:CET
DTSTART:20231029T010000
END:STANDARD
BEGIN:DAYLIGHT
TZOFFSETFROM:+0100
TZOFFSETTO:+0200
TZNAME:CEST
DTSTART:20240331T010000
END:DAYLIGHT
BEGIN:STANDARD
TZOFFSETFROM:+0200
TZOFFSETTO:+0100
TZNAME:CET
DTSTART:20241027T010000
END:STANDARD
BEGIN:DAYLIGHT
TZOFFSETFROM:+0100
TZOFFSETTO:+0200
TZNAME:CEST
DTSTART:20250330T010000
END:DAYLIGHT
BEGIN:STANDARD
TZOFFSETFROM:+0200
TZOFFSETTO:+0100
TZNAME:CET
DTSTART:20251026T010000
END:STANDARD
END:VTIMEZONE
BEGIN:VEVENT
DTSTART;VALUE=DATE:20240907
DTEND;VALUE=DATE:20240908
DTSTAMP:20260423T211952
CREATED:20240203T171549Z
LAST-MODIFIED:20240407T113506Z
UID:14052-1725667200-1725753599@tv1881altdorf.de
SUMMARY:Saisoneröffnungsfeier Handball
DESCRIPTION:
URL:https://tv1881altdorf.de/event/saisoneroeffnungsfeier-handball
CATEGORIES:Handball
END:VEVENT
BEGIN:VEVENT
DTSTART;VALUE=DATE:20240908
DTEND;VALUE=DATE:20240909
DTSTAMP:20260423T211952
CREATED:20240203T171550Z
LAST-MODIFIED:20240213T195010Z
UID:14053-1725753600-1725839999@tv1881altdorf.de
SUMMARY:Saisoneröffnungsfeier Jugend
DESCRIPTION:
URL:https://tv1881altdorf.de/event/saisoneroeffnungsfeier-jugend
CATEGORIES:Handball
END:VEVENT
BEGIN:VEVENT
DTSTART;TZID=Europe/Berlin:20240908T140000
DTEND;TZID=Europe/Berlin:20240908T163000
DTSTAMP:20260423T211952
CREATED:20240519T181912Z
LAST-MODIFIED:20240520T093709Z
UID:15824-1725804000-1725813000@tv1881altdorf.de
SUMMARY:Baseball – Game 10 – Franken Rebels vs. Altdorf Icesharks – On the Road
DESCRIPTION:Play Ball in Küps/Burkersdorf (Land­kreis Kronach)\n \nAm Son­ntag\, den 8. Sep­tem­ber ab 14.00 Uhr sind die Alt­dorf Ice­sharks bei den Franken Rebels zu Gast. In der Lan­desklasse Base­ball Nord wer­den Sin­glegames über 7 Innings  (oder mit max­i­malem Zeitlim­it von 2\,5 Stun­den) gespielt. \n  \nLinks: \nAktuelle Tabelle \nSpielplan 2024 \nFranken Rebels \n \n  \n  \n 
URL:https://tv1881altdorf.de/event/game-3-altdorf-icesharks-vs-unterwurmbach-redsox-home-copy-copy-2-copy-copy
LOCATION:Franken Rebels Ballpark\, Küps\, 96328
CATEGORIES:Baseball,Landesklasse Baseball Nord,Landesklasse Baseball Nord
ATTACH;FMTTYPE=image/jpeg:https://tv1881altdorf.de/wp-content/uploads/2024/05/IMG_8369_1000px_Termine.jpg
END:VEVENT
BEGIN:VEVENT
DTSTART;TZID=Europe/Berlin:20240915T140000
DTEND;TZID=Europe/Berlin:20240915T163000
DTSTAMP:20260423T211952
CREATED:20240519T183740Z
LAST-MODIFIED:20240911T205035Z
UID:15831-1726408800-1726417800@tv1881altdorf.de
SUMMARY:Baseball – Game 11 – Altdorf Icesharks vs. Niederlamsitz Greens – Homegame in Altdorf
DESCRIPTION:Play Ball im neuen Alt­dorf Ice­sharks Ball­park hin­ter der Mit­telschule/Leib­niz-Gym­na­si­um\n \nAm Son­ntag\, den 15. Sep­tem­ber ab 14.00 Uhr emp­fan­gen Alt­dorf Ice­sharks die Nieder­lam­sitz Greens. In der Lan­desklasse Base­ball Nord wer­den Sin­glegames über 7 Innings  (oder mit max­i­malem Zeitlim­it von 2\,5 Stun­den) gespielt. \n  \nLinks: \nAktuelle Tabelle \nSpielplan 2024 \nNieder­lam­sitz Greens \n \n  \n 
URL:https://tv1881altdorf.de/event/game-3-altdorf-icesharks-vs-unterwurmbach-redsox-home-copy-copy-copy-copy-copy
LOCATION:Altdorf Icesharks Ballpark hinter Mittelschule/Leibniz Gymnasium\, Schulstraße\, Altdorf\, Bayern\, 90518\, Deutschland
CATEGORIES:Baseball,Landesklasse Baseball Nord,Landesklasse Baseball Nord
ATTACH;FMTTYPE=image/jpeg:https://tv1881altdorf.de/wp-content/uploads/2024/05/Instagram-Story_2024-09-15_1125x2436px_Ankuendigung_031_WEBSITE.jpg
END:VEVENT
BEGIN:VEVENT
DTSTART;TZID=Europe/Berlin:20240916T173000
DTEND;TZID=Europe/Berlin:20240916T183000
DTSTAMP:20260423T211952
CREATED:20240908T161308Z
LAST-MODIFIED:20240908T161842Z
UID:17007-1726507800-1726511400@tv1881altdorf.de
SUMMARY:SAT 1 Bayernsport - Handball Freitagskicker und Baseballer - Sendung 16.09.2024 von 17:30 bis 18:00 Uhr
DESCRIPTION:SAT 1 Bayernsport kam zum TV 1881 Altdorf\nDie TVA-Hand­ball-Fre­itags­kick­er blick­en auf 40 Jahre zurück und dies war auch der Anlass für den Besuch von SAT 1 Bay­ern­sport! Ger­hard Schnei­der hat am 26.11.2023 ein­fach mal eine Bewer­bung per Mail geschickt\, prompt kam die Zusage von SAT 1 und DSF Redak­teur Nor­man Solled­er. Wegen der Fußball Bun­desli­ga und anschließen­der Euro 2024 kam der Ter­min dann erst am Fre­itag 02.08.2024 zustande.
URL:https://tv1881altdorf.de/event/sat-1-bayernsport-sendung-16-09-2024-von-1730-bis-1800-uhr
CATEGORIES:Allgemein
ATTACH;FMTTYPE=image/jpeg:https://tv1881altdorf.de/wp-content/uploads/2024/09/SAT-1-02.08.24-Bild-7.jpg
END:VEVENT
BEGIN:VEVENT
DTSTART;TZID=Europe/Berlin:20240921T160000
DTEND;TZID=Europe/Berlin:20240921T180000
DTSTAMP:20260423T211952
CREATED:20240903T120730Z
LAST-MODIFIED:20240920T193507Z
UID:16964-1726934400-1726941600@tv1881altdorf.de
SUMMARY:Volleyball D1(A) - TV 05 Waldgirmes
DESCRIPTION:
URL:https://tv1881altdorf.de/event/volleyball-d1a-tv-05-waldgirmes
CATEGORIES:Volleyball
END:VEVENT
BEGIN:VEVENT
DTSTART;TZID=Europe/Berlin:20240921T160000
DTEND;TZID=Europe/Berlin:20240921T180000
DTSTAMP:20260423T211952
CREATED:20240903T120731Z
LAST-MODIFIED:20240903T120731Z
UID:16965-1726934400-1726941600@tv1881altdorf.de
SUMMARY:Volleyball D1(A) - TV 05 Waldgirmes
DESCRIPTION:
URL:https://tv1881altdorf.de/event/volleyball-d1a-tv-05-waldgirmes-2
END:VEVENT
BEGIN:VEVENT
DTSTART;TZID=Europe/Berlin:20240922T140000
DTEND;TZID=Europe/Berlin:20240922T163000
DTSTAMP:20260423T211952
CREATED:20240519T184455Z
LAST-MODIFIED:20240920T141006Z
UID:15834-1727013600-1727022600@tv1881altdorf.de
SUMMARY:Baseball – Game 12 – Altdorf Icesharks vs. Memmelsdorf Barons – Homegame in Altdorf
DESCRIPTION:Play Ball im neuen Alt­dorf Ice­sharks Ball­park hin­ter der Mit­telschule/Leib­niz-Gym­na­si­um\n \nAm Son­ntag\, den 22. Sep­tem­ber ab 14.00 Uhr emp­fan­gen Alt­dorf Ice­sharks die Mem­mels­dorf Barons. In der Lan­desklasse Base­ball Nord wer­den Sin­glegames über 7 Innings  (oder mit max­i­malem Zeitlim­it von 2\,5 Stun­den) gespielt. \n  \nLinks: \nAktuelle Tabelle \nSpielplan 2024 \nMem­mels­dorf Barons \n \n  \n 
URL:https://tv1881altdorf.de/event/game-3-altdorf-icesharks-vs-unterwurmbach-redsox-home-copy-copy-copy-copy-copy-copy
LOCATION:Altdorf Icesharks Ballpark hinter Mittelschule/Leibniz Gymnasium\, Schulstraße\, Altdorf\, Bayern\, 90518\, Deutschland
CATEGORIES:Baseball,Landesklasse Baseball Nord,Landesklasse Baseball Nord
ATTACH;FMTTYPE=image/jpeg:https://tv1881altdorf.de/wp-content/uploads/2024/05/Instagram-Story_2024-09-22_1125x2436px_Ankuendigung_021-scaled.jpg
END:VEVENT
BEGIN:VEVENT
DTSTART;TZID=Europe/Berlin:20240929T100000
DTEND;TZID=Europe/Berlin:20240929T113000
DTSTAMP:20260423T211952
CREATED:20240927T112704Z
LAST-MODIFIED:20240928T120507Z
UID:17603-1727604000-1727609400@tv1881altdorf.de
SUMMARY:Bezirksklasse Staffel West TV 1881 Altdorf II vs TV Hilpoltstein II (8)
DESCRIPTION:Bezirk­sklasse Frauen Staffel West\nBegeg­nungs-Nr: 8\nHeim: TV 1881 Alt­dorf II\nGast: TV Hilpolt­stein II\nHalle: Alt­dorf\, Schul­turn­halle Grund­schule (neu) (240000)\nAdresse: Hagen­hausen­er Str. 5\, 90518 Altdorf
URL:https://tv1881altdorf.de/event/bezirksklasse-staffel-west-tv-1881-altdorf-ii-vs-tv-hilpoltstein-ii-8
LOCATION:Altdorf\, Schulturnhalle Grundschule (neu) (240000): Hagenhausener Str. 5\, 90518 Altdorf
CATEGORIES:Handball
END:VEVENT
BEGIN:VEVENT
DTSTART;TZID=Europe/Berlin:20240929T120000
DTEND;TZID=Europe/Berlin:20240929T133000
DTSTAMP:20260423T211952
CREATED:20240927T112704Z
LAST-MODIFIED:20240928T120508Z
UID:17604-1727611200-1727616600@tv1881altdorf.de
SUMMARY:Bezirksliga Staffel West TV 1881 Altdorf II vs HC Hersbruck (8)
DESCRIPTION:Bezirk­sli­ga Män­ner Staffel West\nBegeg­nungs-Nr: 8\nHeim: TV 1881 Alt­dorf II\nGast: HC Hersbruck\nHalle: Alt­dorf\, Schul­turn­halle Grund­schule (neu) (240000)\nAdresse: Hagen­hausen­er Str. 5\, 90518 Altdorf
URL:https://tv1881altdorf.de/event/bezirksliga-staffel-west-tv-1881-altdorf-ii-vs-hc-hersbruck-8
LOCATION:Altdorf\, Schulturnhalle Grundschule (neu) (240000): Hagenhausener Str. 5\, 90518 Altdorf
CATEGORIES:Handball
END:VEVENT
BEGIN:VEVENT
DTSTART;TZID=Europe/Berlin:20240929T140000
DTEND;TZID=Europe/Berlin:20240929T153000
DTSTAMP:20260423T211952
CREATED:20240927T112704Z
LAST-MODIFIED:20240929T122007Z
UID:17605-1727618400-1727623800@tv1881altdorf.de
SUMMARY:Bezirksoberliga TV 1881 Altdorf vs HC Hersbruck (11)
DESCRIPTION:Bezirk­soberli­ga Frauen\nBegeg­nungs-Nr: 11\nHeim: TV 1881 Altdorf\nGast: HC Hersbruck\nHalle: Alt­dorf\, Schul­turn­halle Grund­schule (neu) (240000)\nAdresse: Hagen­hausen­er Str. 5\, 90518 Altdorf
URL:https://tv1881altdorf.de/event/bezirksoberliga-tv-1881-altdorf-vs-hc-hersbruck-11
LOCATION:Altdorf\, Schulturnhalle Grundschule (neu) (240000): Hagenhausener Str. 5\, 90518 Altdorf
CATEGORIES:Handball
END:VEVENT
BEGIN:VEVENT
DTSTART;TZID=Europe/Berlin:20240929T160000
DTEND;TZID=Europe/Berlin:20240929T173000
DTSTAMP:20260423T211952
CREATED:20240927T112705Z
LAST-MODIFIED:20240929T122007Z
UID:17606-1727625600-1727631000@tv1881altdorf.de
SUMMARY:Bezirksoberliga TV 1881 Altdorf vs TV Wackersdorf (11)
DESCRIPTION:Bezirk­soberli­ga Männer\nBegeg­nungs-Nr: 11\nHeim: TV 1881 Altdorf\nGast: TV Wackersdorf\nHalle: Alt­dorf\, Schul­turn­halle Grund­schule (neu) (240000)\nAdresse: Hagen­hausen­er Str. 5\, 90518 Altdorf
URL:https://tv1881altdorf.de/event/bezirksoberliga-tv-1881-altdorf-vs-tv-wackersdorf-11
LOCATION:Altdorf\, Schulturnhalle Grundschule (neu) (240000): Hagenhausener Str. 5\, 90518 Altdorf
CATEGORIES:Handball
END:VEVENT
END:VCALENDAR