BEGIN:VCALENDAR
VERSION:2.0
PRODID:-//TV 1881 Altdorf e.V. - ECPv6.15.20//NONSGML v1.0//EN
CALSCALE:GREGORIAN
METHOD:PUBLISH
X-ORIGINAL-URL:https://tv1881altdorf.de
X-WR-CALDESC:Veranstaltungen für TV 1881 Altdorf e.V.
REFRESH-INTERVAL;VALUE=DURATION:PT1H
X-Robots-Tag:noindex
X-PUBLISHED-TTL:PT1H
BEGIN:VTIMEZONE
TZID:Europe/Berlin
BEGIN:DAYLIGHT
TZOFFSETFROM:+0100
TZOFFSETTO:+0200
TZNAME:CEST
DTSTART:20230326T010000
END:DAYLIGHT
BEGIN:STANDARD
TZOFFSETFROM:+0200
TZOFFSETTO:+0100
TZNAME:CET
DTSTART:20231029T010000
END:STANDARD
BEGIN:DAYLIGHT
TZOFFSETFROM:+0100
TZOFFSETTO:+0200
TZNAME:CEST
DTSTART:20240331T010000
END:DAYLIGHT
BEGIN:STANDARD
TZOFFSETFROM:+0200
TZOFFSETTO:+0100
TZNAME:CET
DTSTART:20241027T010000
END:STANDARD
BEGIN:DAYLIGHT
TZOFFSETFROM:+0100
TZOFFSETTO:+0200
TZNAME:CEST
DTSTART:20250330T010000
END:DAYLIGHT
BEGIN:STANDARD
TZOFFSETFROM:+0200
TZOFFSETTO:+0100
TZNAME:CET
DTSTART:20251026T010000
END:STANDARD
END:VTIMEZONE
BEGIN:VEVENT
DTSTART;TZID=Europe/Berlin:20241102T120000
DTEND;TZID=Europe/Berlin:20241102T133000
DTSTAMP:20260423T183147
CREATED:20240927T114205Z
LAST-MODIFIED:20241102T063507Z
UID:17648-1730548800-1730554200@tv1881altdorf.de
SUMMARY:Bezirksklasse Staffel West TV 1881 Altdorf II vs DJK SV Berg (29)
DESCRIPTION:Bezirk­sklasse Frauen Staffel West\nBegeg­nungs-Nr: 29\nHeim: TV 1881 Alt­dorf II\nGast: DJK SV Berg\nHalle: Alt­dorf\, Schul­turn­halle Grund­schule (neu) (240000)\nAdresse: Hagen­hausen­er Str. 5\, 90518 Altdorf
URL:https://tv1881altdorf.de/event/bezirksklasse-staffel-west-tv-1881-altdorf-ii-vs-djk-sv-berg-29
LOCATION:Altdorf\, Schulturnhalle Grundschule (neu) (240000): Hagenhausener Str. 5\, 90518 Altdorf
CATEGORIES:Handball
END:VEVENT
BEGIN:VEVENT
DTSTART;TZID=Europe/Berlin:20241103T143000
DTEND;TZID=Europe/Berlin:20241103T160000
DTSTAMP:20260423T183147
CREATED:20240927T114205Z
LAST-MODIFIED:20241103T065008Z
UID:17649-1730644200-1730649600@tv1881altdorf.de
SUMMARY:Bezirksoberliga TV 1881 Altdorf vs HSG Pyrbaum/Seligenporten (33)
DESCRIPTION:Bezirk­soberli­ga Frauen\nBegeg­nungs-Nr: 33\nHeim: TV 1881 Altdorf\nGast: HSG Pyrbaum/Seligenporten\nHalle: Alt­dorf\, Schul­turn­halle Grund­schule (neu) (240000)\nAdresse: Hagen­hausen­er Str. 5\, 90518 Altdorf
URL:https://tv1881altdorf.de/event/bezirksoberliga-tv-1881-altdorf-vs-hsg-pyrbaum-seligenporten-33
LOCATION:Altdorf\, Schulturnhalle Grundschule (neu) (240000): Hagenhausener Str. 5\, 90518 Altdorf
CATEGORIES:Handball
END:VEVENT
BEGIN:VEVENT
DTSTART;TZID=Europe/Berlin:20241103T150000
DTEND;TZID=Europe/Berlin:20241103T170000
DTSTAMP:20260423T183147
CREATED:20241002T123846Z
LAST-MODIFIED:20241102T210507Z
UID:17980-1730646000-1730653200@tv1881altdorf.de
SUMMARY:Volleyball D2 (A) - TSV Eiselfing
DESCRIPTION:
URL:https://tv1881altdorf.de/event/volleyball-d2-a-tsv-eiselfing
CATEGORIES:Volleyball
END:VEVENT
BEGIN:VEVENT
DTSTART;TZID=Europe/Berlin:20241103T160000
DTEND;TZID=Europe/Berlin:20241103T180000
DTSTAMP:20260423T183147
CREATED:20240903T120732Z
LAST-MODIFIED:20241103T150508Z
UID:16969-1730649600-1730656800@tv1881altdorf.de
SUMMARY:Volleyball D1 (A) - TG Bad Soden
DESCRIPTION:
URL:https://tv1881altdorf.de/event/volleyball-d1-a-tg-bad-soden
CATEGORIES:Volleyball
END:VEVENT
BEGIN:VEVENT
DTSTART;TZID=Europe/Berlin:20241103T163000
DTEND;TZID=Europe/Berlin:20241103T180000
DTSTAMP:20260423T183147
CREATED:20240927T114206Z
LAST-MODIFIED:20241103T065008Z
UID:17650-1730651400-1730656800@tv1881altdorf.de
SUMMARY:Bezirksoberliga TV 1881 Altdorf vs HG Eckental (33)
DESCRIPTION:Bezirk­soberli­ga Männer\nBegeg­nungs-Nr: 33\nHeim: TV 1881 Altdorf\nGast: HG Eckental\nHalle: Alt­dorf\, Schul­turn­halle Grund­schule (neu) (240000)\nAdresse: Hagen­hausen­er Str. 5\, 90518 Altdorf
URL:https://tv1881altdorf.de/event/bezirksoberliga-tv-1881-altdorf-vs-hg-eckental-33
LOCATION:Altdorf\, Schulturnhalle Grundschule (neu) (240000): Hagenhausener Str. 5\, 90518 Altdorf
CATEGORIES:Handball
END:VEVENT
BEGIN:VEVENT
DTSTART;TZID=Europe/Berlin:20241109T110000
DTEND;TZID=Europe/Berlin:20241109T150000
DTSTAMP:20260423T183147
CREATED:20240927T114206Z
LAST-MODIFIED:20241109T082008Z
UID:17651-1731150000-1731164400@tv1881altdorf.de
SUMMARY:E-Jugend Turnier - Eckental
DESCRIPTION:
URL:https://tv1881altdorf.de/event/e-jugend-turnier-eckental
CATEGORIES:Handball
END:VEVENT
BEGIN:VEVENT
DTSTART;TZID=Europe/Berlin:20241109T140000
DTEND;TZID=Europe/Berlin:20241109T153000
DTSTAMP:20260423T183147
CREATED:20240927T114206Z
LAST-MODIFIED:20241109T082007Z
UID:17652-1731160800-1731166200@tv1881altdorf.de
SUMMARY:Bezirksklasse Staffel West TV 1881 Altdorf II vs SG Rohr/Pavelsbach II (22)
DESCRIPTION:Bezirk­sklasse Frauen Staffel West\nBegeg­nungs-Nr: 22\nHeim: TV 1881 Alt­dorf II\nGast: SG Rohr/Pavelsbach II\nHalle: Alt­dorf\, Schul­turn­halle Grund­schule (neu) (240000)\nAdresse: Hagen­hausen­er Str. 5\, 90518 Altdorf
URL:https://tv1881altdorf.de/event/bezirksklasse-staffel-west-tv-1881-altdorf-ii-vs-sg-rohr-pavelsbach-ii-22
LOCATION:Altdorf\, Schulturnhalle Grundschule (neu) (240000): Hagenhausener Str. 5\, 90518 Altdorf
CATEGORIES:Handball
END:VEVENT
BEGIN:VEVENT
DTSTART;TZID=Europe/Berlin:20241109T154500
DTEND;TZID=Europe/Berlin:20241109T171500
DTSTAMP:20260423T183147
CREATED:20240927T114207Z
LAST-MODIFIED:20241109T082008Z
UID:17653-1731167100-1731172500@tv1881altdorf.de
SUMMARY:Bezirksliga Staffel West TV 1881 Altdorf II vs SG Auerbach/Pegnitz II (22)
DESCRIPTION:Bezirk­sli­ga Män­ner Staffel West\nBegeg­nungs-Nr: 22\nHeim: TV 1881 Alt­dorf II\nGast: SG Auerbach/Pegnitz II\nHalle: Alt­dorf\, Schul­turn­halle Grund­schule (neu) (240000)\nAdresse: Hagen­hausen­er Str. 5\, 90518 Altdorf
URL:https://tv1881altdorf.de/event/bezirksliga-staffel-west-tv-1881-altdorf-ii-vs-sg-auerbach-pegnitz-ii-22
LOCATION:Altdorf\, Schulturnhalle Grundschule (neu) (240000): Hagenhausener Str. 5\, 90518 Altdorf
CATEGORIES:Handball
END:VEVENT
BEGIN:VEVENT
DTSTART;TZID=Europe/Berlin:20241110T180000
DTEND;TZID=Europe/Berlin:20241110T193000
DTSTAMP:20260423T183147
CREATED:20240927T114207Z
LAST-MODIFIED:20241110T083507Z
UID:17654-1731261600-1731267000@tv1881altdorf.de
SUMMARY:Bezirksoberliga SG Rohr/Pavelsbach vs TV 1881 Altdorf (39)
DESCRIPTION:Bezirk­soberli­ga Frauen\nBegeg­nungs-Nr: 39\nHeim: SG Rohr/Pavelsbach\nGast: TV 1881 Altdorf\nHalle: Post­bauer-Heng\, Schul­sporthalle (240320)\nAdresse: Im Cen­trum 5\, 92353 Postbauer-Heng
URL:https://tv1881altdorf.de/event/bezirksoberliga-sg-rohr-pavelsbach-vs-tv-1881-altdorf-39
LOCATION:Postbauer-Heng\, Schulsporthalle (240320): Im Centrum 5\, 92353 Postbauer-Heng
CATEGORIES:Handball
END:VEVENT
BEGIN:VEVENT
DTSTART;TZID=Europe/Berlin:20241116T120000
DTEND;TZID=Europe/Berlin:20241116T133000
DTSTAMP:20260423T183147
CREATED:20240927T114207Z
LAST-MODIFIED:20241116T100508Z
UID:17655-1731758400-1731763800@tv1881altdorf.de
SUMMARY:Bezirksoberliga TV 1881 Altdorf vs HG Amberg  (44)
DESCRIPTION:Bezirk­soberli­ga Frauen\nBegeg­nungs-Nr: 44\nHeim: TV 1881 Altdorf\nGast: HG Amberg\nHalle: Alt­dorf\, Schul­turn­halle Grund­schule (neu) (240000)\nAdresse: Hagen­hausen­er Str. 5\, 90518 Altdorf
URL:https://tv1881altdorf.de/event/bezirksoberliga-tv-1881-altdorf-vs-hg-amberg-44
LOCATION:Altdorf\, Schulturnhalle Grundschule (neu) (240000): Hagenhausener Str. 5\, 90518 Altdorf
CATEGORIES:Handball
END:VEVENT
BEGIN:VEVENT
DTSTART;TZID=Europe/Berlin:20241116T140000
DTEND;TZID=Europe/Berlin:20241116T153000
DTSTAMP:20260423T183147
CREATED:20240927T114207Z
LAST-MODIFIED:20241116T100508Z
UID:17656-1731765600-1731771000@tv1881altdorf.de
SUMMARY:Bezirksoberliga TV 1881 Altdorf vs HG Amberg  (44)
DESCRIPTION:Bezirk­soberli­ga Männer\nBegeg­nungs-Nr: 44\nHeim: TV 1881 Altdorf\nGast: HG Amberg\nHalle: Alt­dorf\, Schul­turn­halle Grund­schule (neu) (240000)\nAdresse: Hagen­hausen­er Str. 5\, 90518 Altdorf
URL:https://tv1881altdorf.de/event/bezirksoberliga-tv-1881-altdorf-vs-hg-amberg-44-2
LOCATION:Altdorf\, Schulturnhalle Grundschule (neu) (240000): Hagenhausener Str. 5\, 90518 Altdorf
CATEGORIES:Handball
END:VEVENT
BEGIN:VEVENT
DTSTART;TZID=Europe/Berlin:20241116T143000
DTEND;TZID=Europe/Berlin:20241116T163000
DTSTAMP:20260423T183147
CREATED:20241002T123847Z
LAST-MODIFIED:20241116T102008Z
UID:17981-1731767400-1731774600@tv1881altdorf.de
SUMMARY:Volleyball D2 (H) - TSV Ansbach
DESCRIPTION:
URL:https://tv1881altdorf.de/event/volleyball-d2-h-tsv-ansbach
CATEGORIES:Volleyball
END:VEVENT
BEGIN:VEVENT
DTSTART;TZID=Europe/Berlin:20241116T180000
DTEND;TZID=Europe/Berlin:20241116T200000
DTSTAMP:20260423T183147
CREATED:20240903T120732Z
LAST-MODIFIED:20241116T182008Z
UID:16971-1731780000-1731787200@tv1881altdorf.de
SUMMARY:Volleyball D1 (H) - TSV Unterhaching
DESCRIPTION:
URL:https://tv1881altdorf.de/event/volleyball-d1-h-tsv-unterhaching
CATEGORIES:Volleyball
END:VEVENT
BEGIN:VEVENT
DTSTART;TZID=Europe/Berlin:20241117T093000
DTEND;TZID=Europe/Berlin:20241117T143000
DTSTAMP:20260423T183147
CREATED:20240927T114220Z
LAST-MODIFIED:20241117T102008Z
UID:17658-1731835800-1731853800@tv1881altdorf.de
SUMMARY:SpoPis Tunier Neumarkt
DESCRIPTION:
URL:https://tv1881altdorf.de/event/spopis-tunier-neumarkt
LOCATION:An der Woffenbacher Str. 38\, 92318 Neumarkt
CATEGORIES:Handball
END:VEVENT
BEGIN:VEVENT
DTSTART;TZID=Europe/Berlin:20241123T100000
DTEND;TZID=Europe/Berlin:20241123T150000
DTSTAMP:20260423T183147
CREATED:20240927T114220Z
LAST-MODIFIED:20241123T115008Z
UID:17660-1732356000-1732374000@tv1881altdorf.de
SUMMARY:SpoPis Tunier Auerbach
DESCRIPTION:
URL:https://tv1881altdorf.de/event/spopis-tunier-auerbach
LOCATION:Place de Laneuveville\, 91275 Auerbach
CATEGORIES:Handball
END:VEVENT
BEGIN:VEVENT
DTSTART;TZID=Europe/Berlin:20241123T153000
DTEND;TZID=Europe/Berlin:20241123T170000
DTSTAMP:20260423T183147
CREATED:20240927T114221Z
LAST-MODIFIED:20241123T115008Z
UID:17661-1732375800-1732381200@tv1881altdorf.de
SUMMARY:Bezirksoberliga HC Forchheim vs TV 1881 Altdorf (50)
DESCRIPTION:Bezirk­soberli­ga Frauen\nBegeg­nungs-Nr: 50\nHeim: HC Forchheim\nGast: TV 1881 Altdorf\nHalle: Forch­heim\, Sporthalle Realschule (240102)\nAdresse: PestalozzistraÃe 2\, 91301 Forchheim
URL:https://tv1881altdorf.de/event/bezirksoberliga-hc-forchheim-vs-tv-1881-altdorf-50
LOCATION:Forchheim\, Sporthalle Realschule (240102): PestalozzistraÃe 2\, 91301 Forchheim
CATEGORIES:Handball
END:VEVENT
BEGIN:VEVENT
DTSTART;TZID=Europe/Berlin:20241123T160000
DTEND;TZID=Europe/Berlin:20241123T173000
DTSTAMP:20260423T183147
CREATED:20240927T114221Z
LAST-MODIFIED:20241123T115010Z
UID:17662-1732377600-1732383000@tv1881altdorf.de
SUMMARY:Bezirksklasse Staffel West TSV Winkelhaid vs TV 1881 Altdorf II (26)
DESCRIPTION:Bezirk­sklasse Frauen Staffel West\nBegeg­nungs-Nr: 26\nHeim: TSV Winkelhaid\nGast: TV 1881 Alt­dorf II\nHalle: Winkel­haid\, Dr. Diet­mar-Traut­mann-Sportan­lage (240465)\nAdresse: SportparkstraÃe 2\, 90610 Winkelhaid
URL:https://tv1881altdorf.de/event/bezirksklasse-staffel-west-tsv-winkelhaid-vs-tv-1881-altdorf-ii-26
LOCATION:Winkelhaid\, Dr. Dietmar-Trautmann-Sportanlage (240465): SportparkstraÃe 2\, 90610 Winkelhaid
CATEGORIES:Handball
END:VEVENT
BEGIN:VEVENT
DTSTART;TZID=Europe/Berlin:20241123T173000
DTEND;TZID=Europe/Berlin:20241123T190000
DTSTAMP:20260423T183147
CREATED:20240927T114221Z
LAST-MODIFIED:20241123T115009Z
UID:17663-1732383000-1732388400@tv1881altdorf.de
SUMMARY:Bezirksoberliga HC Forchheim vs TV 1881 Altdorf (50)
DESCRIPTION:Bezirk­soberli­ga Männer\nBegeg­nungs-Nr: 50\nHeim: HC Forchheim\nGast: TV 1881 Altdorf\nHalle: Forch­heim\, Sporthalle Realschule (240102)\nAdresse: Pestalozzis­traße 2\, 91301 Forchheim
URL:https://tv1881altdorf.de/event/bezirksoberliga-hc-forchheim-vs-tv-1881-altdorf-50-2
LOCATION:Forchheim\, Sporthalle Realschule (240102): Pestalozzistraße 2\, 91301 Forchheim
CATEGORIES:Handball
END:VEVENT
BEGIN:VEVENT
DTSTART;TZID=Europe/Berlin:20241123T181500
DTEND;TZID=Europe/Berlin:20241123T194500
DTSTAMP:20260423T183147
CREATED:20240927T114221Z
LAST-MODIFIED:20241123T115009Z
UID:17664-1732385700-1732391100@tv1881altdorf.de
SUMMARY:Bezirksliga Staffel West TSV Winkelhaid vs TV 1881 Altdorf II (26)
DESCRIPTION:Bezirk­sli­ga Män­ner Staffel West\nBegeg­nungs-Nr: 26\nHeim: TSV Winkelhaid\nGast: TV 1881 Alt­dorf II\nHalle: Winkel­haid\, Dr. Diet­mar-Traut­mann-Sportan­lage (240465)\nAdresse: Sport­park­straße 2\, 90610 Winkelhaid
URL:https://tv1881altdorf.de/event/bezirksliga-staffel-west-tsv-winkelhaid-vs-tv-1881-altdorf-ii-26
LOCATION:Winkelhaid\, Dr. Dietmar-Trautmann-Sportanlage (240465): Sportparkstraße 2\, 90610 Winkelhaid
CATEGORIES:Handball
END:VEVENT
BEGIN:VEVENT
DTSTART;TZID=Europe/Berlin:20241123T200000
DTEND;TZID=Europe/Berlin:20241123T220000
DTSTAMP:20260423T183147
CREATED:20240925T204515Z
LAST-MODIFIED:20241123T200508Z
UID:17534-1732392000-1732399200@tv1881altdorf.de
SUMMARY:Volleyball D1 (A) - VC Wiesbaden 2
DESCRIPTION:
URL:https://tv1881altdorf.de/event/volleyball-d1-a-vc-wiesbaden-2
CATEGORIES:Volleyball
END:VEVENT
BEGIN:VEVENT
DTSTART;TZID=Europe/Berlin:20241130T140000
DTEND;TZID=Europe/Berlin:20241130T160000
DTSTAMP:20260423T183147
CREATED:20241126T111504Z
LAST-MODIFIED:20241126T111635Z
UID:18643-1732975200-1732982400@tv1881altdorf.de
SUMMARY:Volleyball D4 (A) - TV Lauf 2
DESCRIPTION:
URL:https://tv1881altdorf.de/event/volleyball-d4-a-tv-lauf-2
CATEGORIES:Volleyball
END:VEVENT
BEGIN:VEVENT
DTSTART;TZID=Europe/Berlin:20241130T140000
DTEND;TZID=Europe/Berlin:20241130T160000
DTSTAMP:20260423T183147
CREATED:20241126T111504Z
LAST-MODIFIED:20241126T111504Z
UID:18644-1732975200-1732982400@tv1881altdorf.de
SUMMARY:Volleyball D4 (A) - TV Lauf 2
DESCRIPTION:
URL:https://tv1881altdorf.de/event/volleyball-d4-a-tv-lauf-2-2
CATEGORIES:Volleyball
END:VEVENT
BEGIN:VEVENT
DTSTART;TZID=Europe/Berlin:20241130T180000
DTEND;TZID=Europe/Berlin:20241130T200000
DTSTAMP:20260423T183147
CREATED:20240925T204515Z
LAST-MODIFIED:20241129T213507Z
UID:17535-1732989600-1732996800@tv1881altdorf.de
SUMMARY:Volleyball D1 (H) - SV Lohhof
DESCRIPTION:
URL:https://tv1881altdorf.de/event/volleyball-d1-h-sv-lohhof
CATEGORIES:Volleyball
END:VEVENT
BEGIN:VEVENT
DTSTART;TZID=Europe/Berlin:20241130T190000
DTEND;TZID=Europe/Berlin:20241130T210000
DTSTAMP:20260423T183147
CREATED:20241002T123847Z
LAST-MODIFIED:20241130T135007Z
UID:17983-1732993200-1733000400@tv1881altdorf.de
SUMMARY:Volleyball D2 (A) - SG SGS/TV Erlangen
DESCRIPTION:
URL:https://tv1881altdorf.de/event/volleyball-d2-a-sg-sgs-tv-erlangen
CATEGORIES:Volleyball
END:VEVENT
END:VCALENDAR