BEGIN:VCALENDAR
VERSION:2.0
PRODID:-//TV 1881 Altdorf e.V. - ECPv6.15.20//NONSGML v1.0//EN
CALSCALE:GREGORIAN
METHOD:PUBLISH
X-ORIGINAL-URL:https://tv1881altdorf.de
X-WR-CALDESC:Veranstaltungen für TV 1881 Altdorf e.V.
REFRESH-INTERVAL;VALUE=DURATION:PT1H
X-Robots-Tag:noindex
X-PUBLISHED-TTL:PT1H
BEGIN:VTIMEZONE
TZID:Europe/Berlin
BEGIN:DAYLIGHT
TZOFFSETFROM:+0100
TZOFFSETTO:+0200
TZNAME:CEST
DTSTART:20230326T010000
END:DAYLIGHT
BEGIN:STANDARD
TZOFFSETFROM:+0200
TZOFFSETTO:+0100
TZNAME:CET
DTSTART:20231029T010000
END:STANDARD
BEGIN:DAYLIGHT
TZOFFSETFROM:+0100
TZOFFSETTO:+0200
TZNAME:CEST
DTSTART:20240331T010000
END:DAYLIGHT
BEGIN:STANDARD
TZOFFSETFROM:+0200
TZOFFSETTO:+0100
TZNAME:CET
DTSTART:20241027T010000
END:STANDARD
BEGIN:DAYLIGHT
TZOFFSETFROM:+0100
TZOFFSETTO:+0200
TZNAME:CEST
DTSTART:20250330T010000
END:DAYLIGHT
BEGIN:STANDARD
TZOFFSETFROM:+0200
TZOFFSETTO:+0100
TZNAME:CET
DTSTART:20251026T010000
END:STANDARD
END:VTIMEZONE
BEGIN:VEVENT
DTSTART;TZID=Europe/Berlin:20241201T093000
DTEND;TZID=Europe/Berlin:20241201T143000
DTSTAMP:20260423T165512
CREATED:20240927T114222Z
LAST-MODIFIED:20241130T133508Z
UID:17668-1733045400-1733063400@tv1881altdorf.de
SUMMARY:SpoPis Tunier Rohr/Pavelsbach
DESCRIPTION:
URL:https://tv1881altdorf.de/event/spopis-tunier-rohr-pavelsbach
LOCATION:Im Centrum 5\, 92353 Postbauer-Heng
CATEGORIES:Handball
END:VEVENT
BEGIN:VEVENT
DTSTART;TZID=Europe/Berlin:20241201T100000
DTEND;TZID=Europe/Berlin:20241201T110000
DTSTAMP:20260423T165512
CREATED:20240927T114222Z
LAST-MODIFIED:20241130T133509Z
UID:17670-1733047200-1733050800@tv1881altdorf.de
SUMMARY:ÜBK AH SV Buckenhofen vs TV 1881 Altdorf (24081106)
DESCRIPTION:ÜBK AH (Ofr\,Mfr\,Ostbay)\nBegeg­nungs-Nr: 24081106\nHeim: SV Buckenhofen\nGast: TV 1881 Altdorf\nHalle: Forch­heim\, Herder Halle (240105)\nAdresse: Ruhalmstr.7 ( Herder Gymn.)\, 91301 Forchheim
URL:https://tv1881altdorf.de/event/uebk-ah-sv-buckenhofen-vs-tv-1881-altdorf-24081106
LOCATION:Forchheim\, Herder Halle (240105): Ruhalmstr.7 ( Herder Gymn.)\, 91301 Forchheim
CATEGORIES:Handball
END:VEVENT
BEGIN:VEVENT
DTSTART;TZID=Europe/Berlin:20241201T100000
DTEND;TZID=Europe/Berlin:20241201T140000
DTSTAMP:20260423T165512
CREATED:20241126T111605Z
LAST-MODIFIED:20241126T111605Z
UID:18659-1733047200-1733061600@tv1881altdorf.de
SUMMARY:Volleyball U13-2 (A) - TSV Ansbach & Post SV Nürnberg
DESCRIPTION:
URL:https://tv1881altdorf.de/event/volleyball-u13-2-a-tsv-ansbach-post-sv-nuernberg
CATEGORIES:Volleyball
END:VEVENT
BEGIN:VEVENT
DTSTART;TZID=Europe/Berlin:20241201T100000
DTEND;TZID=Europe/Berlin:20241201T140000
DTSTAMP:20260423T165512
CREATED:20241126T111605Z
LAST-MODIFIED:20241130T202007Z
UID:18657-1733047200-1733061600@tv1881altdorf.de
SUMMARY:Volleyball U13-1 (A) - TSV Neunkirchen a.B. & TSV Ochenbruck
DESCRIPTION:
URL:https://tv1881altdorf.de/event/volleyball-u13-1-a-tsv-neunkirchen-a-b-tsv-ochenbruck
CATEGORIES:Volleyball
END:VEVENT
BEGIN:VEVENT
DTSTART;TZID=Europe/Berlin:20241201T100000
DTEND;TZID=Europe/Berlin:20241201T140000
DTSTAMP:20260423T165512
CREATED:20241126T111605Z
LAST-MODIFIED:20241130T202008Z
UID:18660-1733047200-1733061600@tv1881altdorf.de
SUMMARY:Volleyball U13-2 (A) - TSV Ansbach & Post SV Nürnberg
DESCRIPTION:
URL:https://tv1881altdorf.de/event/volleyball-u13-2-a-tsv-ansbach-post-sv-nuernberg-2
CATEGORIES:Volleyball
END:VEVENT
BEGIN:VEVENT
DTSTART;TZID=Europe/Berlin:20241201T105000
DTEND;TZID=Europe/Berlin:20241201T115000
DTSTAMP:20260423T165512
CREATED:20240927T114222Z
LAST-MODIFIED:20241130T133508Z
UID:17666-1733050200-1733053800@tv1881altdorf.de
SUMMARY:ÜBK AH HG Amberg  vs TV 1881 Altdorf (24081107)
DESCRIPTION:ÜBK AH (Ofr\,Mfr\,Ostbay)\nBegeg­nungs-Nr: 24081107\nHeim: HG Amberg\nGast: TV 1881 Altdorf\nHalle: Forch­heim\, Herder Halle (240105)\nAdresse: Ruhalmstr.7 ( Herder Gymn.)\, 91301 Forchheim
URL:https://tv1881altdorf.de/event/uebk-ah-hg-amberg-vs-tv-1881-altdorf-24081107
LOCATION:Forchheim\, Herder Halle (240105): Ruhalmstr.7 ( Herder Gymn.)\, 91301 Forchheim
CATEGORIES:Handball
END:VEVENT
BEGIN:VEVENT
DTSTART;TZID=Europe/Berlin:20241201T123000
DTEND;TZID=Europe/Berlin:20241201T143000
DTSTAMP:20260423T165512
CREATED:20241002T123847Z
LAST-MODIFIED:20241130T135008Z
UID:17984-1733056200-1733063400@tv1881altdorf.de
SUMMARY:Volleyball D2 (H) - SV SW München
DESCRIPTION:
URL:https://tv1881altdorf.de/event/volleyball-d2-h-sv-sw-muenchen
CATEGORIES:Volleyball
END:VEVENT
BEGIN:VEVENT
DTSTART;TZID=Europe/Berlin:20241207T100000
DTEND;TZID=Europe/Berlin:20241207T150000
DTSTAMP:20260423T165512
CREATED:20240927T114236Z
LAST-MODIFIED:20241206T150508Z
UID:17673-1733565600-1733583600@tv1881altdorf.de
SUMMARY:SpoPis Tunier Winkelhaid
DESCRIPTION:
URL:https://tv1881altdorf.de/event/spopis-tunier-winkelhaid
LOCATION:Sportparkstraße 2\, 90610 Winkelhaid
CATEGORIES:Handball
END:VEVENT
BEGIN:VEVENT
DTSTART;TZID=Europe/Berlin:20241207T130000
DTEND;TZID=Europe/Berlin:20241207T143000
DTSTAMP:20260423T165512
CREATED:20240927T114223Z
LAST-MODIFIED:20241206T150507Z
UID:17671-1733576400-1733581800@tv1881altdorf.de
SUMMARY:Bezirksliga Staffel West SG DJK Erlangen/Baiersdorf vs TV 1881 Altdorf II (33)
DESCRIPTION:Bezirk­sli­ga Män­ner Staffel West\nBegeg­nungs-Nr: 33\nHeim: SG DJK Erlangen/Baiersdorf\nGast: TV 1881 Alt­dorf II\nHalle: Baiers­dorf\, Mehrzweck­halle Hauptschule (240025)\nAdresse: Am Igels­dor­fer Weg 2\, 91083 Baiersdorf
URL:https://tv1881altdorf.de/event/bezirksliga-staffel-west-sg-djk-erlangen-baiersdorf-vs-tv-1881-altdorf-ii-33
LOCATION:Baiersdorf\, Mehrzweckhalle Hauptschule (240025): Am Igelsdorfer Weg 2\, 91083 Baiersdorf
CATEGORIES:Handball
END:VEVENT
BEGIN:VEVENT
DTSTART;TZID=Europe/Berlin:20241207T140000
DTEND;TZID=Europe/Berlin:20241207T180000
DTSTAMP:20260423T165512
CREATED:20241126T111328Z
LAST-MODIFIED:20241206T210507Z
UID:18631-1733580000-1733594400@tv1881altdorf.de
SUMMARY:Volleyball D3 (H) - TSG Weisendorf & TSV Neunkirchen
DESCRIPTION:
URL:https://tv1881altdorf.de/event/volleyball-d3-h-tsg-weisendorf-tsv-neunkirchen
CATEGORIES:Volleyball
END:VEVENT
BEGIN:VEVENT
DTSTART;TZID=Europe/Berlin:20241207T140000
DTEND;TZID=Europe/Berlin:20241207T180000
DTSTAMP:20260423T165512
CREATED:20241126T111328Z
LAST-MODIFIED:20241126T111328Z
UID:18632-1733580000-1733594400@tv1881altdorf.de
SUMMARY:Volleyball D3 (H) - TSG Weisendorf & TSV Neunkirchen
DESCRIPTION:
URL:https://tv1881altdorf.de/event/volleyball-d3-h-tsg-weisendorf-tsv-neunkirchen-2
CATEGORIES:Volleyball
END:VEVENT
BEGIN:VEVENT
DTSTART;TZID=Europe/Berlin:20241207T150000
DTEND;TZID=Europe/Berlin:20241207T163000
DTSTAMP:20260423T165512
CREATED:20240927T114236Z
LAST-MODIFIED:20241207T152007Z
UID:17674-1733583600-1733589000@tv1881altdorf.de
SUMMARY:Bezirksklasse Staffel West SG DJK Erlangen/Baiersdorf II vs TV 1881 Altdorf II (33)
DESCRIPTION:Bezirk­sklasse Frauen Staffel West\nBegeg­nungs-Nr: 33\nHeim: SG DJK Erlangen/Baiersdorf II\nGast: TV 1881 Alt­dorf II\nHalle: Baiers­dorf\, Mehrzweck­halle Hauptschule (240025)\nAdresse: Am Igels­dor­fer Weg 2\, 91083 Baiersdorf
URL:https://tv1881altdorf.de/event/bezirksklasse-staffel-west-sg-djk-erlangen-baiersdorf-ii-vs-tv-1881-altdorf-ii-33
LOCATION:Baiersdorf\, Mehrzweckhalle Hauptschule (240025): Am Igelsdorfer Weg 2\, 91083 Baiersdorf
CATEGORIES:Handball
END:VEVENT
BEGIN:VEVENT
DTSTART;VALUE=DATE:20241208
DTEND;VALUE=DATE:20241209
DTSTAMP:20260423T165512
CREATED:20231208T214133Z
LAST-MODIFIED:20240925T112003Z
UID:12936-1733616000-1733702399@tv1881altdorf.de
SUMMARY:7. Advents-4-Kampf
DESCRIPTION:Ort: Hersbruck
URL:https://tv1881altdorf.de/event/advents-4-kampf-2023-copy
CATEGORIES:Leichtathletik
END:VEVENT
BEGIN:VEVENT
DTSTART;TZID=Europe/Berlin:20241208T100000
DTEND;TZID=Europe/Berlin:20241208T140000
DTSTAMP:20260423T165512
CREATED:20241126T111607Z
LAST-MODIFIED:20241207T220507Z
UID:18663-1733652000-1733666400@tv1881altdorf.de
SUMMARY:Volleyball U18-2 (A) - TSV Ansbach & Post SV Nürnberg
DESCRIPTION:
URL:https://tv1881altdorf.de/event/volleyball-u18-2-a-tsv-ansbach-post-sv-nuernberg
CATEGORIES:Volleyball
END:VEVENT
BEGIN:VEVENT
DTSTART;TZID=Europe/Berlin:20241208T100000
DTEND;TZID=Europe/Berlin:20241208T140000
DTSTAMP:20260423T165512
CREATED:20241126T111608Z
LAST-MODIFIED:20241126T111608Z
UID:18664-1733652000-1733666400@tv1881altdorf.de
SUMMARY:Volleyball U18-2 (A) - TSV Ansbach & Post SV Nürnberg
DESCRIPTION:
URL:https://tv1881altdorf.de/event/volleyball-u18-2-a-tsv-ansbach-post-sv-nuernberg-2
CATEGORIES:Volleyball
END:VEVENT
BEGIN:VEVENT
DTSTART;TZID=Europe/Berlin:20241208T100000
DTEND;TZID=Europe/Berlin:20241208T160000
DTSTAMP:20260423T165512
CREATED:20241126T111606Z
LAST-MODIFIED:20241126T111606Z
UID:18661-1733652000-1733673600@tv1881altdorf.de
SUMMARY:Volleyball U14 (H) - TSV Ansbach & SV Schwaig 2 & TSV Ochenbruck
DESCRIPTION:
URL:https://tv1881altdorf.de/event/volleyball-u14-h-tsv-ansbach-sv-schwaig-2-tsv-ochenbruck
CATEGORIES:Volleyball
END:VEVENT
BEGIN:VEVENT
DTSTART;TZID=Europe/Berlin:20241208T100000
DTEND;TZID=Europe/Berlin:20241208T160000
DTSTAMP:20260423T165512
CREATED:20241126T111606Z
LAST-MODIFIED:20241207T220508Z
UID:18662-1733652000-1733673600@tv1881altdorf.de
SUMMARY:Volleyball U14 (H) - TSV Ansbach & SV Schwaig 2 & TSV Ochenbruck
DESCRIPTION:
URL:https://tv1881altdorf.de/event/volleyball-u14-h-tsv-ansbach-sv-schwaig-2-tsv-ochenbruck-2
CATEGORIES:Volleyball
END:VEVENT
BEGIN:VEVENT
DTSTART;TZID=Europe/Berlin:20241208T160000
DTEND;TZID=Europe/Berlin:20241208T173000
DTSTAMP:20260423T165512
CREATED:20240927T114236Z
LAST-MODIFIED:20241208T153509Z
UID:17676-1733673600-1733679000@tv1881altdorf.de
SUMMARY:Bezirksoberliga SG Frankenpower vs TV 1881 Altdorf (61)
DESCRIPTION:Bezirk­soberli­ga Frauen\nBegeg­nungs-Nr: 61\nHeim: SG Frankenpower\nGast: TV 1881 Altdorf\nHalle: Hannberg\, See­bach­grund­halle (240148)\nAdresse: Schul­strasse\, 91093 HeÃdorf-Hannberg
URL:https://tv1881altdorf.de/event/bezirksoberliga-sg-frankenpower-vs-tv-1881-altdorf-61
LOCATION:Hannberg\, Seebachgrundhalle (240148): Schulstrasse\, 91093 HeÃdorf-Hannberg
CATEGORIES:Handball
END:VEVENT
BEGIN:VEVENT
DTSTART;TZID=Europe/Berlin:20241208T160000
DTEND;TZID=Europe/Berlin:20241208T173000
DTSTAMP:20260423T165512
CREATED:20240927T114236Z
LAST-MODIFIED:20241208T153508Z
UID:17677-1733673600-1733679000@tv1881altdorf.de
SUMMARY:Bezirksoberliga TS Herzogenaurach vs TV 1881 Altdorf (61)
DESCRIPTION:Bezirk­soberli­ga Männer\nBegeg­nungs-Nr: 61\nHeim: TS Herzogenaurach\nGast: TV 1881 Altdorf\nHalle: Her­zo­ge­nau­rach\, Sporthalle Gym­na­si­um (240145)\nAdresse: Burgstaller Weg 20\, 91074 Herzogenaurach
URL:https://tv1881altdorf.de/event/bezirksoberliga-ts-herzogenaurach-vs-tv-1881-altdorf-61
LOCATION:Herzogenaurach\, Sporthalle Gymnasium (240145): Burgstaller Weg 20\, 91074 Herzogenaurach
CATEGORIES:Handball
END:VEVENT
BEGIN:VEVENT
DTSTART;TZID=Europe/Berlin:20241208T160000
DTEND;TZID=Europe/Berlin:20241208T180000
DTSTAMP:20260423T165512
CREATED:20240925T204515Z
LAST-MODIFIED:20241207T233507Z
UID:17536-1733673600-1733680800@tv1881altdorf.de
SUMMARY:Volleyball D1 (A) - TSV TB München
DESCRIPTION:
URL:https://tv1881altdorf.de/event/volleyball-d1-a-tsv-tb-muenchen
CATEGORIES:Volleyball
END:VEVENT
BEGIN:VEVENT
DTSTART;TZID=Europe/Berlin:20241213T180000
DTEND;TZID=Europe/Berlin:20241213T220000
DTSTAMP:20260423T165512
CREATED:20231201T233105Z
LAST-MODIFIED:20241213T090508Z
UID:12845-1734112800-1734127200@tv1881altdorf.de
SUMMARY:JSG Weihnachtsfeier - Altdorf
DESCRIPTION:Verbesserun­gen in Notizen
URL:https://tv1881altdorf.de/event/jsg-weihnachtsfeier-altdorf
CATEGORIES:Handball
END:VEVENT
BEGIN:VEVENT
DTSTART;TZID=Europe/Berlin:20241214T123000
DTEND;TZID=Europe/Berlin:20241214T143000
DTSTAMP:20260423T165512
CREATED:20241002T123848Z
LAST-MODIFIED:20241213T170508Z
UID:17986-1734179400-1734186600@tv1881altdorf.de
SUMMARY:Volleyball D2 (H) - TV Planegg-Krailling 2
DESCRIPTION:
URL:https://tv1881altdorf.de/event/volleyball-d2-h-tv-planegg-krailling-2
CATEGORIES:Volleyball
END:VEVENT
BEGIN:VEVENT
DTSTART;TZID=Europe/Berlin:20241214T140000
DTEND;TZID=Europe/Berlin:20241214T153000
DTSTAMP:20260423T165512
CREATED:20240927T114237Z
LAST-MODIFIED:20241214T092007Z
UID:17678-1734184800-1734190200@tv1881altdorf.de
SUMMARY:Bezirksliga Staffel West TV 1881 Altdorf II vs HC Forchheim II (29)
DESCRIPTION:Bezirk­sli­ga Män­ner Staffel West\nBegeg­nungs-Nr: 29\nHeim: TV 1881 Alt­dorf II\nGast: HC Forch­heim II\nHalle: Alt­dorf\, Schul­turn­halle Grund­schule (neu) (240000)\nAdresse: Hagen­hausen­er Str. 5\, 90518 Altdorf
URL:https://tv1881altdorf.de/event/bezirksliga-staffel-west-tv-1881-altdorf-ii-vs-hc-forchheim-ii-29
LOCATION:Altdorf\, Schulturnhalle Grundschule (neu) (240000): Hagenhausener Str. 5\, 90518 Altdorf
CATEGORIES:Handball
END:VEVENT
BEGIN:VEVENT
DTSTART;TZID=Europe/Berlin:20241214T140000
DTEND;TZID=Europe/Berlin:20241214T180000
DTSTAMP:20260423T165512
CREATED:20241126T111507Z
LAST-MODIFIED:20241126T111507Z
UID:18646-1734184800-1734199200@tv1881altdorf.de
SUMMARY:Volleyball D4 (A) - SG SGS/TV Erlangen 6 & TV Hersbruck 2
DESCRIPTION:
URL:https://tv1881altdorf.de/event/volleyball-d4-a-sg-sgs-tv-erlangen-6-tv-hersbruck-2-2
CATEGORIES:Volleyball
END:VEVENT
BEGIN:VEVENT
DTSTART;TZID=Europe/Berlin:20241214T140000
DTEND;TZID=Europe/Berlin:20241214T180000
DTSTAMP:20260423T165512
CREATED:20241126T111507Z
LAST-MODIFIED:20241126T111639Z
UID:18645-1734184800-1734199200@tv1881altdorf.de
SUMMARY:Volleyball D4 (A) - SG SGS/TV Erlangen 6 & TV Hersbruck 2
DESCRIPTION:
URL:https://tv1881altdorf.de/event/volleyball-d4-a-sg-sgs-tv-erlangen-6-tv-hersbruck-2
CATEGORIES:Volleyball
END:VEVENT
BEGIN:VEVENT
DTSTART;TZID=Europe/Berlin:20241214T160000
DTEND;TZID=Europe/Berlin:20241214T173000
DTSTAMP:20260423T165512
CREATED:20240927T114237Z
LAST-MODIFIED:20241214T092008Z
UID:17679-1734192000-1734197400@tv1881altdorf.de
SUMMARY:Bezirksoberliga TV 1881 Altdorf vs HSG Weiden (55)
DESCRIPTION:Bezirk­soberli­ga Frauen\nBegeg­nungs-Nr: 55\nHeim: TV 1881 Altdorf\nGast: HSG Weiden\nHalle: Alt­dorf\, Schul­turn­halle Grund­schule (neu) (240000)\nAdresse: Hagen­hausen­er Str. 5\, 90518 Altdorf
URL:https://tv1881altdorf.de/event/bezirksoberliga-tv-1881-altdorf-vs-hsg-weiden-55
LOCATION:Altdorf\, Schulturnhalle Grundschule (neu) (240000): Hagenhausener Str. 5\, 90518 Altdorf
CATEGORIES:Handball
END:VEVENT
BEGIN:VEVENT
DTSTART;TZID=Europe/Berlin:20241214T160000
DTEND;TZID=Europe/Berlin:20241214T180000
DTSTAMP:20260423T165512
CREATED:20240925T204516Z
LAST-MODIFIED:20241214T110507Z
UID:17537-1734192000-1734199200@tv1881altdorf.de
SUMMARY:Volleyball D1 (H) - TV Planegg-Krailling
DESCRIPTION:
URL:https://tv1881altdorf.de/event/volleyball-d1-h-tv-planegg-krailling
CATEGORIES:Volleyball
END:VEVENT
BEGIN:VEVENT
DTSTART;TZID=Europe/Berlin:20241214T180000
DTEND;TZID=Europe/Berlin:20241214T193000
DTSTAMP:20260423T165512
CREATED:20240927T114238Z
LAST-MODIFIED:20241214T092008Z
UID:17680-1734199200-1734204600@tv1881altdorf.de
SUMMARY:Bezirksoberliga TV 1881 Altdorf vs HV Oberviechtach (55)
DESCRIPTION:Bezirk­soberli­ga Männer\nBegeg­nungs-Nr: 55\nHeim: TV 1881 Altdorf\nGast: HV Oberviechtach\nHalle: Alt­dorf\, Schul­turn­halle Grund­schule (neu) (240000)\nAdresse: Hagen­hausen­er Str. 5\, 90518 Altdorf
URL:https://tv1881altdorf.de/event/bezirksoberliga-tv-1881-altdorf-vs-hv-oberviechtach-55
LOCATION:Altdorf\, Schulturnhalle Grundschule (neu) (240000): Hagenhausener Str. 5\, 90518 Altdorf
CATEGORIES:Handball
END:VEVENT
BEGIN:VEVENT
DTSTART;TZID=Europe/Berlin:20241215T100000
DTEND;TZID=Europe/Berlin:20241215T140000
DTSTAMP:20260423T165512
CREATED:20241126T111608Z
LAST-MODIFIED:20241214T235007Z
UID:18665-1734256800-1734271200@tv1881altdorf.de
SUMMARY:Volleyball U13-1 (A) - SV Schwaig & TSV Ansbach
DESCRIPTION:
URL:https://tv1881altdorf.de/event/volleyball-u13-1-a-sv-schwaig-tsv-ansbach
CATEGORIES:Volleyball
END:VEVENT
BEGIN:VEVENT
DTSTART;TZID=Europe/Berlin:20241215T100000
DTEND;TZID=Europe/Berlin:20241215T140000
DTSTAMP:20260423T165512
CREATED:20241126T111609Z
LAST-MODIFIED:20241214T235008Z
UID:18667-1734256800-1734271200@tv1881altdorf.de
SUMMARY:Volleyball U13-2 (A) - TSV Neunkirchen a.B. & ASV Veitsbronn
DESCRIPTION:
URL:https://tv1881altdorf.de/event/volleyball-u13-2-a-tsv-neunkirchen-a-b-asv-veitsbronn
CATEGORIES:Volleyball
END:VEVENT
END:VCALENDAR