BEGIN:VCALENDAR
VERSION:2.0
PRODID:-//TV 1881 Altdorf e.V. - ECPv6.15.20//NONSGML v1.0//EN
CALSCALE:GREGORIAN
METHOD:PUBLISH
X-WR-CALNAME:TV 1881 Altdorf e.V.
X-ORIGINAL-URL:https://tv1881altdorf.de
X-WR-CALDESC:Veranstaltungen für TV 1881 Altdorf e.V.
REFRESH-INTERVAL;VALUE=DURATION:PT1H
X-Robots-Tag:noindex
X-PUBLISHED-TTL:PT1H
BEGIN:VTIMEZONE
TZID:Europe/Berlin
BEGIN:DAYLIGHT
TZOFFSETFROM:+0100
TZOFFSETTO:+0200
TZNAME:CEST
DTSTART:20240331T010000
END:DAYLIGHT
BEGIN:STANDARD
TZOFFSETFROM:+0200
TZOFFSETTO:+0100
TZNAME:CET
DTSTART:20241027T010000
END:STANDARD
BEGIN:DAYLIGHT
TZOFFSETFROM:+0100
TZOFFSETTO:+0200
TZNAME:CEST
DTSTART:20250330T010000
END:DAYLIGHT
BEGIN:STANDARD
TZOFFSETFROM:+0200
TZOFFSETTO:+0100
TZNAME:CET
DTSTART:20251026T010000
END:STANDARD
BEGIN:DAYLIGHT
TZOFFSETFROM:+0100
TZOFFSETTO:+0200
TZNAME:CEST
DTSTART:20260329T010000
END:DAYLIGHT
BEGIN:STANDARD
TZOFFSETFROM:+0200
TZOFFSETTO:+0100
TZNAME:CET
DTSTART:20261025T010000
END:STANDARD
END:VTIMEZONE
BEGIN:VEVENT
DTSTART;TZID=Europe/Berlin:20250111T140000
DTEND;TZID=Europe/Berlin:20250111T150000
DTSTAMP:20260423T153226
CREATED:20241126T111328Z
LAST-MODIFIED:20250110T175011Z
UID:18633-1736604000-1736607600@tv1881altdorf.de
SUMMARY:Volleyball D3 (A) - TSV Neunkirchen & VG Baiersdorf/Marloffstein
DESCRIPTION:
URL:https://tv1881altdorf.de/event/volleyball-d3-a-tsv-neunkirchen-vg-baiersdorf-marloffstein
CATEGORIES:Volleyball
END:VEVENT
BEGIN:VEVENT
DTSTART;TZID=Europe/Berlin:20250111T140000
DTEND;TZID=Europe/Berlin:20250111T180000
DTSTAMP:20260423T153226
CREATED:20241126T111508Z
LAST-MODIFIED:20250111T165010Z
UID:18647-1736604000-1736618400@tv1881altdorf.de
SUMMARY:Volleyball D4 (A) - TSV Neunkirchen a.B. 4 & TS Herzogenaurach 2
DESCRIPTION:
URL:https://tv1881altdorf.de/event/volleyball-d4-a-tsv-neunkirchen-a-b-4-ts-herzogenaurach-2
CATEGORIES:Volleyball
END:VEVENT
BEGIN:VEVENT
DTSTART;TZID=Europe/Berlin:20250111T153000
DTEND;TZID=Europe/Berlin:20250111T170000
DTSTAMP:20260423T153226
CREATED:20240927T114250Z
LAST-MODIFIED:20250110T160508Z
UID:17684-1736609400-1736614800@tv1881altdorf.de
SUMMARY:Bezirksoberliga SG Regensburg vs TV 1881 Altdorf (6)
DESCRIPTION:Bezirk­soberli­ga Frauen\nBegeg­nungs-Nr: 6\nHeim: SG Regensburg\nGast: TV 1881 Altdorf\nHalle: Regens­burg\, Sporthalle KÃ¶nigswiesen (240341)\nAdresse: Klen­zestr. 31\, 93051 Regensburg
URL:https://tv1881altdorf.de/event/bezirksoberliga-sg-regensburg-vs-tv-1881-altdorf-6
LOCATION:Regensburg\, Sporthalle KÃ¶nigswiesen (240341): Klenzestr. 31\, 93051 Regensburg
CATEGORIES:Handball
END:VEVENT
BEGIN:VEVENT
DTSTART;TZID=Europe/Berlin:20250111T173000
DTEND;TZID=Europe/Berlin:20250111T190000
DTSTAMP:20260423T153226
CREATED:20240927T114251Z
LAST-MODIFIED:20250111T162510Z
UID:17686-1736616600-1736622000@tv1881altdorf.de
SUMMARY:Bezirksoberliga SG Regensburg II vs TV 1881 Altdorf (6)
DESCRIPTION:Bezirk­soberli­ga Männer\nBegeg­nungs-Nr: 6\nHeim: SG Regens­burg II\nGast: TV 1881 Altdorf\nHalle: Regens­burg\, Sporthalle Königswiesen (240341)\nAdresse: Klen­zestr. 31\, 93051 Regensburg
URL:https://tv1881altdorf.de/event/bezirksoberliga-sg-regensburg-ii-vs-tv-1881-altdorf-6
LOCATION:Regensburg\, Sporthalle Königswiesen (240341): Klenzestr. 31\, 93051 Regensburg
CATEGORIES:Handball
END:VEVENT
BEGIN:VEVENT
DTSTART;TZID=Europe/Berlin:20250112T123000
DTEND;TZID=Europe/Berlin:20250112T143000
DTSTAMP:20260423T153226
CREATED:20241002T123848Z
LAST-MODIFIED:20250112T102510Z
UID:17987-1736685000-1736692200@tv1881altdorf.de
SUMMARY:Volleyball D2 (H) - TB/ASV Regenstauf
DESCRIPTION:
URL:https://tv1881altdorf.de/event/volleyball-d2-h-tb-asv-regenstauf
CATEGORIES:Volleyball
END:VEVENT
BEGIN:VEVENT
DTSTART;TZID=Europe/Berlin:20250112T160000
DTEND;TZID=Europe/Berlin:20250112T180000
DTSTAMP:20260423T153226
CREATED:20240925T204528Z
LAST-MODIFIED:20250111T182510Z
UID:17540-1736697600-1736704800@tv1881altdorf.de
SUMMARY:Volleyball D1 (H) - SV Karlsruhe-Beiertheim
DESCRIPTION:
URL:https://tv1881altdorf.de/event/volleyball-d1-h-sv-karlsruhe-beiertheim
CATEGORIES:Volleyball
END:VEVENT
BEGIN:VEVENT
DTSTART;VALUE=DATE:20250118
DTEND;VALUE=DATE:20250119
DTSTAMP:20260423T153226
CREATED:20240927T114251Z
LAST-MODIFIED:20250118T180509Z
UID:17687-1737158400-1737244799@tv1881altdorf.de
SUMMARY:E-Jugend & Mini-Spieltag
DESCRIPTION:
URL:https://tv1881altdorf.de/event/e-jugend-mini-spieltag
CATEGORIES:Handball
END:VEVENT
BEGIN:VEVENT
DTSTART;VALUE=DATE:20250118
DTEND;VALUE=DATE:20250119
DTSTAMP:20260423T153226
CREATED:20240927T114251Z
LAST-MODIFIED:20250118T180510Z
UID:17688-1737158400-1737244799@tv1881altdorf.de
SUMMARY:Block: SpoPis Heimtunier
DESCRIPTION:
URL:https://tv1881altdorf.de/event/block-spopis-heimtunier
LOCATION:Turnhalle Altdorf
CATEGORIES:Handball
END:VEVENT
BEGIN:VEVENT
DTSTART;VALUE=DATE:20250118
DTEND;VALUE=DATE:20250119
DTSTAMP:20260423T153226
CREATED:20250119T161711Z
LAST-MODIFIED:20250119T161711Z
UID:19563-1737158400-1737244799@tv1881altdorf.de
SUMMARY:Nürnberger Winterlaufserie 2024/25 (10 oder 15 km)
DESCRIPTION:
URL:https://tv1881altdorf.de/event/nuernberger-winterlaufserie-2024-25-10-oder-15-km
CATEGORIES:Lauftreff
END:VEVENT
BEGIN:VEVENT
DTSTART;TZID=Europe/Berlin:20250118T140000
DTEND;TZID=Europe/Berlin:20250118T180000
DTSTAMP:20260423T153226
CREATED:20241126T111329Z
LAST-MODIFIED:20250117T193016Z
UID:18634-1737208800-1737223200@tv1881altdorf.de
SUMMARY:Volleyball D3 (A) - FSV Erlangen-Bruck & TV Hersbruck
DESCRIPTION:
URL:https://tv1881altdorf.de/event/volleyball-d3-a-fsv-erlangen-bruck-tv-hersbruck
CATEGORIES:Volleyball
END:VEVENT
BEGIN:VEVENT
DTSTART;TZID=Europe/Berlin:20250118T140000
DTEND;TZID=Europe/Berlin:20250118T180000
DTSTAMP:20260423T153226
CREATED:20241126T111509Z
LAST-MODIFIED:20250117T182008Z
UID:18648-1737208800-1737223200@tv1881altdorf.de
SUMMARY:Volleyball D4 (A) - TS Herzogenaurach 2 & TV Hersbruck 2
DESCRIPTION:
URL:https://tv1881altdorf.de/event/volleyball-d4-a-ts-herzogenaurach-2-tv-hersbruck-2
CATEGORIES:Volleyball
END:VEVENT
BEGIN:VEVENT
DTSTART;TZID=Europe/Berlin:20250118T150000
DTEND;TZID=Europe/Berlin:20250118T170000
DTSTAMP:20260423T153226
CREATED:20241002T123858Z
LAST-MODIFIED:20250118T115008Z
UID:17992-1737212400-1737219600@tv1881altdorf.de
SUMMARY:Volleyball D2 (A) - DJK SB München-Ost 2
DESCRIPTION:
URL:https://tv1881altdorf.de/event/volleyball-d2-a-djk-sb-muenchen-ost-2
CATEGORIES:Volleyball
END:VEVENT
BEGIN:VEVENT
DTSTART;TZID=Europe/Berlin:20250118T163000
DTEND;TZID=Europe/Berlin:20250118T180000
DTSTAMP:20260423T153226
CREATED:20240927T114252Z
LAST-MODIFIED:20250117T174516Z
UID:17691-1737217800-1737223200@tv1881altdorf.de
SUMMARY:Bezirksoberliga HC Hersbruck vs TV 1881 Altdorf (11)
DESCRIPTION:Bezirk­soberli­ga Frauen\nBegeg­nungs-Nr: 11\nHeim: HC Hersbruck\nGast: TV 1881 Altdorf\nHalle: Hers­bruck\, Sportzen­trum (240143)\nAdresse: Hap­purg­er Str. 9\, 91217 Hersbruck
URL:https://tv1881altdorf.de/event/bezirksoberliga-hc-hersbruck-vs-tv-1881-altdorf-11
LOCATION:Hersbruck\, Sportzentrum (240143): Happurger Str. 9\, 91217 Hersbruck
CATEGORIES:Handball
END:VEVENT
BEGIN:VEVENT
DTSTART;TZID=Europe/Berlin:20250118T180000
DTEND;TZID=Europe/Berlin:20250118T193000
DTSTAMP:20260423T153226
CREATED:20240927T114252Z
LAST-MODIFIED:20250118T180508Z
UID:17690-1737223200-1737228600@tv1881altdorf.de
SUMMARY:Bezirksklasse Staffel West TV Hilpoltstein II vs TV 1881 Altdorf II (8)
DESCRIPTION:Bezirk­sklasse Frauen Staffel West\nBegeg­nungs-Nr: 8\nHeim: TV Hilpolt­stein II\nGast: TV 1881 Alt­dorf II\nHalle: Hilpolt­stein\, Sporthalle Gym­na­si­um (240147)\nAdresse: Pater­sholz­er Weg 19\, 91161 Hilpoltstein
URL:https://tv1881altdorf.de/event/bezirksklasse-staffel-west-tv-hilpoltstein-ii-vs-tv-1881-altdorf-ii-8
LOCATION:Hilpoltstein\, Sporthalle Gymnasium (240147): Patersholzer Weg 19\, 91161 Hilpoltstein
CATEGORIES:Handball
END:VEVENT
BEGIN:VEVENT
DTSTART;TZID=Europe/Berlin:20250118T200000
DTEND;TZID=Europe/Berlin:20250118T213000
DTSTAMP:20260423T153226
CREATED:20240927T114252Z
LAST-MODIFIED:20250118T180509Z
UID:17693-1737230400-1737235800@tv1881altdorf.de
SUMMARY:Bezirksoberliga TV Wackersdorf vs TV 1881 Altdorf (11)
DESCRIPTION:Bezirk­soberli­ga Männer\nBegeg­nungs-Nr: 11\nHeim: TV Wackersdorf\nGast: TV 1881 Altdorf\nHalle: Wack­ers­dorf\, Schul­sporthalle (240460)\nAdresse: Haupt­str. 20\, 92442 Wackersdorf
URL:https://tv1881altdorf.de/event/bezirksoberliga-tv-wackersdorf-vs-tv-1881-altdorf-11
LOCATION:Wackersdorf\, Schulsporthalle (240460): Hauptstr. 20\, 92442 Wackersdorf
CATEGORIES:Handball
END:VEVENT
BEGIN:VEVENT
DTSTART;TZID=Europe/Berlin:20250119T100000
DTEND;TZID=Europe/Berlin:20250119T140000
DTSTAMP:20260423T153226
CREATED:20241126T111611Z
LAST-MODIFIED:20250119T083014Z
UID:18672-1737280800-1737295200@tv1881altdorf.de
SUMMARY:Volleyball U13-2 (H) - TV Altdorf & TSV Ochenbruck 2
DESCRIPTION:
URL:https://tv1881altdorf.de/event/volleyball-u13-2-h-tv-altdorf-tsv-ochenbruck-2
CATEGORIES:Volleyball
END:VEVENT
BEGIN:VEVENT
DTSTART;TZID=Europe/Berlin:20250119T100000
DTEND;TZID=Europe/Berlin:20250119T140000
DTSTAMP:20260423T153226
CREATED:20241126T111612Z
LAST-MODIFIED:20250119T083015Z
UID:18673-1737280800-1737295200@tv1881altdorf.de
SUMMARY:Volleyball U13-1 (H) - TV Altdorf 2 & TSV Ochenbruck 2
DESCRIPTION:
URL:https://tv1881altdorf.de/event/volleyball-u13-1-h-tv-altdorf-2-tsv-ochenbruck-2
CATEGORIES:Volleyball
END:VEVENT
BEGIN:VEVENT
DTSTART;TZID=Europe/Berlin:20250119T123000
DTEND;TZID=Europe/Berlin:20250119T143000
DTSTAMP:20260423T153226
CREATED:20241002T123859Z
LAST-MODIFIED:20250119T120014Z
UID:17993-1737289800-1737297000@tv1881altdorf.de
SUMMARY:Volleyball D2 (H) - TSV Eiselfing
DESCRIPTION:
URL:https://tv1881altdorf.de/event/volleyball-d2-h-tsv-eiselfing
CATEGORIES:Volleyball
END:VEVENT
BEGIN:VEVENT
DTSTART;TZID=Europe/Berlin:20250119T160000
DTEND;TZID=Europe/Berlin:20250119T180000
DTSTAMP:20260423T153226
CREATED:20240925T204528Z
LAST-MODIFIED:20250118T200509Z
UID:17541-1737302400-1737309600@tv1881altdorf.de
SUMMARY:Volleyball D1 (H) - TV 05 Waldgirmes
DESCRIPTION:
URL:https://tv1881altdorf.de/event/volleyball-d1-h-tv-05-waldgirmes
CATEGORIES:Volleyball
END:VEVENT
BEGIN:VEVENT
DTSTART;TZID=Europe/Berlin:20250125T120000
DTEND;TZID=Europe/Berlin:20250125T133000
DTSTAMP:20260423T153226
CREATED:20240927T114253Z
LAST-MODIFIED:20250124T193508Z
UID:17694-1737806400-1737811800@tv1881altdorf.de
SUMMARY:Bezirksklasse Staffel West TV 1881 Altdorf II vs SV Buckenhofen II (12)
DESCRIPTION:Bezirk­sklasse Frauen Staffel West\nBegeg­nungs-Nr: 12\nHeim: TV 1881 Alt­dorf II\nGast: SV Buck­en­hofen II\nHalle: Alt­dorf\, Schul­turn­halle Grund­schule (neu) (240000)\nAdresse: Hagen­hausen­er Str. 5\, 90518 Altdorf
URL:https://tv1881altdorf.de/event/bezirksklasse-staffel-west-tv-1881-altdorf-ii-vs-sv-buckenhofen-ii-12
LOCATION:Altdorf\, Schulturnhalle Grundschule (neu) (240000): Hagenhausener Str. 5\, 90518 Altdorf
CATEGORIES:Handball
END:VEVENT
BEGIN:VEVENT
DTSTART;TZID=Europe/Berlin:20250125T140000
DTEND;TZID=Europe/Berlin:20250125T153000
DTSTAMP:20260423T153226
CREATED:20240927T114253Z
LAST-MODIFIED:20250124T193509Z
UID:17695-1737813600-1737819000@tv1881altdorf.de
SUMMARY:Bezirksliga Staffel West TV 1881 Altdorf II vs TV 1861 Erlangen-Bruck III (12)
DESCRIPTION:Bezirk­sli­ga Män­ner Staffel West\nBegeg­nungs-Nr: 12\nHeim: TV 1881 Alt­dorf II\nGast: TV 1861 Erlan­gen-Bruck III\nHalle: Alt­dorf\, Schul­turn­halle Grund­schule (neu) (240000)\nAdresse: Hagen­hausen­er Str. 5\, 90518 Altdorf
URL:https://tv1881altdorf.de/event/bezirksliga-staffel-west-tv-1881-altdorf-ii-vs-tv-1861-erlangen-bruck-iii-12
LOCATION:Altdorf\, Schulturnhalle Grundschule (neu) (240000): Hagenhausener Str. 5\, 90518 Altdorf
CATEGORIES:Handball
END:VEVENT
BEGIN:VEVENT
DTSTART;TZID=Europe/Berlin:20250125T143000
DTEND;TZID=Europe/Berlin:20250125T163000
DTSTAMP:20260423T153226
CREATED:20241002T123859Z
LAST-MODIFIED:20250125T133017Z
UID:17994-1737815400-1737822600@tv1881altdorf.de
SUMMARY:Volleyball D2 (H) - SV Lohhof 2
DESCRIPTION:
URL:https://tv1881altdorf.de/event/volleyball-d2-h-sv-lohhof-2
CATEGORIES:Volleyball
END:VEVENT
BEGIN:VEVENT
DTSTART;TZID=Europe/Berlin:20250125T160000
DTEND;TZID=Europe/Berlin:20250125T173000
DTSTAMP:20260423T153226
CREATED:20240927T114253Z
LAST-MODIFIED:20250124T193509Z
UID:17696-1737820800-1737826200@tv1881altdorf.de
SUMMARY:Bezirksoberliga TV 1881 Altdorf vs TV 1861 Erlangen-Bruck (17)
DESCRIPTION:Bezirk­soberli­ga Frauen\nBegeg­nungs-Nr: 17\nHeim: TV 1881 Altdorf\nGast: TV 1861 Erlangen-Bruck\nHalle: Alt­dorf\, Schul­turn­halle Grund­schule (neu) (240000)\nAdresse: Hagen­hausen­er Str. 5\, 90518 Altdorf
URL:https://tv1881altdorf.de/event/bezirksoberliga-tv-1881-altdorf-vs-tv-1861-erlangen-bruck-17
LOCATION:Altdorf\, Schulturnhalle Grundschule (neu) (240000): Hagenhausener Str. 5\, 90518 Altdorf
CATEGORIES:Handball
END:VEVENT
BEGIN:VEVENT
DTSTART;TZID=Europe/Berlin:20250125T180000
DTEND;TZID=Europe/Berlin:20250125T193000
DTSTAMP:20260423T153226
CREATED:20240927T114307Z
LAST-MODIFIED:20250124T193510Z
UID:17697-1737828000-1737833400@tv1881altdorf.de
SUMMARY:Bezirksoberliga TV 1881 Altdorf vs TV 1861 Erlangen-Bruck II (17)
DESCRIPTION:Bezirk­soberli­ga Männer\nBegeg­nungs-Nr: 17\nHeim: TV 1881 Altdorf\nGast: TV 1861 Erlan­gen-Bruck II\nHalle: Alt­dorf\, Schul­turn­halle Grund­schule (neu) (240000)\nAdresse: Hagen­hausen­er Str. 5\, 90518 Altdorf
URL:https://tv1881altdorf.de/event/bezirksoberliga-tv-1881-altdorf-vs-tv-1861-erlangen-bruck-ii-17
LOCATION:Altdorf\, Schulturnhalle Grundschule (neu) (240000): Hagenhausener Str. 5\, 90518 Altdorf
CATEGORIES:Handball
END:VEVENT
BEGIN:VEVENT
DTSTART;TZID=Europe/Berlin:20250125T180000
DTEND;TZID=Europe/Berlin:20250125T200000
DTSTAMP:20260423T153226
CREATED:20240925T204529Z
LAST-MODIFIED:20250124T213017Z
UID:17542-1737828000-1737835200@tv1881altdorf.de
SUMMARY:Volleyball D1 (A) - Neuseenland Volleys Markkleeberg
DESCRIPTION:
URL:https://tv1881altdorf.de/event/volleyball-d1-a-neuseenland-volleys-markkleeberg
CATEGORIES:Volleyball
END:VEVENT
END:VCALENDAR