BEGIN:VCALENDAR
VERSION:2.0
PRODID:-//TV 1881 Altdorf e.V. - ECPv6.15.20//NONSGML v1.0//EN
CALSCALE:GREGORIAN
METHOD:PUBLISH
X-WR-CALNAME:TV 1881 Altdorf e.V.
X-ORIGINAL-URL:https://tv1881altdorf.de
X-WR-CALDESC:Veranstaltungen für TV 1881 Altdorf e.V.
REFRESH-INTERVAL;VALUE=DURATION:PT1H
X-Robots-Tag:noindex
X-PUBLISHED-TTL:PT1H
BEGIN:VTIMEZONE
TZID:Europe/Berlin
BEGIN:DAYLIGHT
TZOFFSETFROM:+0100
TZOFFSETTO:+0200
TZNAME:CEST
DTSTART:20240331T010000
END:DAYLIGHT
BEGIN:STANDARD
TZOFFSETFROM:+0200
TZOFFSETTO:+0100
TZNAME:CET
DTSTART:20241027T010000
END:STANDARD
BEGIN:DAYLIGHT
TZOFFSETFROM:+0100
TZOFFSETTO:+0200
TZNAME:CEST
DTSTART:20250330T010000
END:DAYLIGHT
BEGIN:STANDARD
TZOFFSETFROM:+0200
TZOFFSETTO:+0100
TZNAME:CET
DTSTART:20251026T010000
END:STANDARD
BEGIN:DAYLIGHT
TZOFFSETFROM:+0100
TZOFFSETTO:+0200
TZNAME:CEST
DTSTART:20260329T010000
END:DAYLIGHT
BEGIN:STANDARD
TZOFFSETFROM:+0200
TZOFFSETTO:+0100
TZNAME:CET
DTSTART:20261025T010000
END:STANDARD
END:VTIMEZONE
BEGIN:VEVENT
DTSTART;TZID=Europe/Berlin:20250201T140000
DTEND;TZID=Europe/Berlin:20250201T160000
DTSTAMP:20260423T140842
CREATED:20241126T111509Z
LAST-MODIFIED:20250131T220508Z
UID:18650-1738418400-1738425600@tv1881altdorf.de
SUMMARY:Volleyball D4 (A) - TV Lauf 2
DESCRIPTION:
URL:https://tv1881altdorf.de/event/volleyball-d4-a-tv-lauf-2-3
CATEGORIES:Volleyball
END:VEVENT
BEGIN:VEVENT
DTSTART;TZID=Europe/Berlin:20250201T140000
DTEND;TZID=Europe/Berlin:20250201T180000
DTSTAMP:20260423T140842
CREATED:20241126T111329Z
LAST-MODIFIED:20250131T233509Z
UID:18636-1738418400-1738432800@tv1881altdorf.de
SUMMARY:Volleyball D3 (H) - VG Baiersdorf/Marloffstein 2 & TC Höchstadt
DESCRIPTION:
URL:https://tv1881altdorf.de/event/volleyball-d3-h-vg-baiersdorf-marloffstein-2-tc-hoechstadt
CATEGORIES:Volleyball
END:VEVENT
BEGIN:VEVENT
DTSTART;TZID=Europe/Berlin:20250201T190000
DTEND;TZID=Europe/Berlin:20250201T210000
DTSTAMP:20260423T140842
CREATED:20240925T204529Z
LAST-MODIFIED:20250131T231515Z
UID:17543-1738436400-1738443600@tv1881altdorf.de
SUMMARY:Volleyball D1 (A) - DJK SB München-Ost
DESCRIPTION:
URL:https://tv1881altdorf.de/event/volleyball-d1-a-djk-sb-muenchen-ost
CATEGORIES:Volleyball
END:VEVENT
BEGIN:VEVENT
DTSTART;TZID=Europe/Berlin:20250201T190000
DTEND;TZID=Europe/Berlin:20250201T210000
DTSTAMP:20260423T140842
CREATED:20241002T123900Z
LAST-MODIFIED:20250201T152008Z
UID:17995-1738436400-1738443600@tv1881altdorf.de
SUMMARY:Volleyball D2 (A) - TSV Ansbach
DESCRIPTION:
URL:https://tv1881altdorf.de/event/volleyball-d2-a-tsv-ansbach
CATEGORIES:Volleyball
END:VEVENT
BEGIN:VEVENT
DTSTART;TZID=Europe/Berlin:20250202T132000
DTEND;TZID=Europe/Berlin:20250202T142000
DTSTAMP:20260423T140842
CREATED:20240927T114307Z
LAST-MODIFIED:20250201T213509Z
UID:17699-1738502400-1738506000@tv1881altdorf.de
SUMMARY:ÜBK AH SG Auerbach/Pegnitz vs TV 1881 Altdorf (24081126)
DESCRIPTION:ÜBK AH (Ofr\,Mfr\,Ostbay)\nBegeg­nungs-Nr: 24081126\nHeim: SG Auerbach/Pegnitz\nGast: TV 1881 Altdorf\nHalle: Bayreuth\, Sporthalle Ost (220021)\nAdresse: Äußere Bad­str. 26\, 95448 Bayreuth
URL:https://tv1881altdorf.de/event/uebk-ah-sg-auerbach-pegnitz-vs-tv-1881-altdorf-24081126
LOCATION:Bayreuth\, Sporthalle Ost (220021): Äußere Badstr. 26\, 95448 Bayreuth
CATEGORIES:Handball
END:VEVENT
BEGIN:VEVENT
DTSTART;TZID=Europe/Berlin:20250202T141000
DTEND;TZID=Europe/Berlin:20250202T151000
DTSTAMP:20260423T140842
CREATED:20240927T114307Z
LAST-MODIFIED:20250201T213508Z
UID:17701-1738505400-1738509000@tv1881altdorf.de
SUMMARY:ÜBK AH TS Herzogenaurach vs TV 1881 Altdorf (24081127)
DESCRIPTION:ÜBK AH (Ofr\,Mfr\,Ostbay)\nBegeg­nungs-Nr: 24081127\nHeim: TS Herzogenaurach\nGast: TV 1881 Altdorf\nHalle: Bayreuth\, Sporthalle Ost (220021)\nAdresse: Äußere Bad­str. 26\, 95448 Bayreuth
URL:https://tv1881altdorf.de/event/uebk-ah-ts-herzogenaurach-vs-tv-1881-altdorf-24081127
LOCATION:Bayreuth\, Sporthalle Ost (220021): Äußere Badstr. 26\, 95448 Bayreuth
CATEGORIES:Handball
END:VEVENT
BEGIN:VEVENT
DTSTART;TZID=Europe/Berlin:20250202T160000
DTEND;TZID=Europe/Berlin:20250202T173000
DTSTAMP:20260423T140842
CREATED:20240927T114339Z
LAST-MODIFIED:20250201T213509Z
UID:17726-1738512000-1738517400@tv1881altdorf.de
SUMMARY:Bezirksoberliga TV 1881 Altdorf vs HC Forchheim (50)
DESCRIPTION:Bezirk­soberli­ga Männer\nBegeg­nungs-Nr: 50\nHeim: TV 1881 Altdorf\nGast: HC Forchheim\nHalle: Alt­dorf\, Schul­turn­halle Grund­schule (neu) (240000)\nAdresse: Hagen­hausen­er Str. 5\, 90518 Altdorf
URL:https://tv1881altdorf.de/event/bezirksoberliga-tv-1881-altdorf-vs-hc-forchheim-50-2
LOCATION:Altdorf\, Schulturnhalle Grundschule (neu) (240000): Hagenhausener Str. 5\, 90518 Altdorf
CATEGORIES:Handball
END:VEVENT
BEGIN:VEVENT
DTSTART;TZID=Europe/Berlin:20250208T100000
DTEND;TZID=Europe/Berlin:20250209T150000
DTSTAMP:20260423T140842
CREATED:20250206T114022Z
LAST-MODIFIED:20250206T114301Z
UID:19915-1739008800-1739113200@tv1881altdorf.de
SUMMARY:U18 - Nordbayerische Meisterschaft in Altdorf
DESCRIPTION:
URL:https://tv1881altdorf.de/event/volleyball-d1-a-sv-karlsruhe-beiertheim-copy
CATEGORIES:Volleyball
END:VEVENT
BEGIN:VEVENT
DTSTART;TZID=Europe/Berlin:20250208T180000
DTEND;TZID=Europe/Berlin:20250208T200000
DTSTAMP:20260423T140842
CREATED:20240925T204529Z
LAST-MODIFIED:20250208T110508Z
UID:17544-1739037600-1739044800@tv1881altdorf.de
SUMMARY:Volleyball D1 (H) - TG Bad Soden
DESCRIPTION:
URL:https://tv1881altdorf.de/event/volleyball-d1-h-tg-bad-soden
CATEGORIES:Volleyball
END:VEVENT
BEGIN:VEVENT
DTSTART;VALUE=DATE:20250209
DTEND;VALUE=DATE:20250210
DTSTAMP:20260423T140842
CREATED:20250119T161711Z
LAST-MODIFIED:20250119T161711Z
UID:19564-1739059200-1739145599@tv1881altdorf.de
SUMMARY:Nürnberger Winterlaufserie 2024/25 (10 oder 20 km)
DESCRIPTION:
URL:https://tv1881altdorf.de/event/nuernberger-winterlaufserie-2024-25-10-oder-20-km
CATEGORIES:Lauftreff
END:VEVENT
BEGIN:VEVENT
DTSTART;TZID=Europe/Berlin:20250209T100000
DTEND;TZID=Europe/Berlin:20250209T110000
DTSTAMP:20260423T140842
CREATED:20240927T114308Z
LAST-MODIFIED:20250208T232009Z
UID:17703-1739095200-1739098800@tv1881altdorf.de
SUMMARY:ÜBK AH TV 1881 Altdorf vs SV Buckenhofen (24081128)
DESCRIPTION:ÜBK AH (Ofr\,Mfr\,Ostbay)\nBegeg­nungs-Nr: 24081128\nHeim: TV 1881 Altdorf\nGast: SV Buckenhofen\nHalle: Alt­dorf\, Schul­turn­halle Grund­schule (neu) (240000)\nAdresse: Hagen­hausen­er Str. 5\, 90518 Altdorf
URL:https://tv1881altdorf.de/event/uebk-ah-tv-1881-altdorf-vs-sv-buckenhofen-24081128
LOCATION:Altdorf\, Schulturnhalle Grundschule (neu) (240000): Hagenhausener Str. 5\, 90518 Altdorf
CATEGORIES:Handball
END:VEVENT
BEGIN:VEVENT
DTSTART;TZID=Europe/Berlin:20250209T105000
DTEND;TZID=Europe/Berlin:20250209T115000
DTSTAMP:20260423T140842
CREATED:20240927T114308Z
LAST-MODIFIED:20250208T232008Z
UID:17702-1739098200-1739101800@tv1881altdorf.de
SUMMARY:ÜBK AH TV 1881 Altdorf vs HG Amberg  (24081129)
DESCRIPTION:ÜBK AH (Ofr\,Mfr\,Ostbay)\nBegeg­nungs-Nr: 24081129\nHeim: TV 1881 Altdorf\nGast: HG Amberg\nHalle: Alt­dorf\, Schul­turn­halle Grund­schule (neu) (240000)\nAdresse: Hagen­hausen­er Str. 5\, 90518 Altdorf
URL:https://tv1881altdorf.de/event/uebk-ah-tv-1881-altdorf-vs-hg-amberg-24081129
LOCATION:Altdorf\, Schulturnhalle Grundschule (neu) (240000): Hagenhausener Str. 5\, 90518 Altdorf
CATEGORIES:Handball
END:VEVENT
BEGIN:VEVENT
DTSTART;TZID=Europe/Berlin:20250209T150000
DTEND;TZID=Europe/Berlin:20250209T163000
DTSTAMP:20260423T140842
CREATED:20240927T114308Z
LAST-MODIFIED:20250208T232011Z
UID:17704-1739113200-1739118600@tv1881altdorf.de
SUMMARY:Bezirksoberliga HC Erlangen II vs TV 1881 Altdorf (22)
DESCRIPTION:Bezirk­soberli­ga Frauen\nBegeg­nungs-Nr: 22\nHeim: HC Erlan­gen II\nGast: TV 1881 Altdorf\nHalle: Erlan­gen\, Karl-Heinz-Hierse­mann Halle (240082)\nAdresse: SchillerstraÃe 56\, 91054 Erlangen
URL:https://tv1881altdorf.de/event/bezirksoberliga-hc-erlangen-ii-vs-tv-1881-altdorf-22
LOCATION:Erlangen\, Karl-Heinz-Hiersemann Halle (240082): SchillerstraÃe 56\, 91054 Erlangen
CATEGORIES:Handball
END:VEVENT
BEGIN:VEVENT
DTSTART;TZID=Europe/Berlin:20250209T150000
DTEND;TZID=Europe/Berlin:20250209T163000
DTSTAMP:20260423T140842
CREATED:20240927T114309Z
LAST-MODIFIED:20250208T232012Z
UID:17708-1739113200-1739118600@tv1881altdorf.de
SUMMARY:Bezirksliga Staffel West SV Buckenhofen vs TV 1881 Altdorf II (15)
DESCRIPTION:Bezirk­sli­ga Män­ner Staffel West\nBegeg­nungs-Nr: 15\nHeim: SV Buckenhofen\nGast: TV 1881 Alt­dorf II\nHalle: Forch­heim\, Ehren­bürg-Gym­na­si­um (240103)\nAdresse: Ruhalm­straße 10\, 91301 Forchheim
URL:https://tv1881altdorf.de/event/bezirksliga-staffel-west-sv-buckenhofen-vs-tv-1881-altdorf-ii-15
LOCATION:Forchheim\, Ehrenbürg-Gymnasium (240103): Ruhalmstraße 10\, 91301 Forchheim
CATEGORIES:Handball
END:VEVENT
BEGIN:VEVENT
DTSTART;TZID=Europe/Berlin:20250209T160000
DTEND;TZID=Europe/Berlin:20250209T173000
DTSTAMP:20260423T140842
CREATED:20240927T114309Z
LAST-MODIFIED:20250208T232010Z
UID:17705-1739116800-1739122200@tv1881altdorf.de
SUMMARY:Bezirksklasse Staffel West HSG Pyrbaum/Seligenporten III vs TV 1881 Altdorf II (15)
DESCRIPTION:Bezirk­sklasse Frauen Staffel West\nBegeg­nungs-Nr: 15\nHeim: HSG Pyrbaum/Seligenporten III\nGast: TV 1881 Alt­dorf II\nHalle: Post­bauer-Heng\, Schul­sporthalle (240320)\nAdresse: Im Cen­trum 5\, 92353 Postbauer-Heng
URL:https://tv1881altdorf.de/event/bezirksklasse-staffel-west-hsg-pyrbaum-seligenporten-iii-vs-tv-1881-altdorf-ii-15
LOCATION:Postbauer-Heng\, Schulsporthalle (240320): Im Centrum 5\, 92353 Postbauer-Heng
CATEGORIES:Handball
END:VEVENT
BEGIN:VEVENT
DTSTART;TZID=Europe/Berlin:20250209T163000
DTEND;TZID=Europe/Berlin:20250209T180000
DTSTAMP:20260423T140842
CREATED:20240927T114309Z
LAST-MODIFIED:20250208T232010Z
UID:17707-1739118600-1739124000@tv1881altdorf.de
SUMMARY:Bezirksoberliga TB 03 Roding vs TV 1881 Altdorf (22)
DESCRIPTION:Bezirk­soberli­ga Männer\nBegeg­nungs-Nr: 22\nHeim: TB 03 Roding\nGast: TV 1881 Altdorf\nHalle: Rod­ing\, Rund­turn­halle (240346)\nAdresse: Adolf-Kolping-Str.16\, 93426 Roding
URL:https://tv1881altdorf.de/event/bezirksoberliga-tb-03-roding-vs-tv-1881-altdorf-22
LOCATION:Roding\, Rundturnhalle (240346): Adolf-Kolping-Str.16\, 93426 Roding
CATEGORIES:Handball
END:VEVENT
BEGIN:VEVENT
DTSTART;TZID=Europe/Berlin:20250215T140000
DTEND;TZID=Europe/Berlin:20250215T180000
DTSTAMP:20260423T140842
CREATED:20241126T111330Z
LAST-MODIFIED:20250215T150508Z
UID:18637-1739628000-1739642400@tv1881altdorf.de
SUMMARY:Volleyball D3 (H) - SG SGS/TV Erlangen 4 & TSG Weisendorf
DESCRIPTION:
URL:https://tv1881altdorf.de/event/volleyball-d3-h-sg-sgs-tv-erlangen-4-tsg-weisendorf
CATEGORIES:Volleyball
END:VEVENT
BEGIN:VEVENT
DTSTART;TZID=Europe/Berlin:20250215T140000
DTEND;TZID=Europe/Berlin:20250215T180000
DTSTAMP:20260423T140842
CREATED:20241126T111510Z
LAST-MODIFIED:20250215T013508Z
UID:18652-1739628000-1739642400@tv1881altdorf.de
SUMMARY:Volleyball D4 (H) - TSV Neunkirchen a.B. 4 & SG SGS/TV Erlangen 6
DESCRIPTION:
URL:https://tv1881altdorf.de/event/volleyball-d4-h-tsv-neunkirchen-a-b-4-sg-sgs-tv-erlangen-6
CATEGORIES:Volleyball
END:VEVENT
BEGIN:VEVENT
DTSTART;TZID=Europe/Berlin:20250215T180000
DTEND;TZID=Europe/Berlin:20250215T200000
DTSTAMP:20260423T140842
CREATED:20241002T123900Z
LAST-MODIFIED:20250215T185008Z
UID:17996-1739642400-1739649600@tv1881altdorf.de
SUMMARY:Volleyball D2 (A) - VGF Marktredwitz
DESCRIPTION:
URL:https://tv1881altdorf.de/event/volleyball-d2-a-vgf-marktredwitz
CATEGORIES:Volleyball
END:VEVENT
BEGIN:VEVENT
DTSTART;TZID=Europe/Berlin:20250216T100000
DTEND;TZID=Europe/Berlin:20250216T113000
DTSTAMP:20260423T140842
CREATED:20240927T114310Z
LAST-MODIFIED:20250216T010509Z
UID:17709-1739700000-1739705400@tv1881altdorf.de
SUMMARY:Bezirksklasse Staffel West TV 1881 Altdorf II vs HSG Pyrbaum/Seligenporten II (19)
DESCRIPTION:Bezirk­sklasse Frauen Staffel West\nBegeg­nungs-Nr: 19\nHeim: TV 1881 Alt­dorf II\nGast: HSG Pyrbaum/Seligenporten II\nHalle: Alt­dorf\, Schul­turn­halle Grund­schule (neu) (240000)\nAdresse: Hagen­hausen­er Str. 5\, 90518 Altdorf
URL:https://tv1881altdorf.de/event/bezirksklasse-staffel-west-tv-1881-altdorf-ii-vs-hsg-pyrbaum-seligenporten-ii-19
LOCATION:Altdorf\, Schulturnhalle Grundschule (neu) (240000): Hagenhausener Str. 5\, 90518 Altdorf
CATEGORIES:Handball
END:VEVENT
BEGIN:VEVENT
DTSTART;TZID=Europe/Berlin:20250216T120000
DTEND;TZID=Europe/Berlin:20250216T133000
DTSTAMP:20260423T140842
CREATED:20240927T114322Z
LAST-MODIFIED:20250216T010510Z
UID:17710-1739707200-1739712600@tv1881altdorf.de
SUMMARY:Bezirksliga Staffel West TV 1881 Altdorf II vs HSG SGS Erl/HC Niederl (19)
DESCRIPTION:Bezirk­sli­ga Män­ner Staffel West\nBegeg­nungs-Nr: 19\nHeim: TV 1881 Alt­dorf II\nGast: HSG SGS Erl/HC Niederl\nHalle: Alt­dorf\, Schul­turn­halle Grund­schule (neu) (240000)\nAdresse: Hagen­hausen­er Str. 5\, 90518 Altdorf
URL:https://tv1881altdorf.de/event/bezirksliga-staffel-west-tv-1881-altdorf-ii-vs-hsg-sgs-erl-hc-niederl-19
LOCATION:Altdorf\, Schulturnhalle Grundschule (neu) (240000): Hagenhausener Str. 5\, 90518 Altdorf
CATEGORIES:Handball
END:VEVENT
BEGIN:VEVENT
DTSTART;TZID=Europe/Berlin:20250216T140000
DTEND;TZID=Europe/Berlin:20250216T153000
DTSTAMP:20260423T140842
CREATED:20240927T114322Z
LAST-MODIFIED:20250216T010511Z
UID:17711-1739714400-1739719800@tv1881altdorf.de
SUMMARY:Bezirksoberliga TV 1881 Altdorf vs Mintraching/Neutraubling II (28)
DESCRIPTION:Bezirk­soberli­ga Frauen\nBegeg­nungs-Nr: 28\nHeim: TV 1881 Altdorf\nGast: Mintraching/Neutraubling II\nHalle: Alt­dorf\, Schul­turn­halle Grund­schule (neu) (240000)\nAdresse: Hagen­hausen­er Str. 5\, 90518 Altdorf
URL:https://tv1881altdorf.de/event/bezirksoberliga-tv-1881-altdorf-vs-mintraching-neutraubling-ii-28
LOCATION:Altdorf\, Schulturnhalle Grundschule (neu) (240000): Hagenhausener Str. 5\, 90518 Altdorf
CATEGORIES:Handball
END:VEVENT
BEGIN:VEVENT
DTSTART;TZID=Europe/Berlin:20250216T160000
DTEND;TZID=Europe/Berlin:20250216T173000
DTSTAMP:20260423T140842
CREATED:20240927T114323Z
LAST-MODIFIED:20250216T010511Z
UID:17712-1739721600-1739727000@tv1881altdorf.de
SUMMARY:Bezirksoberliga TV 1881 Altdorf vs Nabburg/Schwarzenfeld (28)
DESCRIPTION:Bezirk­soberli­ga Männer\nBegeg­nungs-Nr: 28\nHeim: TV 1881 Altdorf\nGast: Nabburg/Schwarzenfeld\nHalle: Alt­dorf\, Schul­turn­halle Grund­schule (neu) (240000)\nAdresse: Hagen­hausen­er Str. 5\, 90518 Altdorf
URL:https://tv1881altdorf.de/event/bezirksoberliga-tv-1881-altdorf-vs-nabburg-schwarzenfeld-28
LOCATION:Altdorf\, Schulturnhalle Grundschule (neu) (240000): Hagenhausener Str. 5\, 90518 Altdorf
CATEGORIES:Handball
END:VEVENT
BEGIN:VEVENT
DTSTART;TZID=Europe/Berlin:20250216T160000
DTEND;TZID=Europe/Berlin:20250216T180000
DTSTAMP:20260423T140842
CREATED:20240925T204529Z
LAST-MODIFIED:20250216T130508Z
UID:17545-1739721600-1739728800@tv1881altdorf.de
SUMMARY:Volleyball D1 (A) - TSV Unterhaching
DESCRIPTION:
URL:https://tv1881altdorf.de/event/volleyball-d1-a-tsv-unterhaching
CATEGORIES:Volleyball
END:VEVENT
BEGIN:VEVENT
DTSTART;TZID=Europe/Berlin:20250217T190000
DTEND;TZID=Europe/Berlin:20250217T190000
DTSTAMP:20260423T140842
CREATED:20250119T161712Z
LAST-MODIFIED:20250120T064714Z
UID:19565-1739818800-1739818800@tv1881altdorf.de
SUMMARY:Mitgliederversammlung Lauftreff
DESCRIPTION:Die Ein­ladung find­est du hier.
URL:https://tv1881altdorf.de/event/mitgliederversammlung-lauftreff
CATEGORIES:Lauftreff
END:VEVENT
BEGIN:VEVENT
DTSTART;TZID=Europe/Berlin:20250221T193000
DTEND;TZID=Europe/Berlin:20250221T213000
DTSTAMP:20260423T140842
CREATED:20240927T114323Z
LAST-MODIFIED:20250221T022008Z
UID:17713-1740166200-1740173400@tv1881altdorf.de
SUMMARY:Winterversammlung - Handball
DESCRIPTION:
URL:https://tv1881altdorf.de/event/winterversammlung-handball
CATEGORIES:Handball
END:VEVENT
BEGIN:VEVENT
DTSTART;TZID=Europe/Berlin:20250222T160000
DTEND;TZID=Europe/Berlin:20250222T173000
DTSTAMP:20260423T140842
CREATED:20240927T114323Z
LAST-MODIFIED:20250222T023508Z
UID:17714-1740240000-1740245400@tv1881altdorf.de
SUMMARY:Bezirksliga Staffel West SG Auerbach/Pegnitz II vs TV 1881 Altdorf II (22)
DESCRIPTION:Bezirk­sli­ga Män­ner Staffel West\nBegeg­nungs-Nr: 22\nHeim: SG Auerbach/Pegnitz II\nGast: TV 1881 Alt­dorf II\nHalle: Auer­bach\, Hel­mut-Ott-Halle (240005)\nAdresse: Place de Laneu­veville\, 91275 Auerbach
URL:https://tv1881altdorf.de/event/bezirksliga-staffel-west-sg-auerbach-pegnitz-ii-vs-tv-1881-altdorf-ii-22
LOCATION:Auerbach\, Helmut-Ott-Halle (240005): Place de Laneuveville\, 91275 Auerbach
CATEGORIES:Handball
END:VEVENT
BEGIN:VEVENT
DTSTART;TZID=Europe/Berlin:20250222T180000
DTEND;TZID=Europe/Berlin:20250222T193000
DTSTAMP:20260423T140842
CREATED:20240927T114324Z
LAST-MODIFIED:20250222T023510Z
UID:17716-1740247200-1740252600@tv1881altdorf.de
SUMMARY:Bezirksoberliga HSG Pyrbaum/Seligenporten vs TV 1881 Altdorf (33)
DESCRIPTION:Bezirk­soberli­ga Frauen\nBegeg­nungs-Nr: 33\nHeim: HSG Pyrbaum/Seligenporten\nGast: TV 1881 Altdorf\nHalle: Post­bauer-Heng\, Schul­sporthalle (240320)\nAdresse: Im Cen­trum 5\, 92353 Postbauer-Heng
URL:https://tv1881altdorf.de/event/bezirksoberliga-hsg-pyrbaum-seligenporten-vs-tv-1881-altdorf-33
LOCATION:Postbauer-Heng\, Schulsporthalle (240320): Im Centrum 5\, 92353 Postbauer-Heng
CATEGORIES:Handball
END:VEVENT
BEGIN:VEVENT
DTSTART;TZID=Europe/Berlin:20250222T180000
DTEND;TZID=Europe/Berlin:20250222T200000
DTSTAMP:20260423T140842
CREATED:20240925T204529Z
LAST-MODIFIED:20250222T143508Z
UID:17546-1740247200-1740254400@tv1881altdorf.de
SUMMARY:Volleyball D1 (H) - VC Wiesbaden 2
DESCRIPTION:
URL:https://tv1881altdorf.de/event/volleyball-d1-h-vc-wiesbaden-2
CATEGORIES:Volleyball
END:VEVENT
BEGIN:VEVENT
DTSTART;TZID=Europe/Berlin:20250222T183000
DTEND;TZID=Europe/Berlin:20250222T200000
DTSTAMP:20260423T140842
CREATED:20240927T114324Z
LAST-MODIFIED:20250222T023509Z
UID:17715-1740249000-1740254400@tv1881altdorf.de
SUMMARY:Bezirksoberliga HG Eckental vs TV 1881 Altdorf (33)
DESCRIPTION:Bezirk­soberli­ga Männer\nBegeg­nungs-Nr: 33\nHeim: HG Eckental\nGast: TV 1881 Altdorf\nHalle: Eck­en­tal\, Sporthalle Eschenau (240080)\nAdresse: Schul­str. 1\, 90542 Eckental
URL:https://tv1881altdorf.de/event/bezirksoberliga-hg-eckental-vs-tv-1881-altdorf-33
LOCATION:Eckental\, Sporthalle Eschenau (240080): Schulstr. 1\, 90542 Eckental
CATEGORIES:Handball
END:VEVENT
END:VCALENDAR