BEGIN:VCALENDAR
VERSION:2.0
PRODID:-//TV 1881 Altdorf e.V. - ECPv6.15.20//NONSGML v1.0//EN
CALSCALE:GREGORIAN
METHOD:PUBLISH
X-ORIGINAL-URL:https://tv1881altdorf.de
X-WR-CALDESC:Veranstaltungen für TV 1881 Altdorf e.V.
REFRESH-INTERVAL;VALUE=DURATION:PT1H
X-Robots-Tag:noindex
X-PUBLISHED-TTL:PT1H
BEGIN:VTIMEZONE
TZID:Europe/Berlin
BEGIN:DAYLIGHT
TZOFFSETFROM:+0100
TZOFFSETTO:+0200
TZNAME:CEST
DTSTART:20240331T010000
END:DAYLIGHT
BEGIN:STANDARD
TZOFFSETFROM:+0200
TZOFFSETTO:+0100
TZNAME:CET
DTSTART:20241027T010000
END:STANDARD
BEGIN:DAYLIGHT
TZOFFSETFROM:+0100
TZOFFSETTO:+0200
TZNAME:CEST
DTSTART:20250330T010000
END:DAYLIGHT
BEGIN:STANDARD
TZOFFSETFROM:+0200
TZOFFSETTO:+0100
TZNAME:CET
DTSTART:20251026T010000
END:STANDARD
BEGIN:DAYLIGHT
TZOFFSETFROM:+0100
TZOFFSETTO:+0200
TZNAME:CEST
DTSTART:20260329T010000
END:DAYLIGHT
BEGIN:STANDARD
TZOFFSETFROM:+0200
TZOFFSETTO:+0100
TZNAME:CET
DTSTART:20261025T010000
END:STANDARD
END:VTIMEZONE
BEGIN:VEVENT
DTSTART;TZID=Europe/Berlin:20250705T110000
DTEND;TZID=Europe/Berlin:20250705T140000
DTSTAMP:20260423T065258
CREATED:20250503T102051Z
LAST-MODIFIED:20250503T103212Z
UID:21350-1751713200-1751724000@tv1881altdorf.de
SUMMARY:Jugend Baseball Landesliga Mitte (U15)  – Altdorf Icesharks vs. Ingolstadt Schanzer – Homegame in Altdorf
DESCRIPTION:Play Ball – im Sportpark! \nAm Sam­stag\, den 5. Juli ab 11.00 Uhr emp­fan­gen die Alt­dorf Ice­sharks die Ingol­stadt Schanz­er. In der Jugend Base­ball Lan­desli­ga wer­den Dou­ble Head­er gespielt – zwei Spiele hin­tere­inan­der. Ein Spiel wird über 5 Innings gespielt oder mit max­i­malem Zeitlim­it von 1\,5 Stunden. \nMehr Infos
URL:https://tv1881altdorf.de/event/jugend-baseball-altdorf-icesharks-vs-ingolstadt-schanzer-homegame
LOCATION:Sportpark Altdorf
CATEGORIES:Baseball,Jugend Baseball Landesliga Mitte (U15)
ATTACH;FMTTYPE=image/jpeg:https://tv1881altdorf.de/wp-content/uploads/2024/05/Baseball_Icesharks_2024-05-04_Gamepost_08_2000px.jpg
END:VEVENT
BEGIN:VEVENT
DTSTART;TZID=Europe/Berlin:20250705T130000
DTEND;TZID=Europe/Berlin:20250705T190000
DTSTAMP:20260423T065258
CREATED:20250517T101013Z
LAST-MODIFIED:20250517T101322Z
UID:21894-1751720400-1751742000@tv1881altdorf.de
SUMMARY:Tennis Landesliga 2 Herren 50 Heimspiel TV Altdorf (#2025.35)
DESCRIPTION:
URL:https://tv1881altdorf.de/event/tennis-landesliga-2-herren-50-heimspiel-tv-altdorf-2025-35
CATEGORIES:Tennis
END:VEVENT
BEGIN:VEVENT
DTSTART;TZID=Europe/Berlin:20250705T140000
DTEND;TZID=Europe/Berlin:20250705T200000
DTSTAMP:20260423T065258
CREATED:20250517T101117Z
LAST-MODIFIED:20250517T101322Z
UID:21895-1751724000-1751745600@tv1881altdorf.de
SUMMARY:Tennis Nordliga 3 Damen 40 Auswärtsspiel FSV Berngau (#2025.36)
DESCRIPTION:
URL:https://tv1881altdorf.de/event/tennis-nordliga-3-damen-40-auswaertsspiel-fsv-berngau-2025-36
CATEGORIES:Tennis
END:VEVENT
BEGIN:VEVENT
DTSTART;VALUE=DATE:20250706
DTEND;VALUE=DATE:20250707
DTSTAMP:20260423T065258
CREATED:20250119T161733Z
LAST-MODIFIED:20250119T161733Z
UID:19575-1751760000-1751846399@tv1881altdorf.de
SUMMARY:Radausflug zur DATEV Challenge Roth
DESCRIPTION:
URL:https://tv1881altdorf.de/event/radausflug-zur-datev-challenge-roth
CATEGORIES:Lauftreff
END:VEVENT
BEGIN:VEVENT
DTSTART;TZID=Europe/Berlin:20250706T090000
DTEND;TZID=Europe/Berlin:20250706T150000
DTSTAMP:20260423T065258
CREATED:20250517T101118Z
LAST-MODIFIED:20250517T101321Z
UID:21896-1751792400-1751814000@tv1881altdorf.de
SUMMARY:Tennis Nordliga 2 Damen Heimspiel TV Altdorf (#2025.37)
DESCRIPTION:
URL:https://tv1881altdorf.de/event/tennis-nordliga-2-damen-heimspiel-tv-altdorf-2025-37
CATEGORIES:Tennis
END:VEVENT
BEGIN:VEVENT
DTSTART;TZID=Europe/Berlin:20250706T090000
DTEND;TZID=Europe/Berlin:20250706T150000
DTSTAMP:20260423T065258
CREATED:20250517T101119Z
LAST-MODIFIED:20250517T101321Z
UID:21897-1751792400-1751814000@tv1881altdorf.de
SUMMARY:Tennis Nordliga 4 Damen Heimspiel TV Altdorf II (#2025.38)
DESCRIPTION:
URL:https://tv1881altdorf.de/event/tennis-nordliga-4-damen-heimspiel-tv-altdorf-ii-2025-38
CATEGORIES:Tennis
END:VEVENT
BEGIN:VEVENT
DTSTART;TZID=Europe/Berlin:20250706T140000
DTEND;TZID=Europe/Berlin:20250706T163000
DTSTAMP:20260423T065258
CREATED:20250208T214752Z
LAST-MODIFIED:20250209T184408Z
UID:19980-1751810400-1751819400@tv1881altdorf.de
SUMMARY:Baseball – Game 8 – Erlangen White Sox vs. Altdorf Icesharks – On the Road
DESCRIPTION:Play Ball in Erlangen \nAm Son­ntag\, den 6. Juli ab 14.00 Uhr sind die Alt­dorf Ice­sharks zu Gast bei den Erlan­gen White Sox. In der Lan­desklasse Base­ball Nord wer­den Sin­glegames über 7 Innings  (oder mit max­i­malem Zeitlim­it von 2\,5 Stun­den) gespielt. \n  \nLinks: \nAktuelle Tabelle \nSpielplan 2025 \nErlan­gen White Sox Website
URL:https://tv1881altdorf.de/event/game-8
LOCATION:Erlangen White Sox Ballpark\, Kurt-Schumacher-Straße 11\, Erlangen\, 91052
CATEGORIES:Baseball,Landesklasse Baseball Nord
ATTACH;FMTTYPE=image/jpeg:https://tv1881altdorf.de/wp-content/uploads/2024/05/DSC06491_1000px_Termine.jpg
END:VEVENT
BEGIN:VEVENT
DTSTART;TZID=Europe/Berlin:20250706T140000
DTEND;TZID=Europe/Berlin:20250706T200000
DTSTAMP:20260423T065258
CREATED:20250517T101120Z
LAST-MODIFIED:20250517T101321Z
UID:21898-1751810400-1751832000@tv1881altdorf.de
SUMMARY:Tennis Nordliga 2 Herren 50 Heimspiel TV Altdorf II (#2025.39)
DESCRIPTION:
URL:https://tv1881altdorf.de/event/tennis-nordliga-2-herren-50-heimspiel-tv-altdorf-ii-2025-39
CATEGORIES:Tennis
END:VEVENT
BEGIN:VEVENT
DTSTART;VALUE=DATE:20250712
DTEND;VALUE=DATE:20250713
DTSTAMP:20260423T065258
CREATED:20250403T075424Z
LAST-MODIFIED:20250714T071918Z
UID:20817-1752278400-1752364799@tv1881altdorf.de
SUMMARY:2. BayernCup-OL 2025 (Mittel-OL)
DESCRIPTION:O‑Manager: hier\nAuss­chrei­bung: hier (Stand 25.06.25)\nLet­zte Infor­ma­tio­nen: hier\nBah­n­dat­en: hier\nStar­tliste: hier (Stand 11.07.25 22:23)\nErgeb­nisse: hier\nZwis­chen­zeit­en: hier\nLivelox: hier\nBilder: hier\nBilder:
URL:https://tv1881altdorf.de/event/2-bayerncup-ol-2025-mittel-ol
CATEGORIES:Orientierungslauf
ATTACH;FMTTYPE=image/jpeg:https://tv1881altdorf.de/wp-content/uploads/2025/05/OL250712_01.jpeg
END:VEVENT
BEGIN:VEVENT
DTSTART;TZID=Europe/Berlin:20250712T100000
DTEND;TZID=Europe/Berlin:20250712T190000
DTSTAMP:20260423T065258
CREATED:20250514T112401Z
LAST-MODIFIED:20250712T102011Z
UID:21677-1752314400-1752346800@tv1881altdorf.de
SUMMARY:ebf - Mixed expert/basic
DESCRIPTION:
URL:https://tv1881altdorf.de/event/ebf-mixed-expert-basic
END:VEVENT
BEGIN:VEVENT
DTSTART;TZID=Europe/Berlin:20250712T110000
DTEND;TZID=Europe/Berlin:20250712T140000
DTSTAMP:20260423T065258
CREATED:20250503T102413Z
LAST-MODIFIED:20250503T103427Z
UID:21352-1752318000-1752328800@tv1881altdorf.de
SUMMARY:Jugend Baseball Landesliga Mitte (U15) – Altdorf Icesharks vs. Freising Grizzlies 2 – Homegame in Altdorf
DESCRIPTION:Play Ball – im Sportpark! \nAm Sam­stag\, den 12. Juli ab 11.00 Uhr emp­fan­gen die Alt­dorf Ice­sharks die Freis­ing Griz­zlies 2. In der Jugend Base­ball Lan­desli­ga wer­den Dou­ble Head­er gespielt – zwei Spiele hin­tere­inan­der. Ein Spiel wird über 5 Innings gespielt oder mit max­i­malem Zeitlim­it von 1\,5 Stunden. \nMehr Infos
URL:https://tv1881altdorf.de/event/jugend-baseball-altdorf-icesharks-vs-freising-grizzlies-homegame
LOCATION:Sportpark Altdorf
CATEGORIES:Baseball,Jugend Baseball Landesliga Mitte (U15)
ATTACH;FMTTYPE=image/jpeg:https://tv1881altdorf.de/wp-content/uploads/2024/05/Baseball_Icesharks_2024-05-04_Gamepost_04_2000px.jpg
END:VEVENT
BEGIN:VEVENT
DTSTART;TZID=Europe/Berlin:20250712T130000
DTEND;TZID=Europe/Berlin:20250712T190000
DTSTAMP:20260423T065258
CREATED:20250517T101120Z
LAST-MODIFIED:20250517T101321Z
UID:21899-1752325200-1752346800@tv1881altdorf.de
SUMMARY:Tennis Landesliga 2 Herren 50 Heimspiel TV Altdorf (#2025.40)
DESCRIPTION:
URL:https://tv1881altdorf.de/event/tennis-landesliga-2-herren-50-heimspiel-tv-altdorf-2025-40
CATEGORIES:Tennis
END:VEVENT
BEGIN:VEVENT
DTSTART;VALUE=DATE:20250713
DTEND;VALUE=DATE:20250714
DTSTAMP:20260423T065258
CREATED:20250403T074821Z
LAST-MODIFIED:20250714T071853Z
UID:20815-1752364800-1752451199@tv1881altdorf.de
SUMMARY:Bayerische Meisterschaften Sprint-OL; 3. BC 2025
DESCRIPTION:O‑Manager: hier\nAuss­chrei­bung: hier (Stand 25.06.25)\nLet­zte Infor­ma­tio­nen: hier\nBah­n­dat­en: hier\nStar­tliste: hier (Stand 12.07.25 20:30)\nErgeb­nisse: hier\nZwis­chen­zeit­en: hier\nUrkun­den: hier\nLivelox: hier
URL:https://tv1881altdorf.de/event/bayerische-meisterschaften-sprint-ol-3-bc-2025
CATEGORIES:Orientierungslauf
ATTACH;FMTTYPE=image/jpeg:https://tv1881altdorf.de/wp-content/uploads/2025/05/OL250712_02.jpeg
END:VEVENT
BEGIN:VEVENT
DTSTART;VALUE=DATE:20250713
DTEND;VALUE=DATE:20250714
DTSTAMP:20260423T065258
CREATED:20250425T110750Z
LAST-MODIFIED:20250713T155925Z
UID:21217-1752364800-1752451199@tv1881altdorf.de
SUMMARY:Bayerische Sprintstaffel
DESCRIPTION:O‑Manager: hier\nAuss­chrei­bung: hier\nLet­zte Infor­ma­tio­nen: hier\nStar­tliste: hier\nErgeb­nisse: hier\nZwis­chen­zeit­en: hier\nLivelox: hier
URL:https://tv1881altdorf.de/event/bayerische-sprintstaffel-2025
CATEGORIES:Orientierungslauf
ATTACH;FMTTYPE=image/jpeg:https://tv1881altdorf.de/wp-content/uploads/2025/05/OL250713_01.jpeg
END:VEVENT
BEGIN:VEVENT
DTSTART;TZID=Europe/Berlin:20250713T100000
DTEND;TZID=Europe/Berlin:20250713T160000
DTSTAMP:20260423T065258
CREATED:20250517T101216Z
LAST-MODIFIED:20250517T101320Z
UID:21900-1752400800-1752422400@tv1881altdorf.de
SUMMARY:Tennis Nordliga 2 Herren 50 Heimspiel TV Altdorf II (#2025.41)
DESCRIPTION:
URL:https://tv1881altdorf.de/event/tennis-nordliga-2-herren-50-heimspiel-tv-altdorf-ii-2025-41
CATEGORIES:Tennis
END:VEVENT
BEGIN:VEVENT
DTSTART;TZID=Europe/Berlin:20250713T100000
DTEND;TZID=Europe/Berlin:20250713T160000
DTSTAMP:20260423T065258
CREATED:20250517T101216Z
LAST-MODIFIED:20250517T101321Z
UID:21901-1752400800-1752422400@tv1881altdorf.de
SUMMARY:Tennis Nordliga 2 Damen Auswärtsspiel TC Schnaittach (#2025.42)
DESCRIPTION:
URL:https://tv1881altdorf.de/event/tennis-nordliga-2-damen-auswaertsspiel-tc-schnaittach-2025-42
CATEGORIES:Tennis
END:VEVENT
BEGIN:VEVENT
DTSTART;TZID=Europe/Berlin:20250713T100000
DTEND;TZID=Europe/Berlin:20250713T160000
DTSTAMP:20260423T065258
CREATED:20250517T101216Z
LAST-MODIFIED:20250517T101321Z
UID:21902-1752400800-1752422400@tv1881altdorf.de
SUMMARY:Tennis Nordliga 4 Damen Heimspiel TV Altdorf II (#2025.43)
DESCRIPTION:
URL:https://tv1881altdorf.de/event/tennis-nordliga-4-damen-heimspiel-tv-altdorf-ii-2025-43
CATEGORIES:Tennis
END:VEVENT
BEGIN:VEVENT
DTSTART;TZID=Europe/Berlin:20250713T100000
DTEND;TZID=Europe/Berlin:20250713T190000
DTSTAMP:20260423T065258
CREATED:20250514T112409Z
LAST-MODIFIED:20250713T103510Z
UID:21679-1752400800-1752433200@tv1881altdorf.de
SUMMARY:ebf - Damen expert/basic
DESCRIPTION:
URL:https://tv1881altdorf.de/event/ebf-damen-expert-basic-5
END:VEVENT
BEGIN:VEVENT
DTSTART;TZID=Europe/Berlin:20250713T100000
DTEND;TZID=Europe/Berlin:20250713T190000
DTSTAMP:20260423T065258
CREATED:20250514T112409Z
LAST-MODIFIED:20250713T103511Z
UID:21680-1752400800-1752433200@tv1881altdorf.de
SUMMARY:ebf - Herren expert/basic
DESCRIPTION:
URL:https://tv1881altdorf.de/event/ebf-herren-expert-basic-4
END:VEVENT
BEGIN:VEVENT
DTSTART;TZID=Europe/Berlin:20250713T140000
DTEND;TZID=Europe/Berlin:20250713T163000
DTSTAMP:20260423T065258
CREATED:20250208T215923Z
LAST-MODIFIED:20250209T184359Z
UID:19984-1752415200-1752424200@tv1881altdorf.de
SUMMARY:Baseball – Game 9 – Michelbach Angels vs. Altdorf Icesharks – On the Road
DESCRIPTION:Play Ball in Michelbach \nAm Son­ntag\, den 13. Juli ab 14.00 Uhr sind die Alt­dorf Ice­sharks zu Gast bei den Michel­bach Angels. In der Lan­desklasse Base­ball Nord wer­den Sin­glegames über 7 Innings  (oder mit max­i­malem Zeitlim­it von 2\,5 Stun­den) gespielt. \n  \nLinks: \nAktuelle Tabelle \nSpielplan 2025 \nMichel­bach Angels Instagram
URL:https://tv1881altdorf.de/event/game-9
LOCATION:Michelbach Angels Ballpark\, Spitalwiesengraben\, Wittelshofen\, Bayern\, 91749\, Germany
CATEGORIES:Baseball,Landesklasse Baseball Nord
ATTACH;FMTTYPE=image/jpeg:https://tv1881altdorf.de/wp-content/uploads/2024/05/IMG_8369_1000px_Termine.jpg
END:VEVENT
BEGIN:VEVENT
DTSTART;TZID=Europe/Berlin:20250718T193000
DTEND;TZID=Europe/Berlin:20250718T213000
DTSTAMP:20260423T065258
CREATED:20250619T194517Z
LAST-MODIFIED:20250718T113509Z
UID:22417-1752867000-1752874200@tv1881altdorf.de
SUMMARY:Sommerversammlung TVA
DESCRIPTION:
URL:https://tv1881altdorf.de/event/sommerversammlung-tva
LOCATION:Gaststätte Sportpark\, Heumannstraße 5\, 90518 Altdorf bei Nürnberg\, Deutschland
CATEGORIES:Handball
END:VEVENT
BEGIN:VEVENT
DTSTART;VALUE=DATE:20250719
DTEND;VALUE=DATE:20250720
DTSTAMP:20260423T065258
CREATED:20250625T130257Z
LAST-MODIFIED:20250625T130257Z
UID:22574-1752883200-1752969599@tv1881altdorf.de
SUMMARY:Kirchweihtriathlon Velburg (40 jähriges Jubiläum)
DESCRIPTION:Eine 40jährige Tra­di­tion hat der Vel­burg­er Kirch­wei­h­triathlon mit der kom­menden Veranstaltung\,\nvor­weg die wichtig­ste Info: Streck­en­führung und Startzeit hat sich zu den Vor­jahren nicht\ngeändert.\nVer­anstal­ter: TV 1897 Vel­burg e.V.\nOrganisation:\nPeter Lankenfeld\nTel.: 0176 63731839\nE‑Mail: pelanke@web.de\nRoland Ziegaus\nTel.: 0170 1672392\nE‑Mail: roland.ziegaus@web.de\nVer­anstal­tung­sort: Schwimm­start am Bade­see in Altenvel­dorf\, Seestr. 18\, 92355 Velburg\ndirekt neben unserem Camp­ing­platz Hauenstein\nZielein­lauf und Siegerehrung am Vere­ins­gelände in Vel­burg\, Sankt-Leonhardweg\nWet­tkampfgericht: Kampfrichter des Bay­erischen Triathlon Verbandes\nZeitmes­sung: ZEITGEMEASS GmbH
URL:https://tv1881altdorf.de/event/kirchweihtriathlon-velburg-40-jaehriges-jubilaeum
LOCATION:Velburg\, Seestr. 18\, Velburg\, Bayern\, 92355\, Germany
CATEGORIES:Triathlon
END:VEVENT
BEGIN:VEVENT
DTSTART;TZID=Europe/Berlin:20250719T100000
DTEND;TZID=Europe/Berlin:20250719T190000
DTSTAMP:20260423T065258
CREATED:20250514T112410Z
LAST-MODIFIED:20250719T121510Z
UID:21681-1752919200-1752951600@tv1881altdorf.de
SUMMARY:ebf - Damen freestyle
DESCRIPTION:
URL:https://tv1881altdorf.de/event/ebf-damen-freestyle-4
END:VEVENT
BEGIN:VEVENT
DTSTART;TZID=Europe/Berlin:20250719T150000
DTEND;TZID=Europe/Berlin:20250719T150000
DTSTAMP:20260423T065258
CREATED:20250119T161733Z
LAST-MODIFIED:20250119T161733Z
UID:19576-1752937200-1752937200@tv1881altdorf.de
SUMMARY:Wallenstein-Halbmarathon Aufbau
DESCRIPTION:
URL:https://tv1881altdorf.de/event/wallenstein-halbmarathon-aufbau
CATEGORIES:Lauftreff
END:VEVENT
BEGIN:VEVENT
DTSTART;TZID=Europe/Berlin:20250719T150000
DTEND;TZID=Europe/Berlin:20250719T180000
DTSTAMP:20260423T065258
CREATED:20250503T102937Z
LAST-MODIFIED:20250503T105328Z
UID:21356-1752937200-1752948000@tv1881altdorf.de
SUMMARY:Jugend Baseball Landesliga Mitte (U15)  – Guggenberger Legionäre Regensburg 3 vs. Altdorf Icesharks – On the Road
DESCRIPTION:Am Son­ntag\, den 19. Juli ab 15.00 Uhr sind die Alt­dorf Ice­sharks bei den Guggen­berg­er Legionären in Regens­burg zu Gast. Die Armin-Wolf-Base­ball-Are­na in Regens­burg ist die größte Base­ball Loca­tion in Deutsch­land und immer einen Trip wert. In der Jugend Base­ball Lan­desli­ga wer­den Dou­ble Head­er gespielt – zwei Spiele hin­tere­inan­der. Ein Spiel wird über 5 Innings gespielt oder mit max­i­malem Zeitlim­it von 1\,5 Stunden. \n \nMehr Infos
URL:https://tv1881altdorf.de/event/jugend-baseball-altdorf-icesharks-vs-regensburg-legionaere-road
LOCATION:Armin-Wolf-Baseball-Arena Regensburg\, Donaustaufer Str. 258\, Regensburg\, 93055
CATEGORIES:Baseball,Jugend Baseball Landesliga Mitte (U15)
ATTACH;FMTTYPE=image/jpeg:https://tv1881altdorf.de/wp-content/uploads/2024/05/Baseball_Icesharks_2024-05-04_Gamepost_06_2000px.jpg
END:VEVENT
BEGIN:VEVENT
DTSTART;TZID=Europe/Berlin:20250720T083000
DTEND;TZID=Europe/Berlin:20250720T083000
DTSTAMP:20260423T065258
CREATED:20250119T161734Z
LAST-MODIFIED:20250327T151732Z
UID:19577-1753000200-1753000200@tv1881altdorf.de
SUMMARY:36. Wallenstein-Halbmarathon
DESCRIPTION:
URL:https://tv1881altdorf.de/event/36-wallenstein-halbmarathon
CATEGORIES:Lauftreff,Triathlon
END:VEVENT
BEGIN:VEVENT
DTSTART;TZID=Europe/Berlin:20250720T100000
DTEND;TZID=Europe/Berlin:20250720T190000
DTSTAMP:20260423T065258
CREATED:20250514T112411Z
LAST-MODIFIED:20250720T122010Z
UID:21682-1753005600-1753038000@tv1881altdorf.de
SUMMARY:ebf - Mixed expert/basic
DESCRIPTION:
URL:https://tv1881altdorf.de/event/ebf-mixed-expert-basic-2
END:VEVENT
BEGIN:VEVENT
DTSTART;VALUE=DATE:20250721
DTEND;VALUE=DATE:20250722
DTSTAMP:20260423T065258
CREATED:20250407T100938Z
LAST-MODIFIED:20250407T101034Z
UID:20916-1753056000-1753142399@tv1881altdorf.de
SUMMARY:Sportabzeichen für die Jugendgruppen
DESCRIPTION:Hier nehmen wir für alle Sportler aus der Kinder- und Jugend­gruppe das Deutsche Sportabze­ichen ab.
URL:https://tv1881altdorf.de/event/sportabzeichen-fuer-die-jugendgruppen-2025
LOCATION:Sportplatz der Mittelschule\, Schulstrasse 2\, Altdorf\, 90518
CATEGORIES:Leichtathletik
END:VEVENT
BEGIN:VEVENT
DTSTART;TZID=Europe/Berlin:20250725T180000
DTEND;TZID=Europe/Berlin:20250725T180000
DTSTAMP:20260423T065258
CREATED:20250119T161932Z
LAST-MODIFIED:20250119T161932Z
UID:19578-1753466400-1753466400@tv1881altdorf.de
SUMMARY:Sommerfest
DESCRIPTION:
URL:https://tv1881altdorf.de/event/sommerfest-2
CATEGORIES:Lauftreff
END:VEVENT
BEGIN:VEVENT
DTSTART;VALUE=DATE:20250726
DTEND;VALUE=DATE:20250727
DTSTAMP:20260423T065258
CREATED:20250119T161933Z
LAST-MODIFIED:20250119T161933Z
UID:19579-1753488000-1753574399@tv1881altdorf.de
SUMMARY:34. Allersberger Kirchweihlauf
DESCRIPTION:
URL:https://tv1881altdorf.de/event/34-allersberger-kirchweihlauf
CATEGORIES:Lauftreff
END:VEVENT
END:VCALENDAR